BEGIN:VCALENDAR
VERSION:2.0
PRODID:-//Altmusic - Only Music Can Save Us - ECPv6.11.2//NONSGML v1.0//EN
CALSCALE:GREGORIAN
METHOD:PUBLISH
X-ORIGINAL-URL:https://altmusic.wroclaw.pl
X-WR-CALDESC:Events for Altmusic - Only Music Can Save Us
REFRESH-INTERVAL;VALUE=DURATION:PT1H
X-Robots-Tag:noindex
X-PUBLISHED-TTL:PT1H
BEGIN:VTIMEZONE
TZID:Europe/Warsaw
BEGIN:DAYLIGHT
TZOFFSETFROM:+0100
TZOFFSETTO:+0200
TZNAME:CEST
DTSTART:20260329T010000
END:DAYLIGHT
BEGIN:STANDARD
TZOFFSETFROM:+0200
TZOFFSETTO:+0100
TZNAME:CET
DTSTART:20261025T010000
END:STANDARD
END:VTIMEZONE
BEGIN:VEVENT
DTSTART;VALUE=DATE:20260423
DTEND;VALUE=DATE:20260424
DTSTAMP:20260422T010221
CREATED:20260331T115954Z
LAST-MODIFIED:20260331T115954Z
UID:10847-1776902400-1776988799@altmusic.wroclaw.pl
SUMMARY:Ripship
DESCRIPTION:23.04\, Ripship\, Art Cafe Kalambur \n \nRipship are a sci-fi psych-rock duo\, now based in Melbourne\, Australia\, who since 2019 have been questing to become the loudest two-piece band in the Southern Hemisphere. With a room-shaking\, battle-tested live performance\, Ripship have headlined multiple nation-wide tours across New Zealand\, and have opened for rock royalty such as Jack White and Osees. \nEvery Ripship song is a unique trip: sugary hooks wax and wane to reveal wonky polyrhythmic grooves\, guitar tones that growl and shimmer\, and lyrics that loop in infinite recursion\, spelling omens for the end of the world. \nDon’t miss Ripship on this debut international tour\, as they take their bizzare sonic concoction to stages across Europe for the first time.
URL:https://altmusic.wroclaw.pl/koncert/ripship/
LOCATION:Art Cafe Kalambur\, Kuźnicza 29a\, Wrocław\, Poland
END:VEVENT
END:VCALENDAR