BEGIN:VCALENDAR
VERSION:2.0
PRODID:-//Altmusic - Only Music Can Save Us - ECPv6.11.2//NONSGML v1.0//EN
CALSCALE:GREGORIAN
METHOD:PUBLISH
X-ORIGINAL-URL:https://altmusic.wroclaw.pl
X-WR-CALDESC:Events for Altmusic - Only Music Can Save Us
REFRESH-INTERVAL;VALUE=DURATION:PT1H
X-Robots-Tag:noindex
X-PUBLISHED-TTL:PT1H
BEGIN:VTIMEZONE
TZID:Europe/Warsaw
BEGIN:DAYLIGHT
TZOFFSETFROM:+0100
TZOFFSETTO:+0200
TZNAME:CEST
DTSTART:20260329T010000
END:DAYLIGHT
BEGIN:STANDARD
TZOFFSETFROM:+0200
TZOFFSETTO:+0100
TZNAME:CET
DTSTART:20261025T010000
END:STANDARD
END:VTIMEZONE
BEGIN:VEVENT
DTSTART;VALUE=DATE:20260417
DTEND;VALUE=DATE:20260418
DTSTAMP:20260422T000236
CREATED:20260407T135109Z
LAST-MODIFIED:20260407T135133Z
UID:10876-1776384000-1776470399@altmusic.wroclaw.pl
SUMMARY:Lorraine Leckie and Her Demons
DESCRIPTION:Pt\, 17 kwi o 20:00 / Lorraine Leckie and Her Demons /  UL. Szewska 68 a / Pieśniarze \n \n\n\n\n\n\nTo dźwiękowy rytuał na nasze pęknięte czasy; nieortodoksyjny\, lecz intuicyjny wyraz wspólnego ludzkiego cierpienia — i oporu.\nTytułowy utwór „Goddamn Outer Space” pełni jednocześnie rolę uwertury: każda zawarta w nim fraza została zaczerpnięta z tytułów pozostałych ścieżek albumu\, splatając się w jednolity poetycki strumień. \nTo tematyczna przynęta\, która subtelnie przygotowuje słuchacza na nadchodzącą bogatą paletę doznań.\nA prym w ansamblu Lorraine dzierży nie lada skrzypek\, bywalec Pieśniarzy\, sam Pavel Cingl❣️ \n 
URL:https://altmusic.wroclaw.pl/koncert/lorraine-leckie-and-her-demons/
LOCATION:Pieśniarze\, Szewska 68 a\, Wrocław\, Poland
END:VEVENT
END:VCALENDAR