BEGIN:VCALENDAR
VERSION:2.0
PRODID:-//Altmusic - Only Music Can Save Us - ECPv6.11.2//NONSGML v1.0//EN
CALSCALE:GREGORIAN
METHOD:PUBLISH
X-WR-CALNAME:Altmusic - Only Music Can Save Us
X-ORIGINAL-URL:https://altmusic.wroclaw.pl
X-WR-CALDESC:Events for Altmusic - Only Music Can Save Us
REFRESH-INTERVAL;VALUE=DURATION:PT1H
X-Robots-Tag:noindex
X-PUBLISHED-TTL:PT1H
BEGIN:VTIMEZONE
TZID:Europe/Warsaw
BEGIN:DAYLIGHT
TZOFFSETFROM:+0100
TZOFFSETTO:+0200
TZNAME:CEST
DTSTART:20260329T010000
END:DAYLIGHT
BEGIN:STANDARD
TZOFFSETFROM:+0200
TZOFFSETTO:+0100
TZNAME:CET
DTSTART:20261025T010000
END:STANDARD
END:VTIMEZONE
BEGIN:VEVENT
DTSTART;VALUE=DATE:20260409
DTEND;VALUE=DATE:20260410
DTSTAMP:20260423T074545
CREATED:20260331T120317Z
LAST-MODIFIED:20260331T120317Z
UID:10849-1775692800-1775779199@altmusic.wroclaw.pl
SUMMARY:Jaman
DESCRIPTION:Czw\, 9 kwi o 21:30 Jaman da koncert! Kuźnicza 29a\, 50-138 Wrocław \nGdzieś pod baobabem\, pomiędzy falafelem a gibonem\, leży Jaman – wrocławski kwintet zawieszony między wieloma gatunkami\, jednak podszywający się pod reggae. Śpiewają piosenki o wszelkich aspektach bycia jamanem\, czyli o troskach\, radościach i chodzeniu na całodniowe spacery. Pulsująca sekcja rytmiczna\, suchość w ustach\, dialogi gitary z klarnetem i skradająca się elektronika w połączeniu z barwnymi wokalami i dubami na żywo to coś\, czego jeszcze nie słyszeliście… chyba\, że już znacie Jamana.\nJaman to zlepieniec złożony z muzyków od lat tworzących Klub Szalonych. Poszczególni członkowie tej supergrupy współtworzą zespoły takie jak Torteks\, Sneaky Jesus\, Ślina czy Daffodil Pill. \nPremiera ich debiutu płytowego przewidziana jest na ten rok. \nJaman w składzie:\nAdam Chmura – Perkusja / Wokal\nMaksymilian Gwinciński – Klarnet / Wokal\nFilip Hryniewicz – Gitara / Wokal\nBeniamin Łasiewicki – Bas / Wokal\nFilip Zakrzewski – Synth / Dub\nKoncert tradycyjnie niebiletowany.
URL:https://altmusic.wroclaw.pl/koncert/jaman-2/
LOCATION:Art Cafe Kalambur\, Kuźnicza 29a\, Wrocław\, Poland
END:VEVENT
END:VCALENDAR