BEGIN:VCALENDAR
VERSION:2.0
PRODID:-//Altmusic - Only Music Can Save Us - ECPv6.11.2//NONSGML v1.0//EN
CALSCALE:GREGORIAN
METHOD:PUBLISH
X-WR-CALNAME:Altmusic - Only Music Can Save Us
X-ORIGINAL-URL:https://altmusic.wroclaw.pl
X-WR-CALDESC:Events for Altmusic - Only Music Can Save Us
REFRESH-INTERVAL;VALUE=DURATION:PT1H
X-Robots-Tag:noindex
X-PUBLISHED-TTL:PT1H
BEGIN:VTIMEZONE
TZID:Europe/Warsaw
BEGIN:DAYLIGHT
TZOFFSETFROM:+0100
TZOFFSETTO:+0200
TZNAME:CEST
DTSTART:20260329T010000
END:DAYLIGHT
BEGIN:STANDARD
TZOFFSETFROM:+0200
TZOFFSETTO:+0100
TZNAME:CET
DTSTART:20261025T010000
END:STANDARD
END:VTIMEZONE
BEGIN:VEVENT
DTSTART;VALUE=DATE:20260329
DTEND;VALUE=DATE:20260330
DTSTAMP:20260424T045432
CREATED:20260320T103035Z
LAST-MODIFIED:20260320T103035Z
UID:10695-1774742400-1774828799@altmusic.wroclaw.pl
SUMMARY:Ściek\, Wylew\, Jest dobrze
DESCRIPTION:Koncert!\nzagrają:\nŚciek\nWylew\nJest dobrze\n19.00\nKlub alive\nul. kolejowa 12\nwstęp 20 zł \nJest Dobrze\nZespół z Oleśnicy grający punk założony 3 lata temu mający na koncie kilka koncertów z czego dotąd najbardziej istotnymi jest debiut festiwal Kleszcz dwa lata temu zeszłoroczny koncert w ramach wośp we Wrocławiu oraz granie w trakcie 40 lecie zespołu WSK punk\,\,obecnie szykuje się do wydania swojego dema w oparciu o nagrania z koncertu z klubu Zakład w Lesznie czego część została opublikowana na youtube oraz organizacją koncertów na terenie dolnego i górnego śląska.\nhttps://www.facebook.com/share/1Drgk8avfq/\nhttps://youtube.com/playlist… \nWylew\nKapela z Wrocławia. Zespół założony w 2020 roku z potrzeby grania punk rocka.\nGra w niezmienionym składzie\nJędrek wokal gitara rytmiczna\nGrzesiek gitara prowadząca\nAdam bas\nFilip perkusja\nIch teksty przedstawiają szarą rzeczywistość – śpiewają o politykach\, którzy mają nas gdzieś\, o depresji\, ucieczce w tanie używki i życiu na marginesie.\nhttps://www.facebook.com/share/1AXRpvpu7x/\n \nŚciek- młody zespół z Obornik Śląskich\, powstały w czerwcu 2024 grający piwnicowego punka.\nW składzie znajduje się:\nKarol S – „full” (gitara/wokal)\nNatasza G – „Z.z.” (bass)\nTymon A – „M.J.W.B.D.” (Gary)\nFB: https://www.facebook.com/share/17exqVsnXN/?mibextid=wwXIfr\nIG: https://www.instagram.com/sciek_band?igsh=NDlmcHFkbXlrNHI4
URL:https://altmusic.wroclaw.pl/koncert/sciek-wylew-jest-dobrze/
LOCATION:Alive\, Kolejowa 12\, Wrocław\, Poland
END:VEVENT
END:VCALENDAR