BEGIN:VCALENDAR
VERSION:2.0
PRODID:-//Altmusic - Only Music Can Save Us - ECPv6.11.2//NONSGML v1.0//EN
CALSCALE:GREGORIAN
METHOD:PUBLISH
X-ORIGINAL-URL:https://altmusic.wroclaw.pl
X-WR-CALDESC:Events for Altmusic - Only Music Can Save Us
REFRESH-INTERVAL;VALUE=DURATION:PT1H
X-Robots-Tag:noindex
X-PUBLISHED-TTL:PT1H
BEGIN:VTIMEZONE
TZID:Europe/Warsaw
BEGIN:DAYLIGHT
TZOFFSETFROM:+0100
TZOFFSETTO:+0200
TZNAME:CEST
DTSTART:20260329T010000
END:DAYLIGHT
BEGIN:STANDARD
TZOFFSETFROM:+0200
TZOFFSETTO:+0100
TZNAME:CET
DTSTART:20261025T010000
END:STANDARD
END:VTIMEZONE
BEGIN:VEVENT
DTSTART;VALUE=DATE:20260328
DTEND;VALUE=DATE:20260329
DTSTAMP:20260423T215200
CREATED:20251204T101512Z
LAST-MODIFIED:20251204T101544Z
UID:10058-1774656000-1774742399@altmusic.wroclaw.pl
SUMMARY:God Is An Astronaut
DESCRIPTION:🪐Mistrzowie post-rocka powracają do Polski! God Is An Astronaut wystąpią 28 marca we wrocławskich Zaklętych Rewirach. \n\nW ciągu blisko ćwierćwiecza działalności GIAA urzekli słuchaczy na całym świecie za sprawą swoich wydawnictw\, ale też niezwykłych występów na żywo. Na muzyczne pejzaże formacji składają się elementy muzyki elektronicznej\, krautrocka oraz space rocka. 6 września 2024 roku\, nakładem Napalm Records\, premierę miało psychodeliczno-postrockowe dzieło grupy – “Embers”. Za szatę graficzną wydawnictwa odpowiada uznany na całym świecie irlandzki artysta David Rooney\, masteringiem natomiast zajął się Streaky.\nGOD IS AN ASTRONAUT\n📅28.03.2026 / Wrocław\, Zaklęte Rewiry\n🎟BILETY: https://bit.ly/GIAA_WROCLAW\n🎫Punkty sprzedaży: www.winiarybookings.pl\, Going\, Empik Bilety\, Eventim\, Ebilet\, Ticketmaster\n⚠️Szanowni Państwo. Prosimy o kupowanie biletów wyłącznie w autoryzowanych punktach sprzedaży. Poprzez kupno wejściówek od osób trzecich możecie zostać Państwo oszukani.⚠️\n❌Wstęp na koncert 13+ za pisemną zgodą rodzica. Poniżej 13 lat\, wymagana obecność pełnoprawnego opiekuna.\nWzór zgody: https://bit.ly/pisemna_zgoda_rodzica_wb\n📄Regulamin wydarzenia: https://bit.ly/regulamin_wydarzenia_wb\n🌿W trosce o środowisko zachęcamy Was do pokazywania biletów na telefonie zamiast ich drukowania.\n➡ GOD IS AN ASTRONAUT (Irlandia / Napalm Records) – post-rock\n🌐https://www.facebook.com/godiaa\n🌐https://www.instagram.com/giaa_band \n🔊”All is Violent\, All is Bright”: \n\n🔊”Frozen Light”: \n\n—————————————\nWpadaj na Instagram➡http://bit.ly/Nasz-instagram\nPolub nasz profil➡http://bit.ly/Nasz–Facebook
URL:https://altmusic.wroclaw.pl/koncert/god-is-an-astronaut/
LOCATION:ZAKLĘTE REWIRY\, Krakowska 100\, Wrocław\, Poland
END:VEVENT
END:VCALENDAR