BEGIN:VCALENDAR
VERSION:2.0
PRODID:-//Altmusic - Only Music Can Save Us - ECPv6.11.2//NONSGML v1.0//EN
CALSCALE:GREGORIAN
METHOD:PUBLISH
X-ORIGINAL-URL:https://altmusic.wroclaw.pl
X-WR-CALDESC:Events for Altmusic - Only Music Can Save Us
REFRESH-INTERVAL;VALUE=DURATION:PT1H
X-Robots-Tag:noindex
X-PUBLISHED-TTL:PT1H
BEGIN:VTIMEZONE
TZID:Europe/Warsaw
BEGIN:DAYLIGHT
TZOFFSETFROM:+0100
TZOFFSETTO:+0200
TZNAME:CEST
DTSTART:20260329T010000
END:DAYLIGHT
BEGIN:STANDARD
TZOFFSETFROM:+0200
TZOFFSETTO:+0100
TZNAME:CET
DTSTART:20261025T010000
END:STANDARD
END:VTIMEZONE
BEGIN:VEVENT
DTSTART;VALUE=DATE:20260410
DTEND;VALUE=DATE:20260411
DTSTAMP:20260423T082859
CREATED:20260330T124035Z
LAST-MODIFIED:20260330T124035Z
UID:10816-1775779200-1775865599@altmusic.wroclaw.pl
SUMMARY:dule tree / męty / czernina 
DESCRIPTION:Pt\, 10 kwi o 19:30 / dule tree / męty / czernina  / Klub Szalonych \n  \nwrzący i smoliście czarny bubble sludge wykipi z podwórka przy ruskiej już 10 kwietnia\, bierz ulubiony strój kąpielowy oraz zatyczki i wbijaj śmiało\nw programie \n  \ndule tree (gdańsk) – grindcore/noise\nhttps://www.instagram.com/duletreeband?igsh=MThzcTZ4cjNkbDZndg==\nhttps://www.facebook.com/share/1CmrFtJ5P3/?mibextid=wwXIfr\n\nhttps://duletree.bandcamp.com/album/owls-eye\nhttps://open.spotify.com/artist/0CW6uXzecJ6owZ64BBQXtX… \n  \nmęty (wrocław) – sludge/emoviolence\nhttps://www.instagram.com/mety_metliki?igsh=amJtZjlndjNvbXcw\nhttps://www.facebook.com/share/1J4WpmTXjg/?mibextid=wwXIfr\n\nhttps://mety.bandcamp.com/album/salon-okulistyczny\nhttps://open.spotify.com/artist/2j1zeThdsuFQusrVG0Ut9L… \n  \nczernina (szczecin) – experimental black metal\nhttps://www.instagram.com/czernina_?igsh=YzJmNmVyMGR0ZXoy\nhttps://www.facebook.com/share/1B9xBQFz7C/?mibextid=wwXIfr\n\nhttps://czernina.bandcamp.com/album/oszuka-listopad\nhttps://open.spotify.com/artist/01k9n7rhz7BxwtMB5IWuFT…\ns u g e r o w a n a wlota – 50 pln
URL:https://altmusic.wroclaw.pl/koncert/dule-tree-mety-czernina/
LOCATION:Klub Szalonych\, Ruska 47/48A\, Wrocław\, Poland
END:VEVENT
END:VCALENDAR