BEGIN:VCALENDAR
VERSION:2.0
PRODID:-//Altmusic - Only Music Can Save Us - ECPv6.11.2//NONSGML v1.0//EN
CALSCALE:GREGORIAN
METHOD:PUBLISH
X-ORIGINAL-URL:https://altmusic.wroclaw.pl
X-WR-CALDESC:Events for Altmusic - Only Music Can Save Us
REFRESH-INTERVAL;VALUE=DURATION:PT1H
X-Robots-Tag:noindex
X-PUBLISHED-TTL:PT1H
BEGIN:VTIMEZONE
TZID:Europe/Warsaw
BEGIN:DAYLIGHT
TZOFFSETFROM:+0100
TZOFFSETTO:+0200
TZNAME:CEST
DTSTART:20260329T010000
END:DAYLIGHT
BEGIN:STANDARD
TZOFFSETFROM:+0200
TZOFFSETTO:+0100
TZNAME:CET
DTSTART:20261025T010000
END:STANDARD
END:VTIMEZONE
BEGIN:VEVENT
DTSTART;VALUE=DATE:20260522
DTEND;VALUE=DATE:20260524
DTSTAMP:20260422T042600
CREATED:20260219T142106Z
LAST-MODIFIED:20260219T143555Z
UID:10493-1779408000-1779580799@altmusic.wroclaw.pl
SUMMARY:POWERPLANT / HITMEN / PRETENSJE / BUJATURLA * YOUFF / DOLA / GUANTANAMO PARTY PROGRAM / BOTHER * 2 dni
DESCRIPTION:Pt\, 22 maj – 23 maj / Wild Bread Fest 2026 / 22-23.05 CRK Wrocław / Centrum Reanimacji Kultury \nPOWERPLANT / HITMEN / PRETENSJE / BUJATURLA * YOUFF / DOLA / GUANTANAMO PARTY PROGRAM / BOTHER * 2 dni \n \n  \nWild Bread Fest powraca w formule 2-dniowej i po raz pierwszy w CRK! 8 zespołów z pogranicza punka/noise’u i metalu. Debiutanci\, zagraniczni goście po raz pierwszy w Polsce i znane nazwy.\n++++++++++++ \nPiątek 22.05.26\nPOWERPLANT (lo-fi punk\, UK)\n\nSzalony\, brudny synth punk rodem z angielskiej piwnicy. Jeśli lubisz tańczyć\, moshować lub po prostu skakać z nogi na nogę\, w repertuarze mają wszystko dla Ciebie. Znani z wyjątkowo energicznych występów wielokrotnie udowadniali\, że są jedną z najbardziej intrygujących nazw wyspiarskiego podziemia. \nHITMEN (fuzz emo\, UK)\n\nSurowe\, hitowe granie z pogranicza midwest emo\, grunge’u i brytyjskiego indie. Młoda załoga ma na koncie jedynie debiutanckie EP 'Rock to Forget’\, 9 minut wspaniałej przejażdżki. \nPRETENSJE (grunge punk\, Wrocław)\n\nNajlepszy zespół na świecie we Wrocławiu. Nie przesadzimy pisząc\, że aktualnie są najgłośniejszym głosem pokolenia i naszą lokalną dumą. \nBUJATURLA (rock\, Warszawa)\n\nCzarują od pierwszych dźwięków. Stołeczna supergrupa w składzie z m.in. członkami Zwidów i Syndromu Paryskiego w tym projekcie stawia na krautowo-pływające melodie z lekkim uderzeniem brytyjskiego post-punka. Premierowo we Wrocławiu!\n++++++++++++ \nSobota 23.05.26 \nYOUFF (noise\, Belgia)\n\nGdyby Ian Curtis urodził się w Belgii to grałby noise’a. Wystarczyły 2 minuty ich live video\, żeby potwierdzić ich obecność na feście. Polecamy zrobić to samo. \nDOLA (ritual metal\, Poznań)\n\nAwangardowy black metal z elementami jazzu\, ale i sludge’u i polskimi tekstami. Choć zazwyczaj grają w towarzystwie innych metalowych zespołów\, tutaj będą istotną wisienką na torcie\, w której każdy znajdzie coś innego. \nGUANTANAMO PARTY PROGRAM (apokaliptyczny post-hc\, Wrocław)\n\nNa scenie od prawie 2 dekad. Ich niepodrabialne brzmienie to miks post-metalu\, hardcore’u i tekstów nie pozostawiających złudzeń\, ani nadziei dla społeczeństwa i naszej planety. W planach nowe wydawnictwo! \nBOTHER (chaotic hc\, Wrocław)\n\nKiedy wszyscy już zapomnieli o tej gałęzi hardcore’u\, zespoły tj. The Chariot i Every Time I Die się rozpadły\, niezwykle cieszy oko i ucho\, kiedy na lokalnym podwórku pojawiają się tak fantastyczne projekty. \n++++++++++++\n22-23.05.2026 (piątek-sobota)\nCentrum Reanimacji Kultury CRK\, Wrocław\nstart: 19:00\nbilety: 120zł (karnet 2 dni) / 60zł (karnet 2 dni dla osób poniżej 18 roku życia za okazaniem legitymacji) / 80zł (jednodniowy)\nhttps://stage24.pl/…/centrum-reanimacji-kultury-crk-6597
URL:https://altmusic.wroclaw.pl/koncert/powerplant-hitmen-pretensje-bujaturla-youff-dola-guantanamo-party-program-bother/
LOCATION:CRK\, ul. Jagiellończyka 10 c/d\, Wrocław\, Poland
END:VEVENT
END:VCALENDAR