BEGIN:VCALENDAR
VERSION:2.0
PRODID:-//Altmusic - Only Music Can Save Us - ECPv6.11.2//NONSGML v1.0//EN
CALSCALE:GREGORIAN
METHOD:PUBLISH
X-WR-CALNAME:Altmusic - Only Music Can Save Us
X-ORIGINAL-URL:https://altmusic.wroclaw.pl
X-WR-CALDESC:Events for Altmusic - Only Music Can Save Us
REFRESH-INTERVAL;VALUE=DURATION:PT1H
X-Robots-Tag:noindex
X-PUBLISHED-TTL:PT1H
BEGIN:VTIMEZONE
TZID:Europe/Warsaw
BEGIN:DAYLIGHT
TZOFFSETFROM:+0100
TZOFFSETTO:+0200
TZNAME:CEST
DTSTART:20260329T010000
END:DAYLIGHT
BEGIN:STANDARD
TZOFFSETFROM:+0200
TZOFFSETTO:+0100
TZNAME:CET
DTSTART:20261025T010000
END:STANDARD
END:VTIMEZONE
BEGIN:VEVENT
DTSTART;VALUE=DATE:20260418
DTEND;VALUE=DATE:20260419
DTSTAMP:20260421T223329
CREATED:20260223T112822Z
LAST-MODIFIED:20260325T134949Z
UID:10523-1776470400-1776556799@altmusic.wroclaw.pl
SUMMARY:Only Mess\, [peru]
DESCRIPTION:Sob\, 18 kwi o 20:30 Only Mess i [peru] w Klubie Szalonych \n \n[peru]\n[peru] przez bardzo małe „pe”. rok produkcji 2005. trzyosobowe trio piosenki nerwowej\,\ntrzy instrumenty\, jeden zgiełk. na koncie dwie płyty większe – „Strach” (CD 2009\, Teeth To Concrete)\, „Ktoś z nich” (CD 2013\, Extinction Rec.; LP 2014\, Antena Krzyku/Black Wednesday Rec./D.I.Y Koło Records/Extinction Rec.) i dwie mniejsze – „Krew” (7” 2016\, Antena Krzyku)\, Split z Buzz Rodeo (10” 2016\, Antena Krzyku) – oraz prawie półtorej setki koncertów w kilkudziesięciu miastach z potężną gromadą dobrych ludzi. bez etosu\, patosu\, stresu i chorych ambicji. wierni zasadom DIY (do it yourself)\, DIFM (do it for me) oraz IWDIFY (I will do it for you).\n[peru] to endrju (bębny)\, jorge (gitara\, głos)\, orzeł (bas\, głos).\nhttps://www.facebook.com/perulbn\nhttps://perulbn.bandcamp.com/\nBilety 40 PLN / na bramce \n  \n \nONLY MESS\nSurowe gitary\, niesamowita energia\, wybuchowa ekspresja i emocjonalne wokale to główne znaki rozpoznawcze tej kapeli. Zespół gra muzykę\, którą można by określić jako wypadkową gitarowej muzyki alternatywnej. W maju 2023 roku wydali swój debiutancki materiał „6 Handmade Songs Recorded Some Time Ago”\, który ukazał się nakładem wytwórni Antena Krzyku. We wrześniu 2025 roku ten sam label wydał najnowszy pełnowymiarowy materiał STAY NOWHERE. \nKlip LOST IN RACE\n \nKlip EARTH\n \nonlymess.bandcamp.com \nFB: https://www.facebook.com/oonlymess\nIG: https://www.instagram.com/_only_mess_/\n+ [special quest]\nBilety 40 PLN / na bramce \n  \n 
URL:https://altmusic.wroclaw.pl/koncert/only-mess-special-quest/
LOCATION:Klub Szalonych\, Ruska 47/48A\, Wrocław\, Poland
END:VEVENT
END:VCALENDAR