BEGIN:VCALENDAR
VERSION:2.0
PRODID:-//Altmusic - Only Music Can Save Us - ECPv6.11.2//NONSGML v1.0//EN
CALSCALE:GREGORIAN
METHOD:PUBLISH
X-ORIGINAL-URL:https://altmusic.wroclaw.pl
X-WR-CALDESC:Events for Altmusic - Only Music Can Save Us
REFRESH-INTERVAL;VALUE=DURATION:PT1H
X-Robots-Tag:noindex
X-PUBLISHED-TTL:PT1H
BEGIN:VTIMEZONE
TZID:Europe/Warsaw
BEGIN:DAYLIGHT
TZOFFSETFROM:+0100
TZOFFSETTO:+0200
TZNAME:CEST
DTSTART:20270328T010000
END:DAYLIGHT
BEGIN:STANDARD
TZOFFSETFROM:+0200
TZOFFSETTO:+0100
TZNAME:CET
DTSTART:20271031T010000
END:STANDARD
BEGIN:DAYLIGHT
TZOFFSETFROM:+0100
TZOFFSETTO:+0200
TZNAME:CEST
DTSTART:20280326T010000
END:DAYLIGHT
BEGIN:STANDARD
TZOFFSETFROM:+0200
TZOFFSETTO:+0100
TZNAME:CET
DTSTART:20281029T010000
END:STANDARD
END:VTIMEZONE
BEGIN:VEVENT
DTSTART;VALUE=DATE:20270121
DTEND;VALUE=DATE:20280122
DTSTAMP:20260423T004657
CREATED:20231212T111925Z
LAST-MODIFIED:20250724T123644Z
UID:4151-1800489600-1832111999@altmusic.wroclaw.pl
SUMMARY:Lista klubów w Polsce z Tu Nadaje Radio Północ [5lat!]
DESCRIPTION:Gwiazdki to nie ocena\, a opis. Im mniej gwiazdek ty muzyka bardziej przystępna / popularna / jazzowa / klasyczna. Im więcej gwiazdek to muzyka bardziej alternatywna / eksperymentalna / awangardowa. Chodzi o intuicyjnie poruszanie się w widocznych preferencjach klubu i jego ewentualnych bywalców. Lista powstała dzięki profilowi fb Tu Nadaje Radio Północ\, który od 5lat gromadzi informacje bieżące na temat najciekawszych małych wydarzeniach muzycznych w Polsce. Większość prac wykonano słuchając Pawarota – radio małych wydawców. \nGEOGRAFIA LISTY: Kluby wymienione w kolejności od północy na południe i są podzielone na główne grupy zainteresowań brzmieniowych bez matematycznej konsekwencji [z wyczuciem na podstawie najistotniejszych wg nas wydarzeń z historii klubu]\n„>” = około 100km z zachodu na wschód Polski \n* pop / rock / singer-songwriting / easy listening / jazz / funk / soul\n** – alt-jazz / folk / alt-pop / alt-rock\n*** – metal / punk / rock’n’roll / ska / stoner / post-rock / po trochu wszystko\n**** – alternatywna / niezal / alt-rap / alt-elektronika / underground / noise-rock / krautrock\n***** – eksperymentalna / awangarodowa / ambientalna / improwizowana\n$ – duże miejsca\n? – nie sklasyfikowano / inne \n🧩 – miejsca [IMHO] z potencjałem na koncerty trasowe DIY \n***** eksperymentalna / awangarodowa / ambientalna\n>>> Inaczej Niż W Raju – Gdańsk\n>>> Kolonia Artystów – Gdańsk 🧩\n>>> Klub Żak – Gdańsk\n>>> IKM – Gdańsk\n>>>> Hashtag Lab – Warszawa\n>>>> Pardon\, To Tu – Warszawa\n>>>> Klubojadalnia Młodsza Siostra – Warszawa 🧩\n>>>> Hashtag Lab – Warszawa\n>> Pawilon – Poznań\n>> DOMIE – Poznań\n>> Atelier WIMAR – Poznań 🧩 \n>> Cyrk Pod Zielonym Xiężycem – Łódź \n\n\n\n\n>> OPT – Wrocław \n\n\n\n\n>>> Komitywa – Katowice \n**** alternatywna / niezal / alt-rap / alt-elektronika / underground\n>>> Klub Desdemona – Gdynia 🧩\n>>> Uboga Krewna – Gdynia\n>>> Dwie Zmiany – Sopot\n>>> Warsztatowa – Tczew\n> Domek Grabarza – Szczecin\n>>> Mózg – Bydgoszcz 🧩\n> MagnetOffOn – Gorzów Wielkopolski 🧩\n> CKN Centrala – Gorzów Wielkopolski 🧩\n>> Pan Gar – Poznań 🧩\n>> Dom Tramwajarza – Poznań 🧩\n>> Dragon Social Club – Poznań 🧩\n>> Pies Andaluzyjski – Poznań 🧩\n>> SARP – Poznań 🧩\n>>>> Komuna Warszawa – Warszawa\n>>>> Ośrodek Kultury Ochoty – Warszawa\n>>>> Hydrozagadka – Warszawa 🧩\n>>>> Turnus Na Wolskiej – Warszawa\n>>>> Chmury – Warszawa 🧩\n>>>> PraCoVnia – Warszawa 🧩\n>>> UV Klub – Łódź 🧩\n> Nowa Forma – Wołów 🧩\n>>>>> DDK Węglin – Lublin [dom kultury\, koncerty incydentalnie]\n>>>>> Warsztaty Kultury – Lublin\n>> Postój – Wrocław 🧩\n>> Klub Szalonych – Wrocław 🧩\n>> Uczulenie – Wrocław 🧩\n>> CRK – Wrocław 🧩\n>> San Diego – Opole 🧩\n>>> Jazz Club Hipnoza – Katowice\n>>> Piaty Dom – Katowice 🧩\n>>> Music Hub – Katowice / „Dzielnica Brzmi Dobrze” 🧩\n>>>> Klub Baza – Kraków 🧩\n>>>>Klub RE – Kraków 🧩\n>>>> Alchemia – Kraków 🧩\n>>>> Stakkato Art Space – Kraków \n*** metal / punk / rock’n’roll / ska / stoner / po trochu wszystko\n>>> Ucho – Gdynia\n>>> Czudner Spot – Gdańsk 🧩\n>>> Paszcza Lwa – Gdańsk 🧩\n>> Wydział Remontowy – Gdańsk 🧩\n>>> Drizzly Grizzly – Gdańsk 🧩\n>> Motor Rock Pub – Słupsk 🧩\n>>>>> Gościniec u Kalicha – Węgorzewo\n>> Centrala – Kołobrzeg 🧩\n>>>> Scena Zgrzyt – Olsztyn 🧩\n>>> Pub Czarny Krążek – Grudziądz 🧩\n> Kosmos – Szczecin\n> Krzywy Gryf – Szczecin 🧩\n>>> Klub NRD – Toruń\n>>> Kombinat Kultury – Toruń 🧩\n>>> Magazyn Zbożowy GS – Mogilno\n>>> Generator – Złotów 🧩\n>>>> Carpenter Inn – Olsztyn 🧩\n>>>>> Rock Nad Pisą – Pisz\n>>>> Pub Czad – Szczytno\n>>> Dwa Światy – Toruń 🧩\n>>> Rock ’69 – Płock 🧩\n>> Pod Minogą – Poznań 🧩\n>> 2Progi – Poznań 🧩\n>>>> Ada Puławska – Warszawa 🧩\n>>>> VooDoo Club – Warszawa 🧩\n>>>> 2Koła – Warszawa 🧩\n>>>> Progresja – Warszawa\n>>>> Potok: Drugi Dom Ludzi Rocka – Warszawa\n>>>> Proxima – Warszawa\n>>> Wooltura – Łódź 🧩\n>> Pub Zakład – Leszno 🧩\n> Klub Elektrownia – Żagań 🧩\n>>>>> Rider’s Pub – Lublin 🧩\n>>>>> Kultowa – Lublin\n>>>>> Pub Pod Ziemią – Lublin\n> Cafe Noir – Zielona Góra 🧩\n>> Łącznik – Wrocław 🧩\n>> Stary Klasztor – Wrocław\n>> Liverpool – Wrocław 🧩\n> Zamek Nadaje  – Jawor [rozgłośnia radiowa\, koncerty incydentalnie]\n>>> Chicago – Kielce 🧩\n>>> Muzyczna Meta – Częstochowa 🧩\n>> Wyjście Awaryjne – Opole 🧩\n>>> Komin – Sosnowiec 🧩\n>>> Faust – Katowice 🧩\n>>> P23 – Katowice\n>>>> Warsztat – Kraków 🧩\n>>>> Hype Park – Kraków\n>>>> Zaścianek – Kraków\n>>>> Klub Gwarek – Kraków\n>>>> Stowarzyszenie „Przepraszam” – Tarnów\n>>>>> Rzeszowskie Piwnice – Rzeszów 🧩\n>>> RudeBoy – Bielsko-Biała 🧩\n>>>> Dogrywka – Nowy Targ 🧩 \n** – alt-jazz / folk / alt-pop / alt-rock\n>> Torpeda – Gdańsk\n>>> Teatr Szekspirowski – Gdańsk\n>>> GAK Plama – Gdańsk\n>>>> Biblioteka Elbląska – Elbląg\n>> Antrakt – Słupsk\n>> Adebar – Kołobrzeg\n>> Plastelina – Koszalin\n>> CKS Kreślarnia – Koszalin\n> winyle.fm – Szczecin [sklep płytowy\, koncerty incydentalnie]\n> Piwnica Kany – Szczecin\n>>>>>> Zmiana Klimatu – Białystok\n>>> La Cantina – Kwidzyn [restauracja\, koncerty incydentalnie]\n>>> MCK – Bydgoszcz [Miejskie Centrum Kultury]\n>>> POKiS – Płock\n>> Blue Note – Poznań\n>> CK Zamek – Poznań\n>> Tama – Poznań\n>> Winiarnia „Pod Czarnym Kotem” – Poznań\n>> Scena na Piętrze – Poznań\n>>> AQQ – Września\n>>> DK Oskard – Konin\n>>>> SPATiF – Warszawa\n>>>> Fabryka Norblina – Warszawa\n>>>> DZiK – Warszawa\n>>>> Plakaton – Warszawa [sklep płytowy\, koncerty incydentalnie]\n>>>> Wolskie Centrum Kultury – Warszawa\n>>>> DK Kadr – Warszawa\n>>>> Jassmine – Warszawa\n>>>> Łysy Pingwin – Warszawa\n>>>> Terminal Kultury Gocław – Warszawa\n>>> Fabryka Sztuki – Łódź\n>>> Pub Przechowalnia – Sieradz\n>> Firlej – Wrocław\n>> CK Agora – Wrocław\n>>>  Zagłębiowska Mediateka – Sosnowiec\n>>> NOSPR – Katowice\n>>> Kinoteatr Rialto – Katowice\n>>> CKS Mrowisko – Gliwice\n>>> Art CK – Knurów\n>>> Aquarium – Bielsko-Biała \n* pop / rock / singer-songwriting / easy listening / jazz \n> Kosmos – Szczecin\n>>>>> Futro – Olsztyn\n>> Gminny Ośrodek Kultury – Tuczno\n>>> Kuźnia – Bydgoszcz\n>>> Dwór Artusa – Toruń\n> Łazienki 6 – Gorzów Wielkopolski\n>>>> Mezalians – Warszawa\n>>>> Niebo – Warszawa\n>>>> Hybrydy – Warszawa\n>>>> MDK – Mińsk Mazowiecki \n>> OPO – Opole\n>>>> Alchemia – Kraków\n>>>> Pod Ziemią – Kraków \n  \n  \nStodoła – Warszawa $ \nAula Artis – Poznań $ \n\nMiejski Dom Kultury – Zduńska Wola ?\nCavatina Hall – Bielsko-Biała $\n\n\n\n\nARCHIWALNE:\n>> Exit – Wrocław [galeria sztuki\, koncerty incydentalnie]\n>>>> Tu i Ówdzie – Kraków 🧩\n>>> Ignorantka – Łódź 🧩\n>> CK Nowe Amore – Poznań 🧩\n>>> Fabryka Lloyda – Bydgoszcz\n\n\n\nBędziemy wdzięczni za kawkę! 🙂 \n \n  \nTo tego radia słucham pracując nad listą. Jako współ-nieredaktor polecam uwadze. 🙂 \n﻿﻿ \n  \n 
URL:https://altmusic.wroclaw.pl/koncert/lista-klubow-w-polsce-z-ciekawa-muzyka-na-zywo/
LOCATION:https://pawarotaradio.pl/\, Internet
CATEGORIES:wydarzenie
END:VEVENT
END:VCALENDAR