BEGIN:VCALENDAR
VERSION:2.0
PRODID:-//Altmusic - Only Music Can Save Us - ECPv6.11.2//NONSGML v1.0//EN
CALSCALE:GREGORIAN
METHOD:PUBLISH
X-WR-CALNAME:Altmusic - Only Music Can Save Us
X-ORIGINAL-URL:https://altmusic.wroclaw.pl
X-WR-CALDESC:Events for Altmusic - Only Music Can Save Us
REFRESH-INTERVAL;VALUE=DURATION:PT1H
X-Robots-Tag:noindex
X-PUBLISHED-TTL:PT1H
BEGIN:VTIMEZONE
TZID:Europe/Warsaw
BEGIN:DAYLIGHT
TZOFFSETFROM:+0100
TZOFFSETTO:+0200
TZNAME:CEST
DTSTART:20260329T010000
END:DAYLIGHT
BEGIN:STANDARD
TZOFFSETFROM:+0200
TZOFFSETTO:+0100
TZNAME:CET
DTSTART:20261025T010000
END:STANDARD
END:VTIMEZONE
BEGIN:VEVENT
DTSTART;VALUE=DATE:20260419
DTEND;VALUE=DATE:20260420
DTSTAMP:20260421T234309
CREATED:20260323T143822Z
LAST-MODIFIED:20260323T143822Z
UID:10715-1776556800-1776643199@altmusic.wroclaw.pl
SUMMARY:VASTUM (U.S.) TORTURE RACK (U.S.)
DESCRIPTION:Nie\, 19 kwi o 19:00 VASTUM (U.S.) TORTURE RACK (U.S.) Wrocław 19.04.2026 Klub Łącznik · Wrocław  Wydarzenie Behind The Mountain Rec \n  \nBehind The Mountain zaprasza na death metalową kaźnie\, aspirującą do wydarzenia koncertowego roku a.d. 2026.\nVASTUM to jeden z największych zespołów ze Stanów\, jaki wypluła tamtejsza scena death metalowa w ostatnim piętnastoleciu. Tworzą tą grupę\, lub współtworzyli w przeszłości\, muzycy takich kapel jak Nails\, Necrot\, Decrepisy\, Acephalix\, Bastard Noise\, Evulse\, czy Infest.\nAbsolutny kult.\nhttps://20buckspin.bandcamp.com/album/carnal-law-remaster\nTORTURE RACK\, są ze Stanów i graja death metal starej szkoły. Wulgarnie\, prymitywnie\, bez zbędnych ozdobników.\nEkipa związana z innym znanym death metalowym potworem Witch Vomit.\nPierwszy raz w PL.\nhttps://20buckspin.bandcamp.com/album/primeval-onslaught\nOBECNOŚĆ OBOWIĄZKOWA.\nW Polsce zagrają dwa koncerty\n19.04.2026 – Wrocław – Łącznik\n20.04.2026 – Warszawa – Voodoo
URL:https://altmusic.wroclaw.pl/koncert/vastum-u-s-torture-rack-u-s/
LOCATION:Łącznik / Czasoprzestrzeń\, Tramwajowa 1-3\, Wrocław\, Poland
END:VEVENT
END:VCALENDAR