BEGIN:VCALENDAR
VERSION:2.0
PRODID:-//Altmusic - Only Music Can Save Us - ECPv6.11.2//NONSGML v1.0//EN
CALSCALE:GREGORIAN
METHOD:PUBLISH
X-ORIGINAL-URL:https://altmusic.wroclaw.pl
X-WR-CALDESC:Events for Altmusic - Only Music Can Save Us
REFRESH-INTERVAL;VALUE=DURATION:PT1H
X-Robots-Tag:noindex
X-PUBLISHED-TTL:PT1H
BEGIN:VTIMEZONE
TZID:Europe/Warsaw
BEGIN:DAYLIGHT
TZOFFSETFROM:+0100
TZOFFSETTO:+0200
TZNAME:CEST
DTSTART:20260329T010000
END:DAYLIGHT
BEGIN:STANDARD
TZOFFSETFROM:+0200
TZOFFSETTO:+0100
TZNAME:CET
DTSTART:20261025T010000
END:STANDARD
END:VTIMEZONE
BEGIN:VEVENT
DTSTART;VALUE=DATE:20260422
DTEND;VALUE=DATE:20260423
DTSTAMP:20260421T175437
CREATED:20260413T081207Z
LAST-MODIFIED:20260413T081207Z
UID:10959-1776816000-1776902399@altmusic.wroclaw.pl
SUMMARY:ZEA + LOOM TM
DESCRIPTION:Śr\, 22 kwi o 19:30 / ZEA + LOOM TM / KLUB SZALONCYH / Ruska 47/48a\, Wroclaw\, Poland · Wrocław \n \ndrzwi: 19:30\nstart koncertów: 20:30\nBilety: 40zł\n———————–\nZEA – solo / minimal\, eclectic\, heart felt\, poetic\n„Zea seizes time\, stretches it out\, pushes rhythms into pulsing circles\, pulls tones from the earth and conjures lyrics from the tips of his toes. “In lichem fol beloften” becomes a dance to enchant bodies\, to drive away pain\, and to put death in checkmate.” \nZEA to autorski projekt Arnolda de Boer zapoczątkowany w 1995 roku. Na jego koncercie możemy spodziewać się wycieczek w różne zakątki świata – od tanecznego\, zdeformowanego popu\, przez 8-bitowe brzmienia\, afrykańskie rytmy\, punkowe riffy\, a z drugiej strony akustyczne pieśni śpiewane w jego rodzimym języku fryzyjskim. Co nam przyniesie tym razem – nie wiadomo.\nArnold jest członiem legendarnego\, holenderskiego zepołu The EX\, a także prowadzi własne\, niezależne wydawnictwo o nazwie Makkum Records.\nhttps://zeamusic.nl/\n———————–\nLoom TM – czyli tadd (Wrocławska Orkiestra Improwizowana) i Marek Otwinowski (Karbido). Saksofon sopranowy\, akustyczny bas\, daksofon i obiekty dźwiękowe własnej konstrukcji.\nWystępy Loom TM to elektroakustyczny seans\, organiczna improwizacja budująca hipnotyczne i immersyjne doświadczenie.\nCzy Klub Szalonych jest do tego stopnia szalony\, żeby zorganizować koncert szelestu\, brzęku\, podmuchu i dotyku? Loom TM robią z tych gestów żywą\, organiczną muzykę\, która pochłania – jednocześnie nie uciekają od post-jazzowych i awangardowych inspiracji. Każdy ich koncert (a nie grają ich często!) jest jednorazowym i niepowtarzalnym wydarzeniem dźwiękowym.\nhttps://loomrec.bandcamp.com/
URL:https://altmusic.wroclaw.pl/koncert/zea-loom-tm/
LOCATION:Klub Szalonych\, Ruska 47/48A\, Wrocław\, Poland
END:VEVENT
BEGIN:VEVENT
DTSTART;VALUE=DATE:20260424
DTEND;VALUE=DATE:20260425
DTSTAMP:20260421T175437
CREATED:20260420T140032Z
LAST-MODIFIED:20260420T140032Z
UID:10995-1776988800-1777075199@altmusic.wroclaw.pl
SUMMARY:Zespół Kołysanki
DESCRIPTION:piątek w tym tygodniu o 19:00 Kołysanki / Klub Pod Kolumnami \n  \nꕁꕁꕁ Kołysanka jest starsza niż granice i języki\, które próbowały nazwać strach ꕁꕁꕁ\n༄ .ೃ Zawsze zaczyna się od prostego gestu. Pochylenia się nad kimś i śpiewu\, łagodzącego strachy i nocne niepokoje. Między matką a dzieckiem powstaje wtedy pierwsza wspólnota świata: rytm kołysania\, powtarzalność melodii\, oddech uspokajający drugi oddech. \n‿‿ Niezależnie od miejsca i historii ten gest wygląda podobnie. Po obu stronach granic i konfliktów matki śpiewają z tą samą intencją: żeby ochronić i ocalić.\nZespół Kołysanki zaprasza na swój pierwszy koncert we Wrocławiu. Łączymy tradycyjne melodie z muzyką improwizowaną\, tworząc przestrzeń wspólnego oddechu i uważnego słuchania.\n◒ Zanim nauczono nas podziałów\, nauczono nas kołysania.\n𖦹 Zapraszamy Was na powrót do dawnych\, kojących rytuałów\, aby odgonić złe duchy\, zwolnić oddech i zmrużyć oczy. To będzie wieczór relaksacyjny\, kołysankowy i leżący – mruczący harmoniami\, które tulą duszę jak ciepła kołdra.\nKUP BILET: https://instytutkultury.pl/…/koncert-kolysanki-pod…/\nꔛꔛ\nOrganizatorem koncertu jest Wrocławski Instytut Kultury\, instytucja nowego typu wspierająca niszowe\, niekomercyjne inicjatywy\, badająca sektor kultury i rozwijająca kompetencje jego twórców i twórczyń\, tworząca sieci współpracy oraz organizująca nieszablonowe wydarzenia kulturalne.\nWrocławski Instytut Kultury jest miejską instytucją kultury\, której organizatorem jest Gmina Wrocław.\nZobacz\, jak to robimy:\nwww.instytutkultury.pl\nwww.facebook.com/wroclawskiinstytutkultury\nwww.instagram.com/wroclawskiinstytutkultury\nwww.youtube.com/@WroclawskiInstytutKultury
URL:https://altmusic.wroclaw.pl/koncert/zespol-kolysanki/
LOCATION:Klub Pod Kolumnami\, św. Macieja 21\, Wrocław\, Poland
END:VEVENT
BEGIN:VEVENT
DTSTART;VALUE=DATE:20260426
DTEND;VALUE=DATE:20260427
DTSTAMP:20260421T175437
CREATED:20260410T092258Z
LAST-MODIFIED:20260410T092258Z
UID:10920-1777161600-1777247999@altmusic.wroclaw.pl
SUMMARY:XATARATA (Paulina Owczarek/Federico Reuben)
DESCRIPTION:Nie\, 26 kwi o 19:00 Koncert: XATARATA (Paulina Owczarek/Federico Reuben) Przejście Garncarskie 2\, 50-107 Wroclaw \nXATARATA: kiss and drum by Antenna Non Grata \nPierwszy Tajny Koncert w księgarni Tajne Komplety w 2026.\nZaprezentują się XATARATA!\nWlotka 35 zł dla wspaniałych muzyków przed koncertem.\nXATARATA to duet improwizatorów Pauliny Owczarek (saksofony) i Federico Reubena (improwizacja na laptopie)\, który bada punkty styku muzyki improwizowanej z najnowocześniejszą muzyką komputerową\, wykorzystującą kodowanie i przetwarzanie na żywo\, systemy interaktywne i muzykę algorytmiczną. Dzięki wieloletniej współpracy artyści ugruntowali swoją pozycję na europejskiej i brytyjskiej scenie improwizacji\, badając granice ludzkiej i algorytmicznej sprawczości w spontanicznej twórczości. Łączą niekonwencjonalną grę na saksofonie z samplingiem i manipulacją dźwiękiem w czasie rzeczywistym\nZałożony w 2010 roku na tle tętniącej życiem londyńskiej sceny free improvisation\, duet XATARATA występował wielokrotnie w Niemczech\, Polsce\, Hiszpanii i Wielkiej Brytanii.\nPaulina Owczarek i Federico Reuben to dwoje improwizatorów o niemal przeciwstawnych metodach twórczych\, którym jednak udaje się płynnie łączyć organiczne z syntetycznym\, fizjologiczne z mechanicznym\, realne z wirtualnym\, biologiczne ze sztucznym. Komputer wrzeszczący wraz z saksofonistką w maszynowo-kosmicznej synchronizacji. Sztuczna inteligencja uczy się od ludzkiej spontanicznej inwencji. A.I. trenuje miłość\, nadmiar\, przyjemność\, duchowość… aż mózg cierpnie!\nkiss and drum\, którego premiera odbędzie się w kwietniu 2026 roku nakładem wytwórni Antenna Non Grata\, to drugi album duetu\, po A.I.LOVEs2scream wydanym w 2017 roku przez londyński label squib-box.\nhttps://antennanongrata.bandcamp.com/…/xatarata-kiss…\nhttps://squib-box.bandcamp.com/album/a-i-loves2scream \nPaulina Owczarek – saksofonistka i improwizatorka. Gra na saksofonie altowym\, barytonowym i sopraninowym. Zajmuje się głównie muzyką swobodnie improwizowaną.\nJest pomysłodawczynią Krakow Improvisers Orchestra\, w której gra oraz dyryguje grupą improwizujących muzyków. Obecnie współtworzy zespoły: samBar\, Morświn\, Xatarata\, Figa\, Cranky Ego\, Satoko Fujii Orchestra Berlin i Wszytko Nisko.\nUczestniczyła w projektach krakowskiej sceny muzyki improwizowanej i eksperymentalnej (Instytut Intuicji\, Osobliwy Poniedziałek\, Muzykoterapia\, LabInt\, Open Session) i w performansach łączących improwizowany taniec i muzykę (human.error\, KIO in Motion). Angażuje się również w działania na styku muzyki improwizowanej i malarstwa\, pantomimy\, filmu oraz poezji.\nGrała m.in. w formacjach Stare Taśmy\, OCHO\, Ute von Bingen\, Open House\, WOO\, Tajny\, HIQ\, LANZA\, Satoko Fujii Orchestra Tokyo. Współpracowała z London Improvisers Orchestra\, krakowskim Teatrem Starym i Operą Krakowską.\nhttps://soundcloud.com/paaulina https://paulinaowczarek.bandcamp.com/\nFederico Reuben jest kompozytorem\, artystą dźwiękowym i performerem live-electronics. Jego twórczość obejmuje kompozycje na zespoły akustyczne\, elektroakustyczne i mieszane\, improwizacje na laptopie\, występy z wykorzystaniem komputera i fixed media\, prace hybrydowe\, instalacje i programy komputerowe. Jako improwizator laptopowy występował z takimi improwizatorami jak Elliott Sharp\, John Edwards\, Steve Noble\, Mark Sanders\, London Improvisers Orchestra\, Tony Marsh\, Alekander Kolkowski\, Ingrid Laubrock\, Alexander Hawkins\, Dominic Lash\, Rachel Musson i Javier Carmona. Współtworzy netlabel i kolektyw artystyczny squib-box z Adamem de la Cour i Neilem Luckiem. Obecnie jest profesorem nadzwyczajnym na Wydziale Muzyki Uniwersytetu w Yorku.\nhttps://www.federicoreuben.com/
URL:https://altmusic.wroclaw.pl/koncert/xatarata-paulina-owczarek-federico-reuben/
LOCATION:Tajne Komplety\, ul. Przejście Garncarskie 2\, Wrocław\, Poland
END:VEVENT
BEGIN:VEVENT
DTSTART;VALUE=DATE:20260427
DTEND;VALUE=DATE:20260428
DTSTAMP:20260421T175437
CREATED:20260420T134531Z
LAST-MODIFIED:20260420T134549Z
UID:10988-1777248000-1777334399@altmusic.wroclaw.pl
SUMMARY:AEROPLAN #130: Mateusz Rybicki / Zbigniew Kozera / Dan Nulty / Jan Fanfare
DESCRIPTION:Pon\, 27 kwi o 20:00 AEROPLAN #130  / Macondo / Pomorska 19 \n  \nAEROPLAN to seria występów eksperymentalnych i improwizowanych organizowanych w Macondo.​\nNa kolejnym Aeroplanie wystąpią:\nMateusz Rybicki – klarnet\nZbigniew Kozera – kontrabas\nDan Nulty – elektronika\nJan Fanfare – gitara\, preparowane ukulele\, theremin\n/ wstęp 35 zł
URL:https://altmusic.wroclaw.pl/koncert/aeroplan-130-mateusz-rybicki-zbigniew-kozera-dan-nulty/
LOCATION:Macondo\, Pomorska 19\, Wrocław\, Poland
END:VEVENT
END:VCALENDAR