BEGIN:VCALENDAR
VERSION:2.0
PRODID:-//Altmusic - Only Music Can Save Us - ECPv6.11.2//NONSGML v1.0//EN
CALSCALE:GREGORIAN
METHOD:PUBLISH
X-ORIGINAL-URL:https://altmusic.wroclaw.pl
X-WR-CALDESC:Events for Altmusic - Only Music Can Save Us
REFRESH-INTERVAL;VALUE=DURATION:PT1H
X-Robots-Tag:noindex
X-PUBLISHED-TTL:PT1H
BEGIN:VTIMEZONE
TZID:Europe/Warsaw
BEGIN:DAYLIGHT
TZOFFSETFROM:+0100
TZOFFSETTO:+0200
TZNAME:CEST
DTSTART:20260329T010000
END:DAYLIGHT
BEGIN:STANDARD
TZOFFSETFROM:+0200
TZOFFSETTO:+0100
TZNAME:CET
DTSTART:20261025T010000
END:STANDARD
END:VTIMEZONE
BEGIN:VEVENT
DTSTART;VALUE=DATE:20260418
DTEND;VALUE=DATE:20260419
DTSTAMP:20260422T000300
CREATED:20260413T075656Z
LAST-MODIFIED:20260413T075656Z
UID:10957-1776470400-1776556799@altmusic.wroclaw.pl
SUMMARY:Improvised Music Series #4
DESCRIPTION:Zapraszamy na czwartą edycję Improvised Music Series. Zagrają :\nHubert Kostkiewicz – gitara elektryczna\nMar Sala Romagosa – flety\nMikołaj Nowicki – kontrabas\, elektronika\nPierwszy set 19:00 – Hubert Kostkiewicz solo / Mar Sala Romagosa + Mikołaj Nowicki Duo\nDrugi set 20:15 – Hubert Kostkiewicz + Mar Sala Romagosa + Mikołaj Nowicki\nMiejsce : ul Lelewela 4 ( pracownia w starym budynku WDN\, głównym wejściem na pierwsze piętro i w prawo do końca) Wrocław.\nWstęp 40 zł jeden set 60 zł oba.\nGrafikę wykonała Marta Sieczkowska.\nZapraszamy!
URL:https://altmusic.wroclaw.pl/koncert/improvised-music-series-4/
LOCATION:Lokalizacja nietypowa WROCŁAW
END:VEVENT
END:VCALENDAR