BEGIN:VCALENDAR
VERSION:2.0
PRODID:-//Altmusic - Only Music Can Save Us - ECPv6.11.2//NONSGML v1.0//EN
CALSCALE:GREGORIAN
METHOD:PUBLISH
X-ORIGINAL-URL:https://altmusic.wroclaw.pl
X-WR-CALDESC:Events for Altmusic - Only Music Can Save Us
REFRESH-INTERVAL;VALUE=DURATION:PT1H
X-Robots-Tag:noindex
X-PUBLISHED-TTL:PT1H
BEGIN:VTIMEZONE
TZID:Europe/Warsaw
BEGIN:DAYLIGHT
TZOFFSETFROM:+0100
TZOFFSETTO:+0200
TZNAME:CEST
DTSTART:20260329T010000
END:DAYLIGHT
BEGIN:STANDARD
TZOFFSETFROM:+0200
TZOFFSETTO:+0100
TZNAME:CET
DTSTART:20261025T010000
END:STANDARD
END:VTIMEZONE
BEGIN:VEVENT
DTSTART;VALUE=DATE:20260408
DTEND;VALUE=DATE:20260409
DTSTAMP:20260422T164259
CREATED:20260407T125202Z
LAST-MODIFIED:20260407T125202Z
UID:10872-1775606400-1775692799@altmusic.wroclaw.pl
SUMMARY:AEROPLAN #129
DESCRIPTION:AEROPLAN to seria występów eksperymentalnych i improwizowanych organizowanych w Macondo.​\nNa kolejnym Aeroplanie wystąpią:\ntadd / saksofon sopranowy / i Maciej Galiński / syntezator /. \n/ wstęp 35 zł
URL:https://altmusic.wroclaw.pl/koncert/aeroplan-129/
LOCATION:Macondo\, Pomorska 19\, Wrocław\, Poland
END:VEVENT
END:VCALENDAR