BEGIN:VCALENDAR
VERSION:2.0
PRODID:-//Altmusic - Only Music Can Save Us - ECPv6.11.2//NONSGML v1.0//EN
CALSCALE:GREGORIAN
METHOD:PUBLISH
X-WR-CALNAME:Altmusic - Only Music Can Save Us
X-ORIGINAL-URL:https://altmusic.wroclaw.pl
X-WR-CALDESC:Events for Altmusic - Only Music Can Save Us
REFRESH-INTERVAL;VALUE=DURATION:PT1H
X-Robots-Tag:noindex
X-PUBLISHED-TTL:PT1H
BEGIN:VTIMEZONE
TZID:Europe/Warsaw
BEGIN:DAYLIGHT
TZOFFSETFROM:+0100
TZOFFSETTO:+0200
TZNAME:CEST
DTSTART:20260329T010000
END:DAYLIGHT
BEGIN:STANDARD
TZOFFSETFROM:+0200
TZOFFSETTO:+0100
TZNAME:CET
DTSTART:20261025T010000
END:STANDARD
END:VTIMEZONE
BEGIN:VEVENT
DTSTART;VALUE=DATE:20260507
DTEND;VALUE=DATE:20260508
DTSTAMP:20260421T204357
CREATED:20260420T135126Z
LAST-MODIFIED:20260420T135126Z
UID:10993-1778112000-1778198399@altmusic.wroclaw.pl
SUMMARY:ARRHYTHMUS - improwizowany koncert audiowizualny inspirowany awangardowym kinem abstrakcyjnym
DESCRIPTION:Czw\, 7 maj o 19:00 ARRHYTHMUS – improwizowany koncert audiowizualny inspirowany awangardowym kinem abstrakcyjnym  / ulica Jedności Narodowej 85 / Kawiarnia Filmowa \n  \n🌑 CZY MOŻNA ZOBACZYĆ RYTM CHAOSU?\nZAPRASZAMY NA AUDIOWIZUALNY SEANS „ARRHYTHMUS” 🌑\nCzy kiedykolwiek zastanawialiście się\, co dzieje się na styku całkowitej improwizacji dźwiękowej i obrazu\, który rodzi się „tu i teraz”? Zapomnijcie o tradycyjnych koncertach i przewidywalnych pokazach filmowych. Zapraszamy Was do wejścia w głąb projektu Arrhythmus – artystycznego organizmu\, który oddycha\, zmienia się i zaskakuje w każdej sekundzie swojego trwania.\nTo nie jest zwykłe wydarzenie. To rytualna podróż\, w której muzyka i obraz nie są dla siebie tłem\, lecz równorzędnymi partnerami w procesie tworzenia. \n🎨 WIZUALNY TRANS: VJ PIETRUSHKA I KONCEPCJA KINA TOTALNEGO\nSercem wizualnym wieczoru będzie Vj Pietrushka\, czyli Maciej Piątek – artysta\, którego prace to coś znacznie więcej niż „projekcje”. Piątek jest mistrzem improwizacji wizualnej\, czerpiącym garściami z tradycji kina totalnego.\nBędzie to hołd dla pionierów filmowego eksperymentu takich jak Hans Richter czy Viking Eggeling. W projekcie Arrhythmus Maciej nie odtwarza gotowych klipów. On maluje światłem i kodem w czasie rzeczywistym. Każda plama koloru\, każda geometryczna deformacja i każdy kadr są odpowiedzią na dźwięki\, które w tym samym momencie generuje zespół.\n• Co to oznacza dla widza? Stajesz się świadkiem procesu narodzin dzieła. To „kino absolutne”\, w którym obraz zostaje odarty z narracji literackiej\, by stać się czystą formą\, rytmem i emocją. To wizualna poezja\, która pulsuje w tempie Twojego serca.\n🐈 DŹWIĘKOWA DZIKOŚĆ: SHEPHERDS OF CATS \nHome \n\nZa warstwę dźwiękową odpowiada polsko-brytyjski kolektyw Shepherds of Cats. Jeśli ich nazwa kojarzy Wam się z próbą zapanowania nad czymś nieokiełznanym – macie rację. Ten zespół to kwintesencja swobodnej improwizacji (free improv).\nIch muzyka to:\n• Nieprzewidywalność: Muzycy (Adam Webster\, Aleksander Olszewski\, Dariusz Błaszczak i Jan Fanfare) eksplorują granice dobrego smaku i akustycznej wytrzymałości.\n• Instrumentarium bez granic: Usłyszycie nie tylko klasyczną wiolonczelę czy gitarę\, ale też etniczne instrumenty perkusyjne\, syntezatory modularne i preparowane ukulele.\n• Globalne doświadczenie: Mają na koncie 8 albumów i ponad 50 spektakli w Japonii\, Wielkiej Brytanii\, Niemczech i Polsce.\nShepherds of Cats nie grają piosenek. Oni budują dźwiękowe krajobrazy\, które mogą być kojącym dronem\, hipnotyczną medytacją\, a za chwilę frenetycznym dialogiem\, który rzuca wyzwanie Waszym zmysłom. Jak sami mówią – polują na dźwięki tylko po to\, by użyć ich w „nieodpowiedni sposób”\, tworząc historie zanurzone w niedowierzaniu wobec własnego istnienia.\n🔥 DLACZEGO WARTO TU BYĆ?\nArrhythmus to doświadczenie jednostkowe. Ponieważ zarówno muzyka\, jak i wizualizacje są improwizowane\, ten konkretny pokaz nigdy się nie powtórzy. To\, co zobaczycie i usłyszycie\, powstanie tylko dla Was i zniknie wraz z ostatnim dźwiękiem.\nTo propozycja dla:\n• Poszukiwaczy nowych doznań\, którzy mają dość komercyjnej powtarzalności.\n• Fanów sztuki eksperymentalnej\, wideo-artu i muzyki improwizowanej\n• Osób\, które chcą poczuć\, jak dźwięk może materializować się w formie obrazu.\nhttps://arrhythmus.wordpress.com/ \n \nhttps://maciejpiatek.tumblr.com/ \nHome \n\n…………………………………………..\ndata: 7 maja 2026\ngodzina: 19.00\nbilety: 30 zł
URL:https://altmusic.wroclaw.pl/koncert/arrhythmus-improwizowany-koncert-audiowizualny-inspirowany-awangardowym-kinem-abstrakcyjnym/
LOCATION:Kawiarnia Filmowa\, Jedności Narodowej 85\, Wrocław\, Poland
END:VEVENT
END:VCALENDAR