BEGIN:VCALENDAR
VERSION:2.0
PRODID:-//Altmusic - Only Music Can Save Us - ECPv6.11.2//NONSGML v1.0//EN
CALSCALE:GREGORIAN
METHOD:PUBLISH
X-WR-CALNAME:Altmusic - Only Music Can Save Us
X-ORIGINAL-URL:https://altmusic.wroclaw.pl
X-WR-CALDESC:Events for Altmusic - Only Music Can Save Us
REFRESH-INTERVAL;VALUE=DURATION:PT1H
X-Robots-Tag:noindex
X-PUBLISHED-TTL:PT1H
BEGIN:VTIMEZONE
TZID:Europe/Warsaw
BEGIN:DAYLIGHT
TZOFFSETFROM:+0100
TZOFFSETTO:+0200
TZNAME:CEST
DTSTART:20260329T010000
END:DAYLIGHT
BEGIN:STANDARD
TZOFFSETFROM:+0200
TZOFFSETTO:+0100
TZNAME:CET
DTSTART:20261025T010000
END:STANDARD
END:VTIMEZONE
BEGIN:VEVENT
DTSTART;VALUE=DATE:20260420
DTEND;VALUE=DATE:20260421
DTSTAMP:20260421T161658
CREATED:20260407T081629Z
LAST-MODIFIED:20260407T081629Z
UID:10867-1776643200-1776729599@altmusic.wroclaw.pl
SUMMARY:Wielkanocna potańcówka w Herbaciarni K2 (Dziwny Lew\, Michał Strzelczak\, Woźniak/Oleśko)
DESCRIPTION:Pon\, 20 kwi o 19:00 / Wielkanocna potańcówka w Herbaciarni K2 (Dziwny Lew\, Michał Strzelczak\, Woźniak/Oleśko) \n \n  \nCzołem\,\nzapraszamy na kolejne tradycyjne tańce w poniedziałek 20 kwietnia we wrocławskiej Herbaciarni K2. Zaczynamy o 19:00.\nWstęp wolny ALE podczas wydarzenia będzie krążył kapelusz\, do którego zbierane będą pieniądze na wynagrodzenie dla muzyków\, możliwy będzie też przelew blikiem (sugerowana minimalna wysokość zrzutki: 40 zł).\nPamiętajcie\, że tylko pieniądze ze zrzutki pozwalają nam zapraszać muzyków na nasze wydarzenia – zapewnić im wynagrodzenie za ich pracę oraz zrekompensować koszty dojazdu.\nNa tej potańcówce zagrają dla Was: \nDziwny Lew\nPiotr Dziwura (skrzypce\, wokal)\nJulia Lew (bębenek obręczowy\, baraban\, wokal)\nOla Pagacz (basy\, wokal) \nSkrzypczysta z Roztocza\, bymbynistka z Mazowsza\, a basistka z Dolnego Śląska. Grają tradycyjną muzykę polskiej wsi w oparciu o swoje korzenie i muzyczne ciągoty. Między innymi\, podróżniaki od Stanisława Głaza i Bronisława Bidy\, a także melodie wyrosłe z tradycji polskich reemigrantów z byłej Jugosławii (wątek dolnośląski). Repertuar budują na melodiach zasłyszanych z nagrań archiwalnych\, oraz od wiejskich mistrzów. \nMichał Strzelczak\n„Czyli chłopak\, co złapał za akordeon i nie wypuścił go z rąk już od ponad półtora roku. Gram muzykę ludową\, taką do tańczenia\, jak i do zasłuchania. Uczyłem się z nagrań śp. Czesława Kocemby i Sławomira Czekalskiego\, a także na Taborze sannicko-łowickim od harmonisty Jeremiego Kowalskiego. Sporo melodii złapałem też\, grając w zespole Mała Tęcza\, więc w moim repertuarze znajdziecie nuty z różnych zakątków Polski.\nCzasem gram sam\, a czasem z bębniarzem albo barabanistą\, i też z skrzypkami – jak się trafi. Do tańca grałem m.in. na festiwalu „Na Przydrożku”\, gdzie wszystko zaczęło się na poważnie.” \nWoźniak/Oleśko\ndudy wielkopolskie\, kozioł\, bęben i śpiew\n//Pamiętajcie o zabraniu wygodnego obuwia na płaskiej podeszwie zapewniającej lekki poślizg// \n  \n 
URL:https://altmusic.wroclaw.pl/koncert/wielkanocna-potancowka-w-herbaciarni-k2-dziwny-lew-michal-strzelczak-wozniak-olesko/
LOCATION:Herbaciarnia K2\, Kiełbaśnicza 2\, Wrocław\, Poland
END:VEVENT
END:VCALENDAR