BEGIN:VCALENDAR
VERSION:2.0
PRODID:-//Altmusic - Only Music Can Save Us - ECPv6.11.2//NONSGML v1.0//EN
CALSCALE:GREGORIAN
METHOD:PUBLISH
X-WR-CALNAME:Altmusic - Only Music Can Save Us
X-ORIGINAL-URL:https://altmusic.wroclaw.pl
X-WR-CALDESC:Events for Altmusic - Only Music Can Save Us
REFRESH-INTERVAL;VALUE=DURATION:PT1H
X-Robots-Tag:noindex
X-PUBLISHED-TTL:PT1H
BEGIN:VTIMEZONE
TZID:Europe/Warsaw
BEGIN:DAYLIGHT
TZOFFSETFROM:+0100
TZOFFSETTO:+0200
TZNAME:CEST
DTSTART:20260329T010000
END:DAYLIGHT
BEGIN:STANDARD
TZOFFSETFROM:+0200
TZOFFSETTO:+0100
TZNAME:CET
DTSTART:20261025T010000
END:STANDARD
END:VTIMEZONE
BEGIN:VEVENT
DTSTART;VALUE=DATE:20260419
DTEND;VALUE=DATE:20260420
DTSTAMP:20260422T011936
CREATED:20251230T215108Z
LAST-MODIFIED:20251230T215108Z
UID:10293-1776556800-1776643199@altmusic.wroclaw.pl
SUMMARY:Apparat
DESCRIPTION:📅19.04.2026 / Wrocław\, A2\n🎟BILETY: https://bit.ly/APPARAT_WRO \n \n  \n🎚️Apparat\, mistrz nastrojowej elektroniki\, wystąpi 19 kwietnia we wrocławskim klubie A2. Artysta zaprezentuje materiał z nowego albumu “A Hum Of Maybe”\, którego premiera przewidziana jest na początek 2026 roku\, a także najważniejsze utwory ze swojego dorobku\, w pełnym koncertowym składzie.\nKryjący się pod pseudonimem Apparat Sascha Ring od lat balansuje między pełną elegancji elektroniką\, melancholijnym popem i orkiestralnymi aranżacjami\, tworząc muzykę\, która wymyka się gatunkowym klasyfikacjom. Jeden z założycieli Moderat jest także twórcą ścieżek dźwiękowych – w 2018 roku zdobył nagrodę za najlepszy soundtrack na Festiwalu Filmowym w Wenecji (“Capri – Revolution”\, reż. Mario Martone)\, zasłynął też jako autor głównej kompozycji do serialu Netflixa “Dark”. Jego album “LP5” przyniósł mu nominację do Grammy i ugruntował reputację jednego z najoryginalniejszych artystów współczesnej elektroniki. Swoją twórczość prezentował na najważniejszych festiwalach\, takich jak Sónar czy Primavera Sound\, a jego występy hipnotyzują mnogością detali. Teraz powraca na trasę z nowym materiałem\, który – jak sam mówi – eksploruje przestrzeń pomiędzy pewnością a niepewnością\, gdzie rodzi się prawdziwa kreatywność. \n  \n🔊”Goodbye”: \n \n  \nAPPARAT\n📅19.04.2026 / Wrocław\, A2\n🎟BILETY: https://bit.ly/APPARAT_WRO\n🎫Punkty sprzedaży: www.winiarybookings.pl\, Going\, Empik Bilety\, Eventim\, Ebilet\, Ticketmaster\n⚠️Szanowni Państwo. Prosimy o kupowanie biletów wyłącznie w autoryzowanych punktach sprzedaży. Poprzez kupno wejściówek od osób trzecich możecie zostać Państwo oszukani.⚠️\n❌Wstęp na koncert 13+ za pisemną zgodą rodzica. Poniżej 13 lat\, wymagana obecność pełnoprawnego opiekuna.\nWzór zgody: https://bit.ly/pisemna_zgoda_rodzica_wb\n📄Regulamin wydarzenia: https://bit.ly/regulamin_wydarzenia_wb\n🌿W trosce o środowisko zachęcamy Was do pokazywania biletów na telefonie zamiast ich drukowania.\n➡ APPARAT (Niemcy) – elektronika\n🌐https://www.facebook.com/apparat.official\n🌐https://www.instagram.com/apparat3000/ \n🔊”Black Water”: \n \n—————————————\nWpadaj na Instagram ➡ http://bit.ly/Nasz-instagram\nPolub nasz profil ➡ http://bit.ly/Nasz–Facebook
URL:https://altmusic.wroclaw.pl/koncert/apparat/
LOCATION:A2\, Góralska 5\, Wrocław\, Poland
END:VEVENT
END:VCALENDAR