BEGIN:VCALENDAR
VERSION:2.0
PRODID:-//Altmusic - Only Music Can Save Us - ECPv6.11.2//NONSGML v1.0//EN
CALSCALE:GREGORIAN
METHOD:PUBLISH
X-ORIGINAL-URL:https://altmusic.wroclaw.pl
X-WR-CALDESC:Events for Altmusic - Only Music Can Save Us
REFRESH-INTERVAL;VALUE=DURATION:PT1H
X-Robots-Tag:noindex
X-PUBLISHED-TTL:PT1H
BEGIN:VTIMEZONE
TZID:Europe/Warsaw
BEGIN:DAYLIGHT
TZOFFSETFROM:+0100
TZOFFSETTO:+0200
TZNAME:CEST
DTSTART:20260329T010000
END:DAYLIGHT
BEGIN:STANDARD
TZOFFSETFROM:+0200
TZOFFSETTO:+0100
TZNAME:CET
DTSTART:20261025T010000
END:STANDARD
END:VTIMEZONE
BEGIN:VEVENT
DTSTART;VALUE=DATE:20260415
DTEND;VALUE=DATE:20260416
DTSTAMP:20260421T230911
CREATED:20260413T130803Z
LAST-MODIFIED:20260413T130803Z
UID:10964-1776211200-1776297599@altmusic.wroclaw.pl
SUMMARY:Planet Beach
DESCRIPTION:środa w tym tygodniu o 19:00 / Środa z Planet Beach. Koncert benefitowy / Księgarnia Hiszpańska \n  \nIt’s Wednesday\, my dudes…\nCześć wszystkim\, jesteśmy Den i Temis\, znani też jako Planet Beach – zespół z Białorusi. Dwa lata temu przeprowadziliśmy się do Polski i od dłuższego czasu nie graliśmy dla publiczności – najwyższy czas to zmienić!\n15 marca damy mały koncert lo-fi\, na którym zagramy kilka naszych autorskich piosenek i parę coverów. Ale to nie wszystko. Den zajmuje się też tatuażami\, więc po koncercie można będzie zakupić szkic albo umówić się na zrobienie tatuażu.\nŚrodek tygodnia zawsze jest ciężki. Nie masz już tyle energii co w poniedziałek\, ale jeszcze nie jesteś pełen weekendowego podekscytowania jak w piątek. Dlatego postaramy się\, żeby ten wieczór był przytulny i pozwolił wam odpocząć.\nWstęp na koncert jest za co łaska (pay what you want)\, więc nie krępuj się i przychodź! Zbieramy na leczenie ortopedyczne i na nasze koty.\nIt’s Wednesday\, my dudes. \n/English:/\nIt’s Wednesday\, my dudes…\nWednesday with Planet Beach\nHey everyone\, we are Den and Temis\, also known as Planet Beach\, a band from Belarus. We moved to Poland two years ago and haven’t played live for a while – it’s time to fix that!\nOn March 15th we’re doing a small lo-fi concert where we’ll perform some of our original songs and a few covers. But that’s not all. Den also does tattoos\, so after the show you can buy a sketch or schedule an appointment to get a tattoo.\nMidweek is always tough. You’re no longer as full of energy as on Monday\, but not yet excited for the weekend like on Friday. That’s why we want to make this evening cozy and relaxing for you.\nThe concert has a pay-what-you-want entry\, so don’t be shy – just come! We are collecting money for orthopedic treatment and for our cats.\nIt’s Wednesday\, my dudes. \n/беларуская:/\nIt’s Wednesday\, my dudes…\nСерада з Planet Beach\nПрывітанне ўсім\, мы Дзен і Цеміс\, мы ж Planet Beach – гурт з Беларусі. Два гады таму мы пераехалі ў Польшчу і даўно не выступалі перад публікай – самы час гэта выправіць!\n15 сакавіка мы зробім маленькі lo-fi канцэрт\, на якім выканаем некалькі нашых аўтарскіх песень і некалькі кавераў. Але гэта яшчэ не ўсё. Дзен таксама займаецца татуіроўкамі\, таму пасля канцэрта вы зможаце купіць эскіз або запісацца на прыём\, каб зрабіць татуіроўку.\nСерадзіна працоўнага тыдня заўсёды цяжкая. Ты ўжо не поўны сіл\, як у панядзелак\, і яшчэ не поўны чакання выходных\, як у пятніцу. Таму мы паспрабуем зрабіць гэты вечар утульным\, каб ты мог адпачыць.\nАплата за канцэрт свабодная (pay what you want)\, таму не саромейся і прыходзь!\nМы збіраем грошы на артапедычнае лячэнне і для нашых катоў.\nIt’s Wednesday\, my dudes.
URL:https://altmusic.wroclaw.pl/koncert/planet-beach/
LOCATION:Księgarnia Hiszpańska\, Uniwersytecka 19-20\, Wrocław\, Poland
END:VEVENT
END:VCALENDAR