BEGIN:VCALENDAR
VERSION:2.0
PRODID:-//Altmusic - Only Music Can Save Us - ECPv6.11.2//NONSGML v1.0//EN
CALSCALE:GREGORIAN
METHOD:PUBLISH
X-WR-CALNAME:Altmusic - Only Music Can Save Us
X-ORIGINAL-URL:https://altmusic.wroclaw.pl
X-WR-CALDESC:Events for Altmusic - Only Music Can Save Us
REFRESH-INTERVAL;VALUE=DURATION:PT1H
X-Robots-Tag:noindex
X-PUBLISHED-TTL:PT1H
BEGIN:VTIMEZONE
TZID:Europe/Warsaw
BEGIN:DAYLIGHT
TZOFFSETFROM:+0100
TZOFFSETTO:+0200
TZNAME:CEST
DTSTART:20260329T010000
END:DAYLIGHT
BEGIN:STANDARD
TZOFFSETFROM:+0200
TZOFFSETTO:+0100
TZNAME:CET
DTSTART:20261025T010000
END:STANDARD
END:VTIMEZONE
BEGIN:VEVENT
DTSTART;VALUE=DATE:20260523
DTEND;VALUE=DATE:20260524
DTSTAMP:20260425T134634
CREATED:20260420T134245Z
LAST-MODIFIED:20260420T151036Z
UID:10986-1779494400-1779580799@altmusic.wroclaw.pl
SUMMARY:Trio EXTRA Evans/Black/Eldh: Jazz bez hamulców
DESCRIPTION:Sob\, 23 maj o 20:00 / Trio EXTRA Evans/Black/Eldh: Jazz bez hamulców | OPT\, ul. Działkowa 15 \n \nJuż 23 maja naszą salę widowiskową przejmą muzycy\, którzy improwizację traktują jak sport ekstremalny. EXTRA to spotkanie trzech wizjonerów współczesnej sceny: \n* Peter Evans (trąbka) – wirtuoz przesuwający fizyczne granice instrumentu\, znany z rzeźbiarskiej pracy nad dźwiękiem i projektu Being & Becoming.\n* Petter Eldh (bas) – szwedzki basista łączący jazz z energią hip-hopu i post-punka; mistrz hiperaktywnego\, wykręconego pulsu.\n* Jim Black (perkusja) – legenda nowojorskiej sceny Downtown\, który redefiniuje rolę perkusji\, mieszając akustyczną precyzję z elektroniką. \nIch debiut dla We Jazz Records (2024) został okrzyknięty jedną z najlepszych płyt jazzowych roku. Spodziewajcie się wielowarstwowego języka\, w którym techniczna maestria służy radosnej\, niemal anarchicznej energii. To nie są sprawdzone schematy – to kinetyczny świat dźwięków\, w którym każdy moment jest zaskoczeniem.\nTo co\, wpadniecie na Działkową?\nKiedy: 23.05.2026\, godz. 20:00\nGdzie: OPT\, ul. Działkowa 15\nBilety: przedsprzedaż 50zł \, w dniu koncertu 65 zł\nSprzedaż ruszy w drugiej połowie kwietnia-będziemy Was informować!\nZniżka 20% z kartą Nasz Wrocław!\nWięcej szczegółów na naszej stronie internetowej opt-art.net.
URL:https://altmusic.wroclaw.pl/koncert/trio-extra-evans-black-eldh-jazz-bez-hamulcow/
LOCATION:OPT\, ul. Działkowa 15\, Wrocław\, Poland
END:VEVENT
END:VCALENDAR