BEGIN:VCALENDAR
VERSION:2.0
PRODID:-//Altmusic - Only Music Can Save Us - ECPv6.11.2//NONSGML v1.0//EN
CALSCALE:GREGORIAN
METHOD:PUBLISH
X-ORIGINAL-URL:https://altmusic.wroclaw.pl
X-WR-CALDESC:Events for Altmusic - Only Music Can Save Us
REFRESH-INTERVAL;VALUE=DURATION:PT1H
X-Robots-Tag:noindex
X-PUBLISHED-TTL:PT1H
BEGIN:VTIMEZONE
TZID:Europe/Warsaw
BEGIN:DAYLIGHT
TZOFFSETFROM:+0100
TZOFFSETTO:+0200
TZNAME:CEST
DTSTART:20260329T010000
END:DAYLIGHT
BEGIN:STANDARD
TZOFFSETFROM:+0200
TZOFFSETTO:+0100
TZNAME:CET
DTSTART:20261025T010000
END:STANDARD
END:VTIMEZONE
BEGIN:VEVENT
DTSTART;VALUE=DATE:20260419
DTEND;VALUE=DATE:20260420
DTSTAMP:20260422T043416
CREATED:20260306T141729Z
LAST-MODIFIED:20260306T141729Z
UID:10591-1776556800-1776643199@altmusic.wroclaw.pl
SUMMARY:przeprosiny & wracaj bo ciemno & ostatni kontynent
DESCRIPTION:Nie\, 19 kwi o 19:00 / przeprosiny & wracaj bo ciemno & ostatni kontynent / Wrocław\, Uczulenie \n \nWiosenna niedziela wieczór i jest po prostu spoko można pójść na koncert 3 zespołów i po prostu będzie dobrze 👍\nprzeprosiny (emo/shoegaze\, Katowice)\nEmocjonalny projekt muzyczny z Katowic wyróżniający się mieszanką delikatnych shoegazeowych wokali z przejmującymi\, głośnymi krzykami. Utwory poszukują głębszego sensu istnienia i refleksji nad duchowością\, czasem wyrażając te idee za pomocą subtelnych metafor.\nhttps://linktr.ee/przeprosiny \nwracaj\, bo ciemno (noise pop/fake emo\, Warszawa)\nTrójka przyjaciół z warszawy. Lubią rzeczy szybkie i wolne\, m.in. blackgaze\, power pop\, indie sleaze\, twee pop. Oprócz tego lubią chodzić po górach\, spać w namiocie i grać w karty. I inne rzeczy też. Jest fajnie jak jest fajnie ciepło głośno melodyjnie i w miłym gronie.\nhttps://linktr.ee/wracajbociemno \nOstatni Kontynent\ngabrys i gwen\, dwojka emo nerdow z wroclawia – gramy lofi midwest screamo z powiewami wiatru konca lata ☆彡☆彡☆彡 dla fanow homestuck\, kyocery sl400r\, pikselowych gierek i gapienia sie w niebo\n— GNU Terry Pratchett —\nhttps://ostatnikontynent.bandcamp.com/album/demo \nTAX: 30/20\nBRAMKI: 19:00 / START 19:30\nPLAKAT: @dandiest_warhol / Zofia Banaś \n5
URL:https://altmusic.wroclaw.pl/koncert/przeprosiny-wracaj-bo-ciemno-ostatni-kontynent/
LOCATION:Czuła Jest Noc / Uczulenie\, Kolejowa 8\, Wrocław\, Poland
END:VEVENT
END:VCALENDAR