BEGIN:VCALENDAR
VERSION:2.0
PRODID:-//Altmusic - Only Music Can Save Us - ECPv6.11.2//NONSGML v1.0//EN
CALSCALE:GREGORIAN
METHOD:PUBLISH
X-ORIGINAL-URL:https://altmusic.wroclaw.pl
X-WR-CALDESC:Events for Altmusic - Only Music Can Save Us
REFRESH-INTERVAL;VALUE=DURATION:PT1H
X-Robots-Tag:noindex
X-PUBLISHED-TTL:PT1H
BEGIN:VTIMEZONE
TZID:Europe/Warsaw
BEGIN:DAYLIGHT
TZOFFSETFROM:+0100
TZOFFSETTO:+0200
TZNAME:CEST
DTSTART:20260329T010000
END:DAYLIGHT
BEGIN:STANDARD
TZOFFSETFROM:+0200
TZOFFSETTO:+0100
TZNAME:CET
DTSTART:20261025T010000
END:STANDARD
END:VTIMEZONE
BEGIN:VEVENT
DTSTART;VALUE=DATE:20261128
DTEND;VALUE=DATE:20261129
DTSTAMP:20260425T045058
CREATED:20260325T110335Z
LAST-MODIFIED:20260325T110335Z
UID:10786-1795824000-1795910399@altmusic.wroclaw.pl
SUMMARY:GUANTANAMO PARTY PROGRAM
DESCRIPTION:Sob\, 28 lis o 18:00 XX-lecie GUANTANAMO PARTY PROGRAM + goście | 28.11.2026 | Wrocław – Łącznik  / Wydarzenie Chroma Music \n💥Chroma Music z dumą zaprasza na koncert z okazji XX-lecia zespołu Guantanamo Party Program!💥\nWe wrocławskim klubie Łącznik zagrają: \n🔊 GUANTANAMO PARTY PROGRAM (post hardcore / noise rock\, Wrocław)\nwww.facebook.com/GuantanamoPartyProgram\nwww.instagram.com/guantanamo_party_program\nwww.guantanamopartyprogram.bandcamp.com\n20 lat razem. Podobno wciąż grają tylko dlatego\, że zapomnieli jak usunąć przelew stały za salkę i głupio tak płacić hajs\, a nie przyjeżdżać na próby.\nA tak zupełnie poważnie\, to szykują nowy album. Jest szansa\, że w tym roku go nagrają. Ale mówią\, żeby nie spodziewać się niczego nowego. Będzie jeszcze smutniej\, bo są starsi. A nawet już starzy. I będą krzyczeć o tym jak szybko to wszystko przeminęło…\n➡️ „do D.N.A.”\n\n➡️ „5:01”\n\n➡️ Posłuchaj na Spotify:\n\n🔊 TBA\n🔊 TBA\n🔊 TBA\n🟥 Miejsce: Wrocław – Klub Łącznik\n🟨 Data: 28.11.2026\n🟩 Godzina: 18:00\n🟦 Bilety: info wkrótce
URL:https://altmusic.wroclaw.pl/koncert/guantanamo-party-program/
LOCATION:Łącznik / Czasoprzestrzeń\, Tramwajowa 1-3\, Wrocław\, Poland
END:VEVENT
END:VCALENDAR