BEGIN:VCALENDAR
VERSION:2.0
PRODID:-//Altmusic - Only Music Can Save Us - ECPv6.11.2//NONSGML v1.0//EN
CALSCALE:GREGORIAN
METHOD:PUBLISH
X-ORIGINAL-URL:https://altmusic.wroclaw.pl
X-WR-CALDESC:Events for Altmusic - Only Music Can Save Us
REFRESH-INTERVAL;VALUE=DURATION:PT1H
X-Robots-Tag:noindex
X-PUBLISHED-TTL:PT1H
BEGIN:VTIMEZONE
TZID:Europe/Warsaw
BEGIN:DAYLIGHT
TZOFFSETFROM:+0100
TZOFFSETTO:+0200
TZNAME:CEST
DTSTART:20260329T010000
END:DAYLIGHT
BEGIN:STANDARD
TZOFFSETFROM:+0200
TZOFFSETTO:+0100
TZNAME:CET
DTSTART:20261025T010000
END:STANDARD
END:VTIMEZONE
BEGIN:VEVENT
DTSTART;VALUE=DATE:20260708
DTEND;VALUE=DATE:20260709
DTSTAMP:20260423T001006
CREATED:20260324T104024Z
LAST-MODIFIED:20260324T104024Z
UID:10741-1783468800-1783555199@altmusic.wroclaw.pl
SUMMARY:New Model Army
DESCRIPTION:Śr\, 8 lip o 18:00  NEW MODEL ARMY – Official Event – 8.07.2026\, A2\, Wrocław \n \n  \nNew Model Army wraca do Polski. Brytyjską ikonę post-punka zobaczymy na trzech koncertach:\n🗓️ 6 lipca | Białystok\, Zmiana Klimatu\n🗓️ 7 lipca | Warszawa\, Progresja\n🗓️ 8 lipca | Wrocław\, A2\n🎫 Bilety już w sprzedaży na LiveNation.pl \nPonad czterdzieści lat działalności i nieposzlakowana reputacja. New Model Army to gwarancja szczerości\, surowych emocji i pełnej twórczej niezależności. Najlepszym tego dowodem niech będzie wydany przed dwoma laty\, ostatni album Unbroken\, który spokojnie postawić można obok szczytowych dokonań Brytyjczyków\, jak The Ghost of Cain (1986)\, Thunder and Consolation (1989) czy Winter (2016). Oparta o tradycyjnie rockowy rdzeń oraz do głębi poruszające teksty i głos Justina Sullivana płyta brzmi według samych twórców jak New Model Army… tyle że znów inaczej.\nTo podejście zdaje się wychodzić Brytyjczykom na dobre. Unbroken zadebiutowała na 8. miejscu Official Albums Chart w Zjednoczonym Królestwie\, zajmując wysokie pozycje w krajach takich jak Niemcy\, Szwajcaria czy Polska.\nWystępy New Model Army przyciągają pod scenę przedstawicieli kilku pokoleń\, co najlepiej świadczy o tym\, że poetycka formuła Sullivana i spółki wciąż działa bez zarzutu.\n🎥 Coming or Going (Official Video): \n\n—\nFB: https://www.facebook.com/NewModelArmyOfficial\nIG: @newmodelarmy
URL:https://altmusic.wroclaw.pl/koncert/new-model-army/
LOCATION:A2\, Góralska 5\, Wrocław\, Poland
END:VEVENT
BEGIN:VEVENT
DTSTART;VALUE=DATE:20260713
DTEND;VALUE=DATE:20260714
DTSTAMP:20260423T001006
CREATED:20260324T140430Z
LAST-MODIFIED:20260324T140430Z
UID:10752-1783900800-1783987199@altmusic.wroclaw.pl
SUMMARY:Suzanne Vega
DESCRIPTION:Pon\, 13 lip o 18:00 Suzanne Vega: „Flying With Angels” Tour / Wrocław / Narodowe Forum Muzyki \n \nSuzanne Vega zagra koncert\, który obejmie nieśmiertelne hity takie jak „Tom’s Diner”\, „Luka”\, „Marlene On The Wall” i wiele innych. Do nich dojdą także utwory z albumu „Flying with Angels”\, który ukazał się w ubiegłym roku. Na scenie towarzyszyć jej będą gitarzysta\, Gerry Leonard (znany m.in. ze współpracy z Davidem Bowie) oraz wiolonczelistka\, Stephanie Winters. Ten wieczór będzie niezapomniany\, pełen subtelności i emocji. \nSUZANNE VEGA (USA) singer-songwriter\, folk\, pop:\nUznawana za jedną z czołowych autorek tekstów swojego pokolenia\, Suzanne Vega stała się czołową postacią odrodzenia folku na początku lat 80. Od czasu debiutanckiego albumu z 1985 roku\, wydanego pod jej imieniem i nazwiskiem\, dała wyprzedane koncerty w najbardziej znanych salach na świecie.\nhttps://www.facebook.com/SuzanneVegaFanPage\n\nhttps://www.instagram.com/therealsuzannevega/ \n🎟 𝗕𝗶𝗹𝗲𝘁𝘆 | 𝗧𝗶𝗰𝗸𝗲𝘁𝘀 (wyłącznie miejsca siedzące):\n– 4 marca (10:00) – start sprzedaży biletów w trybie Artist Presale\n– 6 marca (10:00) – regularna sprzedaż biletów \nUWAGA! 🎟️ Prosimy o kupowanie biletów wyłącznie w autoryzowanych sklepach wyznaczonych powyżej.\nATTENTION! 🎟️ We kindly request you to purchase your tickets only through authorized stores listed above.\n⚠️ Regulamin | Regulations: https://knockoutprod.net/pl/page/regulamin \n🤘 Organizator | Host:\nKnock Out Productions\nhttp://www.knockoutprod.net\nhttps://www.facebook.com/productions.knock.out\nhttps://www.instagram.com/knockoutprod
URL:https://altmusic.wroclaw.pl/koncert/suzanne-vega/
LOCATION:Narodowe Forum Muzyki\, plac Wolności 1\, Wrocław\, Poland
END:VEVENT
BEGIN:VEVENT
DTSTART;VALUE=DATE:20260726
DTEND;VALUE=DATE:20260727
DTSTAMP:20260423T001006
CREATED:20260410T092658Z
LAST-MODIFIED:20260410T092658Z
UID:10923-1785024000-1785110399@altmusic.wroclaw.pl
SUMMARY:Liturgy (USA) + xDZVONx
DESCRIPTION:Nie\, 26 lip o 19:00 / Liturgy (USA) + xDZVONx / 26.07 Wrocław / Klub Łącznik \nLiturgy to projekt Haeli Ravenna Hunt-Hendrix — wizjonerki\, której pełna tęsknoty i energii wizja „transcendentalnego black metalu” rozciąga się gdzieś pomiędzy metalem\, muzyką artystyczną a sakralnym rytuałem. Obecny skład tworzą Mario Miron (gitara)\, Tia Vincent-Clark (bas) oraz Leo Didkovsky (perkusja). \n\nhttps://www.instagram.com/litvrgy/ \nZespół zdobył uznanie dzięki nietuzinkowym połączeniu szczerych emocji\, kompozycyjnej złożoności\, stylistycznej odwagi i hipnotyzującej\, intensywnej energii scenicznej. Liturgy to jednocześnie medium i scena — przestrzeń\, w której dramat spotyka się z teologią\, a koncert zamienia się w doświadczenie niemal mistyczne.\nProjekt narodził się w 2005 roku w duchu brooklyńskiej sceny DIY jako solowa inicjatywa Hunt-Hendrix\, w czasie gdy studiowała filozofię i kompozycję klasyczną na Columbia University. Już w 2009 roku artystka wywołała gorącą debatę w świecie muzyki swoim manifestem „Transcendental Black Metal”.\nPo przekształceniu w kwartet\, Liturgy wstrząsnęło sceną międzynarodową albumem Aesthethica (2011)\, który odważnie połączył black metal z math rockiem\, nasycając tę formę zaskakująco czułą\, emocjonalną energią. Kolejne wydawnictwo\, ambitne The Ark Work (2015)\, wzbudziło kontrowersje dzięki włączeniu elementów IDM i trapu do ich języka muzycznego.\nJesienią 2019 roku zespół umocnił swoją wizję dzięki znakomicie przyjętemu albumowi H.A.Q.Q.\, powiązanemu z filozoficzną serią wykładów publikowanych na YouTube. W listopadzie 2020 ukazało się ich piąte dzieło — operowe Origin of the Alimonies\, nagrane z ośmioosobowym zespołem kameralnym i zaprezentowane na festiwalu Roadburn w 2021 roku jako muzyka na żywo do filmu stworzonego przez Hunt-Hendrix.\nPo indywidualnej wystawie rzeźby w 2022 roku\, rok później światło dzienne ujrzał album 93696\, który zapoczątkował rozległą trasę koncertową obejmującą cały świat — potwierdzając\, że Liturgy to nie tylko zespół\, lecz zjawisko\, które najlepiej przeżywa się na żywo. \n+ support xDZVONx\n\nhttps://www.instagram.com/xdzvonx/ \nWyciągnięci z otchłani wrocławskiego podziemia i po dłuższej przerwie od 71 wracają na scenę Łącznika z ich mroczną mieszanką psychodelicznych dźwięków. Gdyby brudna piwnica DK Luksus była gatunkiem\, to właśnie grają Dzvony. Witch house\, black metal\, trap\, odnajdują się znakomicie u boku każdego artysty\, połączenie ich z Liturgy wydaje się więc sprawą oczywistą.\n+++++++++++++\n26.07.26 (niedziela)\nKlub Łącznik\nTramwajowa 1-3\, Wrocław\nbramka: 19:00\nxDZVONx: 19:30\nLiturgy 20:30\nbilety: 95zł (stage24.pl) / 120zł (bramka) \n 
URL:https://altmusic.wroclaw.pl/koncert/liturgy-usa-xdzvonx/
LOCATION:Łącznik / Czasoprzestrzeń\, Tramwajowa 1-3\, Wrocław\, Poland
END:VEVENT
BEGIN:VEVENT
DTSTART;VALUE=DATE:20260731
DTEND;VALUE=DATE:20260801
DTSTAMP:20260423T001006
CREATED:20260324T151556Z
LAST-MODIFIED:20260324T151556Z
UID:10757-1785456000-1785542399@altmusic.wroclaw.pl
SUMMARY:CROWBAR
DESCRIPTION:🚨75% sold\nCiężki\, powolny i pełen tłustych riffów wieczór w środku lata? Brzmi jak doskonały plan\, szczególnie jeśli mowa o koncercie legendy sludge’u🔥 Crowbar powracają do Polski i 31 lipca wystąpią w Zaklętych Rewirach we Wrocławiu.\nCrowbar powstali w 1990 roku na gruzach The Slugs. Wraz z wydaniem debiutanckiego albumu “Obedience Thru Suffering” dali początek gatunkowi NOLA sludge. “This music is slow and fat” – tak Beavis and Butt-Head komentowali dźwięki “Existence is Punishment” z drugiej\, wyprodukowanej przez Phila Anselmo płyty załogi Kirka Windsteina i chyba ciężko o lepszy opis jej twórczości.\nGrupa z Nowego Orleanu od blisko 4 dekad stoi na straży sludge metalu\, a w tym czasie przez jej szeregi przewinęli się m.in. muzycy Acid Bath\, Pantery\, czy Black Label Society. Crowbar to żywa marka ciężkiego grania\, która każdą kolejną płytą umacnia swoją legendę. Ich koncerty nigdy nie zawodzą\, o czym kolejny raz będziecie mogli się przekonać ostatniego dnia lipca we wrocławskich Zaklętych Rewirach.\nCROWBAR\n📅31.07.2026 / Wrocław\, Zaklęte Rewiry\n🎟BILETY: https://bit.ly/CROWBAR_WRO\n🎫Punkty sprzedaży: www.winiarybookings.pl\, Going\, Empik Bilety\, Eventim\, Ebilet\, Ticketmaster\n⚠️Szanowni Państwo. Prosimy o kupowanie biletów wyłącznie w autoryzowanych punktach sprzedaży. Poprzez kupno wejściówek od osób trzecich możecie zostać Państwo oszukani.⚠️\n❌Wstęp na koncert 13+ za pisemną zgodą rodzica. Poniżej 13 lat\, wymagana obecność pełnoprawnego opiekuna.\nWzór zgody: https://bit.ly/pisemna_zgoda_rodzica_wb\n📄Regulamin wydarzenia: https://bit.ly/regulamin_wydarzenia_wb\n🌿W trosce o środowisko zachęcamy Was do pokazywania biletów na telefonie zamiast ich drukowania. \n➡ CROWBAR (USA) – sludge metal\n🌐https://www.facebook.com/crowbarmusic\n🌐https://www.instagram.com/crowbarmusic/\n🔊”Repulsive in Its Splendid Beauty”: \n\n🔊”Existence is Punishment”: \n\n🔊”Bleeding From Every Hole” : \n\n—————————————\nWpadaj na Instagram➡http://bit.ly/Nasz-instagram\nPolub nasz profil➡http://bit.ly/Nasz–Facebook
URL:https://altmusic.wroclaw.pl/koncert/crowbar/
LOCATION:ZAKLĘTE REWIRY\, Krakowska 100\, Wrocław\, Poland
END:VEVENT
END:VCALENDAR