BEGIN:VCALENDAR
VERSION:2.0
PRODID:-//Altmusic - Only Music Can Save Us - ECPv6.11.2//NONSGML v1.0//EN
CALSCALE:GREGORIAN
METHOD:PUBLISH
X-ORIGINAL-URL:https://altmusic.wroclaw.pl
X-WR-CALDESC:Events for Altmusic - Only Music Can Save Us
REFRESH-INTERVAL;VALUE=DURATION:PT1H
X-Robots-Tag:noindex
X-PUBLISHED-TTL:PT1H
BEGIN:VTIMEZONE
TZID:Europe/Warsaw
BEGIN:DAYLIGHT
TZOFFSETFROM:+0100
TZOFFSETTO:+0200
TZNAME:CEST
DTSTART:20260329T010000
END:DAYLIGHT
BEGIN:STANDARD
TZOFFSETFROM:+0200
TZOFFSETTO:+0100
TZNAME:CET
DTSTART:20261025T010000
END:STANDARD
END:VTIMEZONE
BEGIN:VEVENT
DTSTART;VALUE=DATE:20260613
DTEND;VALUE=DATE:20260614
DTSTAMP:20260422T023405
CREATED:20260323T154115Z
LAST-MODIFIED:20260323T154115Z
UID:10717-1781308800-1781395199@altmusic.wroclaw.pl
SUMMARY:KIELICHY LP "SAWANT" RELEASE PARTY + STRANGERS IN NAME + OLGHA
DESCRIPTION:Sob\, 13 cze o 20:00 KIELICHY LP „SAWANT” RELEASE PARTY + STRANGERS IN NAME + OLGHA | STARY KLASZTOR 13.06 Sala Witrażowa · Wrocław \nZespół Kielichy serdecznie zaprasza na imprezę premierową swojego debiutanckiego LP.\nZagrają: \n🍷 KIELICHY\nWrocławsko-Krakowski kwintet\, który przeszedł już kilka stylistycznych tranzycji (dokumentują je dotychczasowe dwie EP’ki – s/t oraz „Punkty Płonące”)\, jednak każda inkarnacja wyznaczona jest wspólnym mianownikiem – nastrojem ulokowanym gdzieś między melancholią\, a ekstazą\, oraz żarliwymi i introspektywnymi tekstami. Brzmienie zespołu oparte jest na transowej sekcji rytmicznej\, ekspresyjnych gitarach i nieoczywistych aranżach. Zespół na scenie zamienia się w jeden\, wspólnie oddychający organizm\, a każdy koncert grany jest tak jakby miał być tym ostatnim.\nDebiutancki LP Kielichów- SAWANT\, ukaże się 13 czerwca. Na najnowszym materiale zespół zaprezentuje się w swojej najintensywniejszej\, niemal rytualistycznej formie.\nUwaga! Na koncertach bywa głośno – stopery mogą się przydać:)\nhttps://www.instagram.com/kielichyband/\n \n🎭 STRANGERS IN NAME\nNowy duet (wspierany przez Oskara Karskiego na saksofonie) wywodzący się z otchłani Warszawskiego podziemia. Emocjonalne teksty ubrane w zawiłe kompozycje tworzą tajemnicę\, która obiecuje głęboką podróż godną uwagi.\nDebiut – “System of Release” to doświadczenie zawodzącego saksofonu\, pordzewiałych głosów i rozdartych gitar.\nJak byśmy to zgatunkowali? Nie wiemy.\nPrzyjdź\, doświadcz\, poczuj\, sam oceń.\nhttps://www.instagram.com/strangersinname/\n \n🦅 OLGHA\nto jednoosobowy włosko-polski projekt muzyczny Olgierda Ferenca. Koncerty Olghi są wyjątkowym doświadczeniem dla fanów retro brzmień lat 80. oraz mrocznych atmosfer. W swojej muzyce artysta łączy melancholijne elementy minimal synth popu z głębią darkwave’u. Teksty utworów pisane są zarówno po włosku\, jak i po polsku\, co odzwierciedla podwójną tożsamość projektu. Istota Olgha tkwi w kontraście pomiędzy nostalgią za przeszłością a poszukiwaniem współczesnego brzmienia. Niedawno Olgha dołączył do wytwórni Stanze Fredde.\nhttps://www.instagram.com/olghamusic/\n \n📅 13.06.2026 (piątek)\, godz. 20:00 (bramka 19:00)\n🐲 Stary Klasztor – Sala Witrażowa\n🏭 ul. Purkyniego 1\, Wrocław\n🎟️ Wstęp:\nBilety online.\nmiejsca siedzące przy stoliku: 50 zł – I Pula\nmiejsca stojące: 40 zł – I pula\nBilety w dniu wydarzenia.\nmiejsca siedzące przy stoliku: 60 zł – II Pula\nmiejsca stojące: 40 zł – II pula
URL:https://altmusic.wroclaw.pl/koncert/kielichy-lp-sawant-release-party-strangers-in-name-olgha/
LOCATION:Stary Klasztor\, ul. Purkyniego 1\, Wrocław\, Poland
END:VEVENT
END:VCALENDAR