BEGIN:VCALENDAR
VERSION:2.0
PRODID:-//Altmusic - Only Music Can Save Us - ECPv6.11.2//NONSGML v1.0//EN
CALSCALE:GREGORIAN
METHOD:PUBLISH
X-ORIGINAL-URL:https://altmusic.wroclaw.pl
X-WR-CALDESC:Events for Altmusic - Only Music Can Save Us
REFRESH-INTERVAL;VALUE=DURATION:PT1H
X-Robots-Tag:noindex
X-PUBLISHED-TTL:PT1H
BEGIN:VTIMEZONE
TZID:Europe/Warsaw
BEGIN:DAYLIGHT
TZOFFSETFROM:+0100
TZOFFSETTO:+0200
TZNAME:CEST
DTSTART:20260329T010000
END:DAYLIGHT
BEGIN:STANDARD
TZOFFSETFROM:+0200
TZOFFSETTO:+0100
TZNAME:CET
DTSTART:20261025T010000
END:STANDARD
END:VTIMEZONE
BEGIN:VEVENT
DTSTART;VALUE=DATE:20260529
DTEND;VALUE=DATE:20260530
DTSTAMP:20260421T213717
CREATED:20260413T074813Z
LAST-MODIFIED:20260413T074813Z
UID:10955-1780012800-1780099199@altmusic.wroclaw.pl
SUMMARY:TENEMIK
DESCRIPTION:Pt\, 29 maj o 20:00 // Klub Szalonych presents: TENEMIK // Ruska 47/48a\, Wroclaw\, Poland \n \nDrzwi / doors: 20:00\nkoncert: 21:00\nwlota / fee: 50pln\n———————\nTENEMIK\nTenemik brzmi lekko i spontanicznie\, choć za tą swobodą kryją się doświadczenie\, skupienie i rzemiosło. To muzyka zakorzeniona w dźwiękowym dialogu\, w której dubowe głębie i drony spotykają się z transową motoryką i brzmieniem analogowych maszyn — coś\, co sami twórcy nazywają krautdubem.\nIch debiutancki album ‘Bemenet / Kimenet’ to efekt partnerskiej pracy i zaufania.\n—\nTenemik tworzą Petr YAC i Maciek Polak\, a koncertowo na perkusji wspiera ich Szymon Dobrochoczy \nPetr YAC\nŻyje na pograniczu — geograficznie i dźwiękowo. Od lat buduje własny świat pomiędzy dubem\, dronem i minimalizmem\, gdzie\ndelay i pogłos nie są efektami\, lecz sposobem myślenia. W jego muzyce rytm zawsze wynika z przestrzeni\, a przestrzeń z ciała dźwięku. Tworzy intuicyjnie\, traktując studio jak instrument\, w którym każdy szum i przypadek ma znaczenie. YAC jest jednym z tych producentów\, którzy nie odtwarzają dubu\, lecz go dekonstruują — aż do momentu\, gdy zostaje tylko puls i powietrze. W duecie Tenemik przenosi to podejście na żywą wymianę z Maćkiem Polakiem: analogowe spotkania bez planu\, gdzie decyzje\nzapadają w czasie rzeczywistym\, a granica między improwizacją a kompozycją całkowicie się rozmywa. \n  \nMaciek Polak \nOd prawie trzydziestu lat żyje światem analogowych syntezatorów. Jako założyciel Analogia.pl – jednej z nielicznych firm w Europie specjalizujących się w renowacji tych instrumentów – na co dzień przywraca do życia klasyki. Nie jest muzykiem z wykształcenia i nie postrzega siebie jako artysty; jego podejście do dźwięku pozostaje intuicyjne\, bezpretensjonalne i pozbawione pozy. Jego album 1972 – stworzony w całości na EMS Synthi AKS – był ukłonem w stronę tego instrumentu i procesu samego tworzenia. Następca\, 1977\, powstał wokół Korgów serii PS\, kontynuując ideę ograniczenia środków na rzecz pełnego zanurzenia w brzmieniu. W Tenemik Polak łączy to doświadczenie z otwartością na dialog – gra z lekkością\, ale nigdy bez celu\, zachowując równowagę między rzemiosłem a spontanicznością. \n➔ https://www.instagram.com/tenemik\n➔ https://www.instagram.com/analogia.pl\n➔ https://www.instagram.com/petr.yac \nTENEMIK – Bemenet / Kimenet\nlabel: Coastline Northern Cuts\nRelease Date: 14.11.2025 (vinyl / CD / digital)\n● Bandcamp: https://bit.ly/tenemik-bk\n● Platformy streamingowe: https://ffm.to/tenemik-bk
URL:https://altmusic.wroclaw.pl/koncert/tenemik/
LOCATION:Klub Szalonych\, Ruska 47/48A\, Wrocław\, Poland
END:VEVENT
END:VCALENDAR