BEGIN:VCALENDAR
VERSION:2.0
PRODID:-//Altmusic - Only Music Can Save Us - ECPv6.11.2//NONSGML v1.0//EN
CALSCALE:GREGORIAN
METHOD:PUBLISH
X-ORIGINAL-URL:https://altmusic.wroclaw.pl
X-WR-CALDESC:Events for Altmusic - Only Music Can Save Us
REFRESH-INTERVAL;VALUE=DURATION:PT1H
X-Robots-Tag:noindex
X-PUBLISHED-TTL:PT1H
BEGIN:VTIMEZONE
TZID:Europe/Warsaw
BEGIN:DAYLIGHT
TZOFFSETFROM:+0100
TZOFFSETTO:+0200
TZNAME:CEST
DTSTART:20260329T010000
END:DAYLIGHT
BEGIN:STANDARD
TZOFFSETFROM:+0200
TZOFFSETTO:+0100
TZNAME:CET
DTSTART:20261025T010000
END:STANDARD
END:VTIMEZONE
BEGIN:VEVENT
DTSTART;VALUE=DATE:20260508
DTEND;VALUE=DATE:20260510
DTSTAMP:20260424T123845
CREATED:20260218T083029Z
LAST-MODIFIED:20260218T083103Z
UID:10477-1778198400-1778371199@altmusic.wroclaw.pl
SUMMARY:Death Is Not The End (Chapter Three) / 8-9 Maj
DESCRIPTION:Pt\, 8 maj o 16:00 / Death Is Not The End (Chapter Three) – 8-9 Maj – Wrocław – Łącznik \nDismal Thoughts by ABYSMAL DESCENT \nDwa dni\, 14 death metalowych strzałów ze światowego podziemia.\n💀 FERAL FORMS (Italy)\nhttps://feralforms.bandcamp.com/\n💀 DEGRAVED (U.S.A.)\nhttps://degraved.bandcamp.com/\n💀 DEAD CONGREGATION (Greece)\nhttps://deadcongregation.bandcamp.com/\n💀 HROB (Slovakia)\nhttps://hrob.bandcamp.com/\n💀 FESSUS (Austria)\nhttps://fessusdarknessshallrise.bandcamp.com/\n💀 WARP CHAMBER (USA)\nhttps://warpchamber.bandcamp.com/\n💀 COSCRADH (Ireland)\nhttps://coscradh.bandcamp.com/\n💀 GOLEM OF GORE (Italy)\nhttps://golemofgore.bandcamp.com/\n💀 ABYSMAL DESCENT (Belgium)\nhttps://nuclearwinterrecords.bandcamp.com/…/dismal…\n💀 PHRENELITH (Denmark)\nhttps://phrenelith.bandcamp.com/\n💀 HALLUCINATE (Germany)\nhttps://hallucinatedeath.bandcamp.com/\n💀 BLOODSOAKED NECROVOID (Costa Rica)\nhttps://bloodsoakednecrovoid.bandcamp.com/
URL:https://altmusic.wroclaw.pl/koncert/death-is-not-the-end-chapter-three-8-9-maj/
LOCATION:Łącznik / Czasoprzestrzeń\, Tramwajowa 1-3\, Wrocław\, Poland
END:VEVENT
BEGIN:VEVENT
DTSTART;VALUE=DATE:20260509
DTEND;VALUE=DATE:20260510
DTSTAMP:20260424T123845
CREATED:20260224T095428Z
LAST-MODIFIED:20260224T095428Z
UID:10549-1778284800-1778371199@altmusic.wroclaw.pl
SUMMARY:Zespół Sztylety\, Allarme\, Seks w Czasach Wojny
DESCRIPTION:Sob\, 9 maj o 19:00 PRZYJEMNIE JUŻ BYŁO| Zespół Sztylety\, Allarme\, Seks w Czasach Wojny| 09.05.2026 CRK – Wrocław \n🗡️🐪 PRZYJEMNIE JUŻ BYŁO TOUR🐪🗡️\nZespół Sztylety wybudza się z zimowego snu\, by ruszyć w Polskę ze swoją trzecią płytą.\n„Wszystkie rany niezabliźnione” to podróż w sam głąb cierpienia. Przeprawa przez wszystko\, co nas kłuje\, gnębi\, boli i doprowadza do szaleństwa. Brzmi zachęcająco? Jeśli tak\, nie może was zabraknąć na wiosennych koncertach.\nWspółtowarzyszami niedoli będą genialni Allarme. Grupa w zeszłym roku wydała najnowszy krążek\, „Bruit”. To jedna z najlepszych płyt w swojej kategorii wagowej\, gdzie Brygada Kryzys idzie na randkę ze Swans w autorskim i świeżym miksie.\nCo nas czeka? \n🗡️ Zespół Sztylety (Gdańsk) post-hc/noise rock/emo\nW każdym z nich jest element wariata. Pełne emocji teksty\, energiczne koncerty i muzyka\, która przeplata zimne brzmienie czystej gitary z wściekłym przesterem. Jeśli ich nie widziałxś\, musisz nadrobić. Jeśli widziałxś\, pewnie nie możesz się już doczekać.\nhttps://www.facebook.com/sztyletyzespol\n\nhttps://www.instagram.com/zespolsztylety/\nFFO: Touché Amoré\, Drug Church\, A Place to Bury Strangers \n  \n🐪 Allarme (Warszawa) post-punk/no wave/noise rock\nPolski towar eksportowy i młoda nadzieja hałaśliwego grania. Objechali całą Europe i są gotowi wrócić do rodzinnego kraju. Allarme zabierze cię w zupełnie inny świat\, zatopi w niepokojących dźwiękach\, uwięzi w klatce\, a gdy wszystko się skończy\, będziecie chcieli wiecęj.\nhttps://www.facebook.com/allarmenoise\n\nhttps://www.instagram.com/allarme_noise/\nFFO: Brygada Kryzys\, Swans\, Black Midi \n  \n🦇 Seks w Czasach Wojny (Busko Zdrój) pop punk/emo\nPiękni\, młodzi\, smutni i przebojowi. Seks w Czasach Wojny szturmuje wszystko i wszystkich na swojej drodze\, zdobywając każdego niezaprzeczalną charyzmą. Wpadnijcie\, dajcie się im zarazić. Obiecujemy\, że będzie warto.\nhttps://www.facebook.com/swcwband\n\nhttps://www.instagram.com/seks_wczasachwojny/\nFFO: Sum41\, Avril Lavigne\, Misfits\nGdzie? CRK\nIle? 50 zł
URL:https://altmusic.wroclaw.pl/koncert/zespol-sztylety-allarme-seks-w-czasach-wojny/
LOCATION:CRK\, ul. Jagiellończyka 10 c/d\, Wrocław\, Poland
END:VEVENT
BEGIN:VEVENT
DTSTART;VALUE=DATE:20260509
DTEND;VALUE=DATE:20260510
DTSTAMP:20260424T123845
CREATED:20260423T105240Z
LAST-MODIFIED:20260423T105240Z
UID:11006-1778284800-1778371199@altmusic.wroclaw.pl
SUMMARY:NEVMESTE / VREMYA LYUBIT / DINOZAVR
DESCRIPTION:Sob\, 9 maj o 20:00 NEVMESTE / VREMYA LYUBIT / DINOZAVR – ALIVE\nAlive · Wrocław \n \nPierwszy we Wroclawiu mini-festiwal niezależnej muzyki z udziałem indie-rockowych zespołów NIEWMIESTE (Wrocław)\, Vremya Lyubit (Kraków) i DINOZAVR (Ryga)\nNEVMESTE — twórcze zrzeszenie muzyków z różnych zakątków Ukrainy\, w tym z Charkowa\, Mikołajowa\, Odessy\, Winnicy i Dniepru. Założony w 2024 roku we Wrocławiu zespół rozpoczął swoją drogę w branży muzycznej przy wsparciu niezależnej ukraińskiej wytwórni Aurora Records i aktywnie zdobywa nowych słuchaczy \nVREMYA LYUBIT — pop-rockowy zespół z Krakowa\, młoda i obiecująca grupa z przytulnymi piosenkami o młodości\, spontaniczności i poszukiwaniu szczęścia w tym surowym świecie \nDINOZAVR — ciężki alternatywny rock z wilgotnych krajów bałtyckich. Bezkompromisowe teksty z ogłuszającym instrumentarium. Po raz pierwszy w Krakowie\, z nową muzyką z nadchodzącego albumu \n \n  \nПервый во Вроцлаве мини-фестиваль независимой музыки с участием инди-рок групп НЕВМЕСТЕ (Вроцлав)\, Время Любить (Краков) и DINOZAVR (Рига)\nНЕВМЕСТЕ — творческое объединение музыкантов из разных уголков Украины\, включая Харьков\, Николаев\, Одессу\, Винницу и Днепр. Основанная в 2024 году в польском Вроцлаве\, группа начала свой путь в музыкальную индустрию при поддержке независимого украинского лейбла Aurora Records и активно набирает новых слушателей\nВРЕМЯ ЛЮБИТЬ — поп-рок коллектив из Кракова\, молодая и перспективная группа с уютными песнями про молодость\, спонтанность и поиск счастья в этом суровом мире\nDINOZAVR — грузный альтернативный рок из промозглой Прибалтики. Бескомпромиссные текста с оглушающим инструменталом. Впервые во Вроцлаве\, с новой музыкой из предстоящего альбома.\n📍Где?!\nВроцлав\, ul. Kolejowa 12\, Klub „Alive”\n🕒Когда?!\n9 мая 2026\,\nBramka – 19:00\nStart – 20:00\n💸 Сколько стоит!?\nПул I – 30zł\nПул II – (40zł на входе) \n[PL]\nPierwszy we Wroclawiu mini-festiwal niezależnej muzyki z udziałem indie-rockowych zespołów NIEWMIESTE (Wrocław)\, Vremya Lyubit (Kraków) i DINOZAVR (Ryga)\nNEVMESTE — twórcze zrzeszenie muzyków z różnych zakątków Ukrainy\, w tym z Charkowa\, Mikołajowa\, Odessy\, Winnicy i Dniepru. Założony w 2024 roku we Wrocławiu zespół rozpoczął swoją drogę w branży muzycznej przy wsparciu niezależnej ukraińskiej wytwórni Aurora Records i aktywnie zdobywa nowych słuchaczy \nVREMYA LYUBIT — pop-rockowy zespół z Krakowa\, młoda i obiecująca grupa z przytulnymi piosenkami o młodości\, spontaniczności i poszukiwaniu szczęścia w tym surowym świecie \nDINOZAVR — ciężki alternatywny rock z wilgotnych krajów bałtyckich. Bezkompromisowe teksty z ogłuszającym instrumentarium. Po raz pierwszy w Krakowie\, z nową muzyką z nadchodzącego albumu\n📍Gdzie?!\nWroclaw\, ul. Kolejowa 12\, Klub „Alive”\n🕒Kiedy?!\n9 maja 2026\,\nBramka – 19:00\nStart – 20:00\n💸 Ile kosztuje?!\nPula I – 30 zł\nPula II – (40zł przy wieściu)
URL:https://altmusic.wroclaw.pl/koncert/nevmeste-vremya-lyubit-dinozavr/
LOCATION:Alive\, Kolejowa 12\, Wrocław\, Poland
END:VEVENT
END:VCALENDAR