BEGIN:VCALENDAR
VERSION:2.0
PRODID:-//Altmusic - Only Music Can Save Us - ECPv6.11.2//NONSGML v1.0//EN
CALSCALE:GREGORIAN
METHOD:PUBLISH
X-WR-CALNAME:Altmusic - Only Music Can Save Us
X-ORIGINAL-URL:https://altmusic.wroclaw.pl
X-WR-CALDESC:Events for Altmusic - Only Music Can Save Us
REFRESH-INTERVAL;VALUE=DURATION:PT1H
X-Robots-Tag:noindex
X-PUBLISHED-TTL:PT1H
BEGIN:VTIMEZONE
TZID:Europe/Warsaw
BEGIN:DAYLIGHT
TZOFFSETFROM:+0100
TZOFFSETTO:+0200
TZNAME:CEST
DTSTART:20260329T010000
END:DAYLIGHT
BEGIN:STANDARD
TZOFFSETFROM:+0200
TZOFFSETTO:+0100
TZNAME:CET
DTSTART:20261025T010000
END:STANDARD
END:VTIMEZONE
BEGIN:VEVENT
DTSTART;VALUE=DATE:20260506
DTEND;VALUE=DATE:20260507
DTSTAMP:20260421T231927
CREATED:20260218T083951Z
LAST-MODIFIED:20260218T083951Z
UID:10482-1778025600-1778111999@altmusic.wroclaw.pl
SUMMARY:Opal In Sky (CA) + Sharks In Your Mouth (IT) + Protect This City + Netherless
DESCRIPTION:Śr\, 6 maj o 19:00 Opal In Sky (CA) + Sharks In Your Mouth (IT) + Protect This City + Netherless / 6.05 Wrocław Klub Łącznik \n  \nZapraszamy na 2 koncerty długo wyczekiwanej w Polsce grupy! \n \nOpal In Sky to kanadyjski zespół poruszający się w klimatach nowoczesnego metalu/metalcore’u. Liderami grupy są bliźniacy Dylon i Tyson\, którzy łączą potężne riffy z podnoszącymi na duchu\, introspektywnymi tekstami tworząc brzmienie\, które jest jednocześnie ciężkie jak i pełne nadziei. Misją braci jest tworzenie muzy\, która inspiruje\, motywuje i dodaje otuchy tym\, którzy mogą czuć się zagubieni. \nJako support wystąpią Sharks In Your Mouth z Włoch i Protect This City ze Złotowa!\nSharks In Your Mouth powstali w 2011 roku i łączą rap z metalkorem. Jedna z najbardziej rozpoznawalnych nazw włoskiej sceny! \n \nProtect This City to grupa przyjaciół i aktualnie również 2 braci\, którzy godnie reprezentują polską scenę metalcore. Mimo ciężkich riffów zapodają najbardziej melodyjne numery z całego pakietu. W 2026 będą świętować dekadę od wydania ich debiutanckiej EP-ki! \n \n++++++++++\n6.05.26 (wtorek)\nKlub Łącznik\nTramwajowa 1-3\, Wrocław\nbramka: 19:00\nstart: 19:30\nbilety: 85zł (przedsprzedaż) / 100zł (w dniu koncertu)
URL:https://altmusic.wroclaw.pl/koncert/opal-in-sky-ca-sharks-in-your-mouth-it-protect-this-city-netherless/
LOCATION:Łącznik / Czasoprzestrzeń\, Tramwajowa 1-3\, Wrocław\, Poland
END:VEVENT
BEGIN:VEVENT
DTSTART;VALUE=DATE:20260506
DTEND;VALUE=DATE:20260507
DTSTAMP:20260421T231927
CREATED:20260408T115906Z
LAST-MODIFIED:20260408T115906Z
UID:10896-1778025600-1778111999@altmusic.wroclaw.pl
SUMMARY:Alexander Flood
DESCRIPTION:Alexander Flood we Wrocławiu\nFlood\, prowadząc swój zespół jako perkusista\, wnosi świeży\, rytmiczny i dynamiczny wymiar muzyki tanecznej na żywo\, bazując na nu-jazzu\, house\, broken beat\, DnB i brzmieniach eksperymentalnych. \n  \n \nGdy perkusja prowadzi tłum…\nZespół Flooda zapewnia porywającą\, taneczną energię od początku do końca dzięki mistrzowskim partiom perkusji\, potężnemu basowi\, bujnej harmonii klawiszy i płynnym melodiom fletu jazzowego\, w których udział wzięli australijscy współpracownicy: Erica Tucceri\, Jake Amy i Dylan Paul. Grupa koncertowała w Europie\, Wielkiej Brytanii\, Nowej Zelandii i Australii w latach 2024 i 2025\, a także wydała w 2025 roku śmiały album Flooda „ARTIFACTUAL RHYTHM” nakładem Atjazz Record Company.\nSmak i dźwięk Wrocławia\nVertigo to miejsce\, gdzie muzyka na żywo spotyka się z nowoorleańską kuchnią i autorskimi koktajlami. To idealna propozycja na randkę lub wieczór z przyjaciółmi.\nBILETY: \nALEXANDER FLOOD \n \nBilety w cenie:\n– 89 PLN\n– 99 PLN\n– 109 PLN i są dostępne na naszej stronie oraz portalu ewejściówki.\nOprócz zakupu biletu możliwa jest również rezerwacja stolika – wynosi 15 zł od osoby i w jej ramach otrzymują Państwo powitalny drink. Jeśli posiadają już Państwo bilety\, a chcą dokonać rezerwacji\, prosimy pisać pod adres: rezerwacje@vertigojazz.pl\nWieczorami lokal przeznaczony jest dla osób pełnoletnich.\nEnglish version:\nAlexander Flood in Wrocław\nFlood\, leading his band as a drummer\, brings a fresh\, rhythmic\, and dynamic dimension to live dance music\, drawing on nu-jazz\, house\, broken beat\, DnB\, and experimental sounds.\nWhen the Drums Lead the Crowd…\nFlood’s band delivers an electrifying\, dance-driven energy from start to finish\, powered by masterful drum performances\, deep bass\, rich keyboard harmonies\, and flowing jazz flute melodies\, featuring Australian collaborators Erica Tucceri\, Jake Amy\, and Dylan Paul. The group toured across Europe\, the United Kingdom\, New Zealand\, and Australia in 2024 and 2025\, and in 2025 released Flood’s bold album ARTIFACTUAL RHYTHM under Atjazz Record Company. \n 
URL:https://altmusic.wroclaw.pl/koncert/alexander-flood/
LOCATION:Vertigo Jazz Club\, Oławska 13\, Wrocław\, Poland
END:VEVENT
END:VCALENDAR