BEGIN:VCALENDAR
VERSION:2.0
PRODID:-//Altmusic - Only Music Can Save Us - ECPv6.11.2//NONSGML v1.0//EN
CALSCALE:GREGORIAN
METHOD:PUBLISH
X-WR-CALNAME:Altmusic - Only Music Can Save Us
X-ORIGINAL-URL:https://altmusic.wroclaw.pl
X-WR-CALDESC:Events for Altmusic - Only Music Can Save Us
REFRESH-INTERVAL;VALUE=DURATION:PT1H
X-Robots-Tag:noindex
X-PUBLISHED-TTL:PT1H
BEGIN:VTIMEZONE
TZID:Europe/Warsaw
BEGIN:DAYLIGHT
TZOFFSETFROM:+0100
TZOFFSETTO:+0200
TZNAME:CEST
DTSTART:20260329T010000
END:DAYLIGHT
BEGIN:STANDARD
TZOFFSETFROM:+0200
TZOFFSETTO:+0100
TZNAME:CET
DTSTART:20261025T010000
END:STANDARD
END:VTIMEZONE
BEGIN:VEVENT
DTSTART;VALUE=DATE:20260505
DTEND;VALUE=DATE:20260506
DTSTAMP:20260421T231837
CREATED:20250911T132735Z
LAST-MODIFIED:20250911T132735Z
UID:9304-1777939200-1778025599@altmusic.wroclaw.pl
SUMMARY:𝗗𝗶𝗿𝘁𝘆 𝗦𝗼𝘂𝗻𝗱 𝗠𝗮𝗴𝗻𝗲𝘁 (Szwajcaria)
DESCRIPTION:Soulstone Gathering prestens:\n⚫ 𝗗𝗶𝗿𝘁𝘆 𝗦𝗼𝘂𝗻𝗱 𝗠𝗮𝗴𝗻𝗲𝘁 (Szwajcaria) – psychedelic rock:\nszwajcarskie trio zyskało uznanie dzięki hipnotyzującej muzyce i intensywnym\, nieprzewidywalnym występom na żywo. Każdy koncert DSM to połączenie charyzmy\, mistrzostwa instrumentalnego\, poetyckich tekstów i ogromnej energii.\nZespół tworzą Stavros Dzodzos (gitara\, wokal)\, Marco Mottolini (bas\, wokal wspierający) i Maxime Cosandey (perkusja\, wokal wspierający). Założyli go we Fryburgu jeszcze jako nastolatkowie. Ich muzyka czerpie z klasyki rocka – energii Led Zeppelin\, ciężaru Black Sabbath i mistycyzmu The Doors – a jednocześnie wyznacza własną\, nową ścieżkę z psychodelicznymi wpływami Tame Impala i King Gizzard & the Lizard Wizard oraz tekstami komentującymi współczesne społeczeństwo.\n📀 Szwajcarzy przyjeżdżają do Polski promować album „𝗠𝗲 𝗮𝗻𝗱 𝗠𝘆 𝗦𝗵𝗮𝗱𝗼𝘄”\, który ukaże się 30 stycznia 2026 roku.\n🎟️ Bilety już w sprzedaży na https://www.ebilet.pl/muzyka/rock/dirty-sound-magnet\n79 zł – przedsprzedaż\n90 zł – na bramce w dniu koncertu \n 
URL:https://altmusic.wroclaw.pl/koncert/%f0%9d%97%97%f0%9d%97%b6%f0%9d%97%bf%f0%9d%98%81%f0%9d%98%86-%f0%9d%97%a6%f0%9d%97%bc%f0%9d%98%82%f0%9d%97%bb%f0%9d%97%b1-%f0%9d%97%a0%f0%9d%97%ae%f0%9d%97%b4%f0%9d%97%bb%f0%9d%97%b2%f0%9d%98%81-szwa/
LOCATION:Łącznik / Czasoprzestrzeń\, Tramwajowa 1-3\, Wrocław\, Poland
END:VEVENT
END:VCALENDAR