BEGIN:VCALENDAR
VERSION:2.0
PRODID:-//Altmusic - Only Music Can Save Us - ECPv6.11.2//NONSGML v1.0//EN
CALSCALE:GREGORIAN
METHOD:PUBLISH
X-WR-CALNAME:Altmusic - Only Music Can Save Us
X-ORIGINAL-URL:https://altmusic.wroclaw.pl
X-WR-CALDESC:Events for Altmusic - Only Music Can Save Us
REFRESH-INTERVAL;VALUE=DURATION:PT1H
X-Robots-Tag:noindex
X-PUBLISHED-TTL:PT1H
BEGIN:VTIMEZONE
TZID:Europe/Warsaw
BEGIN:DAYLIGHT
TZOFFSETFROM:+0100
TZOFFSETTO:+0200
TZNAME:CEST
DTSTART:20260329T010000
END:DAYLIGHT
BEGIN:STANDARD
TZOFFSETFROM:+0200
TZOFFSETTO:+0100
TZNAME:CET
DTSTART:20261025T010000
END:STANDARD
END:VTIMEZONE
BEGIN:VEVENT
DTSTART;VALUE=DATE:20260502
DTEND;VALUE=DATE:20260503
DTSTAMP:20260421T130048
CREATED:20260323T114608Z
LAST-MODIFIED:20260323T114608Z
UID:10712-1777680000-1777766399@altmusic.wroclaw.pl
SUMMARY:Fuck Ageism Fest vol.2
DESCRIPTION:Sob\, 2 maj o 15:00 / Fuck Ageism Fest vol.2 / Centrum Reanimacji Kultury · Wrocław \n \n///MESS OF MANKIND (feminist d-beat DE)\nhttps://messofmankind.bandcamp.com/album/disxco\n///DEATHKNELL (powerviolence/hc PL)\nhttps://deathknellwarsaw.bandcamp.com/album/deathknell\n///ALTERI (black’n’crust DE)\nhttps://alteri.bandcamp.com/album/trauma\n///ANTI-SYSTEM(anarcho-punk UK)\n\n///SOW THE SEED\, REAP THE FEAR(emocrust/screamo PL)\n\n——————————————————\n///TAX:\n-Młodzież przed 18 : 40\,-\n-Młodzież po 18: 60\,-\n///Przed koncertami odbedzie się darmowy wykład i dyskusja spod ramion FA Wrocław\n///Zysk z imprezy w całości poświęcony zostanie na wsparcie lokalnych grup antyfaszystowskich oraz anarchistycznych\n///MORE INFO SOON\n///WIĘCEJ INFO WKRÓTCE
URL:https://altmusic.wroclaw.pl/koncert/fuck-ageism-fest-vol-2/
LOCATION:CRK\, ul. Jagiellończyka 10 c/d\, Wrocław\, Poland
END:VEVENT
BEGIN:VEVENT
DTSTART;VALUE=DATE:20260502
DTEND;VALUE=DATE:20260503
DTSTAMP:20260421T130048
CREATED:20260410T124740Z
LAST-MODIFIED:20260410T124836Z
UID:10932-1777680000-1777766399@altmusic.wroclaw.pl
SUMMARY:JOHN PORTER - HELICOPTERS ’45
DESCRIPTION:JOHN PORTER – HELICOPTERS ’45 we Wrocławiu! \n \nwROCKfest.pl zaprasza 2 maja do Sali Gotyckiej w Starym Klasztorze na koncert JOHN PORTER – HELICOPTERS ’45\nZ okazji 45-lecia albumu „Helicopters” Johna Portera przygotowano wyjątkowy koncert\, który zabierze słuchaczy w muzyczną podróż w czasie. Ten jubileusz to nie tylko świętowanie wydania legendarnego albumu\, ale również hołd dla długiej kariery artysty\, który na stałe wpisał się w historię rocka. Podczas koncertu usłyszymy nie tylko utwory z „Helicopters”\, ale również inne klasyki z bogatego repertuaru Johna Portera. To doskonała okazja\, aby na nowo odkryć magię muzyki Portera i podzielić się tym momentem z innymi miłośnikami jego twórczości. Płyta „Helicopters” uważana jest za podwaliny polskiego rocka lat 80-tych. \nSkład zespołu:\nJohn Porter – wokal\, gitary\nKrzysztof Łochowicz – gitary\nJacek Szafraniec – bas\nRobert Rasz – perkusja\nKuba Sosulski – realizator nagłośnienia\nRobert Bernat – realizator oświetlenia\n2.05.26 godz.20.00 Sala Gotycka w Starym Klasztorze\, ul. Purkyniego 1\nJOHN PORTER HELICOPTERS ’45\nmiejsca siedzące: 150 zł – I pula\nmiejsca stojące: 100 zł – I pula
URL:https://altmusic.wroclaw.pl/koncert/john-porter-helicopters-45-2/
LOCATION:Stary Klasztor\, ul. Purkyniego 1\, Wrocław\, Poland
END:VEVENT
END:VCALENDAR