BEGIN:VCALENDAR
VERSION:2.0
PRODID:-//Altmusic - Only Music Can Save Us - ECPv6.11.2//NONSGML v1.0//EN
CALSCALE:GREGORIAN
METHOD:PUBLISH
X-WR-CALNAME:Altmusic - Only Music Can Save Us
X-ORIGINAL-URL:https://altmusic.wroclaw.pl
X-WR-CALDESC:Events for Altmusic - Only Music Can Save Us
REFRESH-INTERVAL;VALUE=DURATION:PT1H
X-Robots-Tag:noindex
X-PUBLISHED-TTL:PT1H
BEGIN:VTIMEZONE
TZID:Europe/Warsaw
BEGIN:DAYLIGHT
TZOFFSETFROM:+0100
TZOFFSETTO:+0200
TZNAME:CEST
DTSTART:20260329T010000
END:DAYLIGHT
BEGIN:STANDARD
TZOFFSETFROM:+0200
TZOFFSETTO:+0100
TZNAME:CET
DTSTART:20261025T010000
END:STANDARD
END:VTIMEZONE
BEGIN:VEVENT
DTSTART;VALUE=DATE:20260501
DTEND;VALUE=DATE:20260502
DTSTAMP:20260421T130652
CREATED:20260408T120244Z
LAST-MODIFIED:20260408T120244Z
UID:10900-1777593600-1777679999@altmusic.wroclaw.pl
SUMMARY:EABS
DESCRIPTION:Przygotujcie się na wieczór\, który całkowicie zredefiniuje Wasze myślenie o jazzie. Nie nastawiajcie się koncert siedzący\, lepiej poszukajcie wygodnych butów. Soundsystem w klubie Nietota zostanie poważnie przetestowany! Na scenie pojawi się EABS – wrocławski kolektyw\, który od lat udowadnia\, że muzyka improwizowana nie zna granic gatunkowych\, a duch kompozycji Krzysztofa Komedy czy Sun Ra doskonale czuje się w towarzystwie nowoczesnych bitów i kosmicznych syntezatorów.\nZespół\, nagradzany m.in. Mateuszem Trójki oraz nominacjami do Paszportów Polityki\, zabierze nas w podróż przez swoje najważniejsze projekty – od głośnego debiutu Repetitions (Letters to Krzysztof Komeda)\, przez słowiański mistycyzm Slavic Spirits\, aż po międzygalaktyczne poszukiwania z albumów Discipline of Sun Ra oraz 2061. Nie zabraknie też utworów z ostatniego krążka „Reflections of Purple Sun”\, który poświęcony jest płycie Tomasza Stańko.\nTo jednak nie wszystko! EABS to organizm żywy\, który nieustannie ewoluuje. Zespół pracuje już nad zupełnie nowymi kompozycjami\, a Wy będziecie mieli unikalną okazję stać się świadkami ich narodzin. To rzadka szansa\, by usłyszeć premierowe utwory w ich surowej\, koncertowej formie\, zanim trafią do studia nagraniowego.\nSkład:\nMarek Pędziwiatr – instrumenty klawiszowe\nPaweł Stachowiak – gitara basowa\nMarcin Elszkowski – trąbka\nOlaf Węgier – saksofon tenorowy\nMarcin Rak – perkusja\nDrzwi: 19:00\nKoncert: 20:00\nPosłuchaj:
URL:https://altmusic.wroclaw.pl/koncert/eabs-2/
LOCATION:Nietota\, Kazimierza Wielkiego 50\, Wrocław\, Poland
END:VEVENT
END:VCALENDAR