BEGIN:VCALENDAR
VERSION:2.0
PRODID:-//Altmusic - Only Music Can Save Us - ECPv6.11.2//NONSGML v1.0//EN
CALSCALE:GREGORIAN
METHOD:PUBLISH
X-WR-CALNAME:Altmusic - Only Music Can Save Us
X-ORIGINAL-URL:https://altmusic.wroclaw.pl
X-WR-CALDESC:Events for Altmusic - Only Music Can Save Us
REFRESH-INTERVAL;VALUE=DURATION:PT1H
X-Robots-Tag:noindex
X-PUBLISHED-TTL:PT1H
BEGIN:VTIMEZONE
TZID:Europe/Warsaw
BEGIN:DAYLIGHT
TZOFFSETFROM:+0100
TZOFFSETTO:+0200
TZNAME:CEST
DTSTART:20260329T010000
END:DAYLIGHT
BEGIN:STANDARD
TZOFFSETFROM:+0200
TZOFFSETTO:+0100
TZNAME:CET
DTSTART:20261025T010000
END:STANDARD
END:VTIMEZONE
BEGIN:VEVENT
DTSTART;VALUE=DATE:20260304
DTEND;VALUE=DATE:20260501
DTSTAMP:20260422T010930
CREATED:20260130T140844Z
LAST-MODIFIED:20260416T073248Z
UID:10416-1772582400-1777593599@altmusic.wroclaw.pl
SUMMARY:🎯 Robimy to z pasji\, ale nie chcemy dopłacać do serwera + playlisty YT 🎯
DESCRIPTION:Postaw nam proszę kawkę na: https://buycoffee.to/altmusic\, bo bez kawek ciężko się pracuje. \n*** \nOd 10.2022 prowadzimy non-profit subiektywny kalendarz koncertowy https://altmusic.wroclaw.pl Tak wspieramy lokalną scenę DIY koncertów. Wiemy\, że jesteśmy skuteczni\, ale czyhają na nas opłaty za serwery i domeny. Chcemy się rozwijać! Jeśli nie kawka to będziemy wdzięczni za szerzenie słowa o nas! Dzięki za wsparcie! \n*** \nJeśli jesteś artystą / zespołem znajdziesz u nas w zakładce Pogłoski [tak\, od słynnego warszawskiego klubu]: \n– listę bookerów zorientowanych na alt muzykę \n– listę klubów i miejsc koncertowych we Wro \n– listę klubów koncertowych w PL \n– listy festiwali [raczej tych mniejszych] \nDodatkowo dla turystów mamy zakładkę wspomagającą efektywniejsze i ciekawsze zwiedzanie Wrocławia. \nTroszkę na co dzień współpracujemy z osobami powiązanymi z muzyką alternatywną w Polsce i do tego jesteśmy otwarci na różne kontakty współprace w zakresie wspierania muzyki niezależnej. \nWysoka piątka dla naszych smacznych kawko-dawców: \nFilip K x3\nAgnieszka K x3\nKazik [Foto koncertowe FB] x3 \nMichal G x2\nKamil S x2\nSebastiaan [zespół Zdrój FB] x2\nRoman R x2\nRyszard S x2\nMaciek P x2\nTomasz [Sitartronic FB] x2\nJan F  [Shepherds of Cats FB] x2\nDominik G [zespół Dead & Delicious FB] x2\nAnonim 🙂 x2\nRadek S [zespół Archreverend FB] x2\nDawid K x2\nAndrey A x2\nPaweł W [zespół Extensa FB] x2\nPaweł P [Wrocławska Niezależna Scena Muzyczna FB] x2 \ntupas sa\nJeden Pr\nBogumił B\nPaweł Ch\nabc bcd\nPaweł Bre\nDobrze Żejesteś\nMrk Ngj\nRafon K\nSieniak\nMarcin O\nJulia G [https://womenofnoise.bandcamp.com/]\nPrzemek [zespół Dead & Delicious FB]\nMichał [Wrocławski Warsztat Muzyczny FB]\nKacper S\nRafał s\nMateusz W\nKrzsztof P\nAdrian\nHubert [Discomfort FB]\nBad Ritual [Bad Ritual FB]\nBoguś\nBasia M\nPaweł\nŁukasz B [Ubocze Rec. BC]\nP.D.S. PUnKTeon [Zrzutka na likwidację szkód po pożarze]\nAnia L\nRadek\nMirko S\nKinga K\nPK-\nTomasz K\nKrzysztof P\nMałgorzata P\nMarcin [Posłuchaj To Do Ciebie FB]\nJakub K\nJan K\nMichał [Gig Patrol Wrocław FB] \nDZIĘKUJEMY!!! \n  \nJaka jest ścieżka dźwiękowa wrocławskich koncertów?\nPoniżej playlista z pełnych najnowszych płyt dostępnych na YT dla subiektywnie wybranych wydarzeń. Polecamy tutaj lub lepiej otworzyć w aplikacji i przesłuchiwać w ulubionej formie tj. np całe płyty lub przełączać losowo utwory\, jak się jakiś spodoba to sprawdzić na altmusic kiedy i gdzie koncert. \nAltmusic.wroclaw.pl Kwiecień-Czerwiec 2026 – link: https://music.youtube.com/playlist?list=PLCXwMvqHNgt7mE87MxrcDAm9oIn1_e9ia&si=ozecVv9tUVvWA2cB \n \n  \nPlaylista koncertowa – Styczeń / Marzec 26 > Wrocław \nPlaylista na music.youtube > https://music.youtube.com/playlist?list=PLCXwMvqHNgt5RdqDG4DX9KWtzbe6iJbtN&si=1F6oDCZAZjeDQnA_ \nPlaylista na youtube > https://youtube.com/playlist?list=PLCXwMvqHNgt5RdqDG4DX9KWtzbe6iJbtN&si=Tbg_10-xao-uiSnL  \n 
URL:https://altmusic.wroclaw.pl/koncert/%f0%9f%92%a9%f0%9f%92%a9druga-miesiecznica-naszej-ostatniej-kawki%f0%9f%92%a9%f0%9f%92%a9/
CATEGORIES:wydarzenie
END:VEVENT
BEGIN:VEVENT
DTSTART;VALUE=DATE:20260401
DTEND;VALUE=DATE:20260501
DTSTAMP:20260422T010930
CREATED:20260326T145513Z
LAST-MODIFIED:20260326T145513Z
UID:10810-1775001600-1777593599@altmusic.wroclaw.pl
SUMMARY:🎯 Gig Patrol > ROZKŁAD JAZDY NA Kwiecień'26 🎯
DESCRIPTION:ROZKŁAD JAZDY NA KWIECIEŃ Pierwsza ćwierć roku za nami. Dużo się działo\, szczególnie w marcu\, a jeszcze dużo nas dopiero czeka. Zapraszamy do wspólnej weryfikacji\, co słychać w przyszłym miesiącu Rozpiskę znajdziecie również na altmusic.wroclaw.pl Ceny koncertów mogą nie zawierać opłat dodatkowych. 3.04Year Of The Goat\, Firmament – hard rock\, heavy metal – Klub Łącznik – 104\,35 złhttps://fb.me/e/62MfNsqNgCirograph\, Nuclear Venom\, Herzoga\, Helldivers – thrash metal\, death metal – Klub Muzyczny Liverpool – 40 złhttps://fb.me/e/5OvQCafUB 4.04Bez Domiechy\, C.A.D.G. – thrash metal\, nu metal – Klub Szalonych – 30 złhttps://fb.me/e/6HrDtr8id 8.04Miserere Luminis\, DÉTRESSE\, Lament – black metal – Klub Muzyczny Liverpool – 70 złhttps://fb.me/e/8RWsdgL8s 9.04Gypsy and the Acid Queen – alternatywa – Nietota – 50/60 złhttps://fb.me/e/4cVFauCqxJarzmo\, Daj Ognia – acoustic folk – Stary Klasztor: Sala Witrażowa – 90 złhttps://fb.me/e/afNrtbluc 10.04hage-o\, Balkon\, Tytus Gaming – alternatywa\, indie\, art rock – Uczulenie – 40/20 zł młodzież ucząca sięhttps://fb.me/e/4e0nKcoI6Włącz się na nowe: Przykładowa muzyka\, Puch – Klub Łącznik – >30 złPsychoanaliza\, Rabbit Hole\, AsiaAsia – alternatywa\, punk\, rock – Alive – 35/40 złhttps://fb.me/e/3GA5dIyld13 Piętro\, Rethera\, Otrogen – metal\, stoner\, heavy – Klub Muzyczny Liverpool – 40 złhttps://fb.me/e/7CS1xhIuKWRONA – pop rock – Firlej – 50 złhttps://fb.me/e/5tyvvXRrxFeno\, Yann – Nietota – 40 złhttps://fb.me/e/97aXFD8awDwa Sławy – pop rap – Stary Klasztor: Sala Gotycka – 129 złhttps://fb.me/e/77p3nUDM2Drabusheyka – pop rap – Transformatorhttps://fb.me/e/5JgybUU1t 11.04Procurator\, The Sabała Bacała\, Burek Dobry Pies\, OSC – punk – Wagenburg – 50 zł / <18 freehttps://fb.me/e/6AhUtoMTdKraków Street Band – folk rock – Klub Łącznik – 80 złhttps://fb.me/e/9snghGmFTKaz Bałagane – rap – Zaklęte Rewiry – 129 złhttps://fb.me/e/3C9IpVNiwLukasyno LUNATYK – rap – Nietota – 105 złhttps://fb.me/e/6LYFcXwZRMłody West – rap – Transformator – SOLD OUT 12.04Urban Jazz Night: EABS\, Fisz\, Kosmonauci\, Rojek\, WaluśKraksaKryzys – 250-300 złhttps://fb.me/e/2AnNLBmjKVarmia\, Three Eyes Of The Void\, Drowned In Silver – black metal\, post-metal – Klub Łącznik – 79 zł https://fb.me/e/7W33AHACYKRETES – rap – Uczulenie – 10 złhttps://fb.me/e/3PBUmgfEN 16.04Luxtorpeda\, Flapjack – groove metal – Stary Klasztor: Sala Gotycka – 125/135 złhttps://fb.me/e/4cyvq3qN3 17.04Furia Gniew\, EverdeaD\, Enterocolis – metalcore\, death metal – Klub Szalonych – 50 złhttps://fb.me/e/7SBOrrZ4RApteka + gość specjalny – psychodeliczny rock – 80-120 zł (studencki 60 zł bramka)https://fb.me/e/6vDsjl4n8Chaos Infernum\, Angels Rebellion\, Gmoh – metal – Alivehttps://fb.me/e/6EXagfHo4Floral Bugs + Branik – rap – Nietota – 64/85 złhttps://fb.me/e/8wkHoRTWoHidden Gems: Kacperczyk\, Frank Leen itd. – rap\, pop – A2 Centrum Koncertowe – 127\,93 złhttps://fb.me/e/7Amprd4c3Polska Wersja – rap – Transformator – 90 złhttps://fb.me/e/8Q9uz0nHmThe Riverose\, Pepesza – indie rock\, alternatywa\, folk pop – Stary Klasztor: Sala Witrażowa – 40/60 złhttps://fb.me/e/9oUQqkj28 18.04Only Mess + [peru] – alternatywny rock – Klub Szalonych – 40 złhttps://fb.me/e/7Ix7mk1pwEvelina Ross – Stary Klasztor: Sala Gotycka – 89 złhttps://fb.me/e/94kfceS9tWiktor Palczyński & Riddim Experimentals\, Polimorfizm\, C.A.D.G. – rock\, metal\, reggae – Stary Klasztor: Sala Witrażowa – 35 złhttps://fb.me/e/4gyXGbY0nJoulie Fox & Klaudia Sobotka – pop\, rock – Nietota – 45-55 złhttps://fb.me/e/48s9z57xhDaniel Godson – Nietota – 85\,9 złhttps://fb.me/e/8F6Qfc6ko 19.04Vastum\, Torture Rack – death metal! – Klub Łącznik – 93 złhttps://fb.me/e/3YamwCpvSprzeprosiny\, wracaj bo ciemno\, ostatni kontynent – emo\, shoegaze\, noise – Uczulenie – 30 zł/20 zł <18https://fb.me/e/6GlphDIjlApparat\, Bi Disc – elektronika – A2 Centrum Koncertowe – 184\,99 złhttps://fb.me/e/6JuetAaDUMarcin Maciejczak – pop – Nietota – 79 złhttps://fb.me/e/7pcN33tz2 20.04Kim Gordon\, The New Eves – alternatywa\, eksperymentalny rock – A2 Centrum Koncertowe – 169 złhttps://fb.me/e/5NHI8UPjd 22.04Imany – pop – A2 Centrum Koncertowe – 232 złhttps://fb.me/e/9MPFKCwkhDom Corleo – rap – Transformator – 122-144 złhttps://fb.me/e/9OCbBRmBV 23.04Basia Bulat – indie pop\, folk – Nietota – 86 złhttps://fb.me/e/7vfYXOiEMMichał od kości – Nietota – 54\,50 złhttps://fb.me/e/5iLWTbiIyJulia Wieniawa – pop – A2 Centrum Koncertowe – 179 złhttps://fb.me/e/6Fa0Pws1O 24.04MÖRGHUUL\, Buddah\, Chaingun\, Nexus – death metal\, thrash metal\, black metal – Klub Muzyczny Liverpoolhttps://fb.me/e/9cIwOnlNwMaleo\, Guma\, Pytki Doś – Klub Łącznik – 75/100 złhttps://fb.me/e/8mHO1fUtvVkie – rap – Zaklęte Rewiry – 86\,99 złhttps://fb.me/e/4d1nb66OcBass Astral – elektronika – Terminal Event Center – 127\,9 złhttps://fb.me/e/6BJJTIKk5przełożony z 26.03: Bonson – rap – Nietota – 94 złhttps://fb.me/e/6ew9z3crqWe Draw A – elektronika – TONY – 85\,2 złhttps://fb.me/e/4liEwrqD1 25.04Relikt\, Detroit Hills – Alive – 63\,5/73\,8 złhttps://fb.me/e/3XnLF8jLg 26.04Gogo Penguin\, Daudi Matsiko – nu jazz – Zaklęte Rewiry – 180 złhttps://fb.me/e/6s4ngRGHG 27.04Corpus Offal\, Toughness – death metal! – Klub Łącznikhttps://fb.me/e/6rmnmzryYBibobit – Vertigo – 89/109 złhttps://fb.me/e/7Emp4TfL2Universe – Sala Koncertowa Radia Wrocław – 150\,90 złhttps://fb.me/e/5ka89jNBB 28.04Ayucaba\, Urbicyd\, Apostasy – raw punk\, hardcore punk – Centrum Reanimacji Kulturyhttps://fb.me/e/jT8AixpvZ 29.04J.Tronix – electro-jazz – Nietotahttps://fb.me/e/1VFqKeMBrv 30.04IC3PEAK – art pop\, witch house\, alternatywa – A2 Centrum Koncertowe – 199 złhttps://fb.me/e/3JvN9G5YBMocno Rockujący – rock’n’roll – Alive – wstęp wolnyhttps://fb.me/e/8t8WCl9xn
URL:https://altmusic.wroclaw.pl/koncert/%f0%9f%8e%af-gig-patrol-rozklad-jazdy-na-kwiecien26-%f0%9f%8e%af/
LOCATION:Lista wydarzeń Wrocław\, Wrocław
END:VEVENT
BEGIN:VEVENT
DTSTART;VALUE=DATE:20260417
DTEND;VALUE=DATE:20260418
DTSTAMP:20260422T010930
CREATED:20260323T155530Z
LAST-MODIFIED:20260323T155851Z
UID:10719-1776384000-1776470399@altmusic.wroclaw.pl
SUMMARY:Floral Bugs
DESCRIPTION:Pt\, 17 kwi o 19:30 Floral Bugs – WROCŁAW – Klub Nietota Nietota · Wrocław \n \nPo dłuższej przerwie wraca na scenę Floral Bugs w wyjątkowej\, koncepcyjnej odsłonie. To nie będzie zwykły koncert — to pełne\, spójne widowisko od pierwszej do ostatniej minuty. Na scenie pojawią się również Bazgrov i Dyzma\, a w secie usłyszycie utwory\, które nigdy wcześniej nie były grane na żywo.\nNajwiększe miasta w Polsce. Kameralne sale. Tylko 150–200 biletów na każdy koncert.\nTo powrót\, na który warto było czekać. \n🎫 Bilety:\nI pula – 39\,99 zł\nII pula – 59\,99 zł\nIII pula – 79\,99 zł\nVIP – 149\,99 zł \nLiczba miejsc ściśle ograniczona. \n \n  \n 
URL:https://altmusic.wroclaw.pl/koncert/floral-bugs/
LOCATION:Nietota\, Kazimierza Wielkiego 50\, Wrocław\, Poland
END:VEVENT
BEGIN:VEVENT
DTSTART;VALUE=DATE:20260417
DTEND;VALUE=DATE:20260418
DTSTAMP:20260422T010930
CREATED:20260325T120534Z
LAST-MODIFIED:20260325T120534Z
UID:10788-1776384000-1776470399@altmusic.wroclaw.pl
SUMMARY:Dr. Fleishman\, AM\, Zgon Nestora - JAWOR
DESCRIPTION:Pt\, 17 kwi o 20:00 / old school underground koncert / Zamek Nadaje · Jawor \nba by AM \nZapraszamy na old school’we i underground’owe dźwięki do siedziby Radia Zamek Nadaje.\nKoncert odbędzie się 17.04.2026. Zagrają Dr. Fleishman – Jazz/Noise/Core\, AM – Wkurw Punk\, Zgon Nestora – Punk\nDr. Fleishman – dr fleischman powstał w połowie lat 90-tych.zagrał wiele koncertów w Polsce\, Czechach\, Niemczech\, Austrii\, Słowacji\, Węgrzech\, na Litwie i w Irlandii. Grupa występowała u boku takich kapel jak Nomeansno\, dezerter\, post regiment\, Trottel\, La Fraction.\nhttps://drfleischmanpl.bandcamp.com/album/rotten-desire-2020 \nrotten desire 2020 by dr fleischman \nAM – Kapela powstała w ‘96 od początku czerpie swoje inspiracje muzyczne bliskością z naturą. Ekspesyjny noisowy wokal\, połamane gitarowe dzwieki i punkowa energiczna perka to tylko cześć dwięków\, które daje nam AM. Bezkopromisowe teksty opisujące swiat w krytyczny ale nie oczywisty sposób. Zespół powraca na scene i mocna zaznacza swoją obecność koncertujac w 2024 roku na mniejszych i wiekszych gigach w Polsce i Czechach.\nhttps://ampunk.bandcamp.com/album/ba \nZgon Nestora powstał i działał w Strzegomiu w latach 1989 – 1995. Czynnie koncertowali na terenie Polski i Czech. Wydali cztery kasety „Wszystkie mury są nasze ” (1991)\, ” Tyle słońca świeci dla Was ” (1993)\, koncertową ” 14:10 ” (1994) i nagraną w studio Tibosound ” Dwie strony ” (1994). W 2023 roku\, po blisko 30 latach przerwy\, Zgon Nestora w powołanym przez Zuch Mana składzie\, zagrał koncert na organizowanej przez Samoorganizację Zamek Nadaje Wegetariadzie. Miała to być jednorazowa akcja przypominająca\, że Zgon Nestora funkcjonował na scenie punk’owej w dalekiej przeszłości. Chociaż minęło ponad trzydzieści lat\, treści numerów są nadal aktualne. W nowym składzie starych załogantów\, zespół pracuje nad nowym materiałem\, który zapowiada pełne ognia koncerty i nową płytę ZN.\nObecny skład :\nZuch Man gitara/wokal\nCzarny bas/wokal\nKruzo gitara/wokal\nKostek bębny\nhttps://zgonnestora.bandcamp.com/music\nStartujemy o 20:00 na sali im. Witkacego – Zamek Nadaje\nul. Zamkowa 1\, 59-400 Jawor\nZrzutka na kapele 50 peso
URL:https://altmusic.wroclaw.pl/koncert/dr-fleishman-am-zgon-nestora-jawor/
LOCATION:Zamek Nadaje\, Zamkowa 1\, Jawor\, Poland
END:VEVENT
BEGIN:VEVENT
DTSTART;VALUE=DATE:20260417
DTEND;VALUE=DATE:20260418
DTSTAMP:20260422T010930
CREATED:20260407T135109Z
LAST-MODIFIED:20260407T135133Z
UID:10876-1776384000-1776470399@altmusic.wroclaw.pl
SUMMARY:Lorraine Leckie and Her Demons
DESCRIPTION:Pt\, 17 kwi o 20:00 / Lorraine Leckie and Her Demons /  UL. Szewska 68 a / Pieśniarze \n \n\n\n\n\n\nTo dźwiękowy rytuał na nasze pęknięte czasy; nieortodoksyjny\, lecz intuicyjny wyraz wspólnego ludzkiego cierpienia — i oporu.\nTytułowy utwór „Goddamn Outer Space” pełni jednocześnie rolę uwertury: każda zawarta w nim fraza została zaczerpnięta z tytułów pozostałych ścieżek albumu\, splatając się w jednolity poetycki strumień. \nTo tematyczna przynęta\, która subtelnie przygotowuje słuchacza na nadchodzącą bogatą paletę doznań.\nA prym w ansamblu Lorraine dzierży nie lada skrzypek\, bywalec Pieśniarzy\, sam Pavel Cingl❣️ \n 
URL:https://altmusic.wroclaw.pl/koncert/lorraine-leckie-and-her-demons/
LOCATION:Pieśniarze\, Szewska 68 a\, Wrocław\, Poland
END:VEVENT
BEGIN:VEVENT
DTSTART;VALUE=DATE:20260417
DTEND;VALUE=DATE:20260418
DTSTAMP:20260422T010930
CREATED:20260414T074046Z
LAST-MODIFIED:20260414T074046Z
UID:10967-1776384000-1776470399@altmusic.wroclaw.pl
SUMMARY:Vinograd
DESCRIPTION:piątek w tym tygodniu o 18:00 „Żuk” | premiera filmu Vassilija Dergachyova i koncert formacji Vinograd | Stajnia 66P / Romana Dmowskiego 13B Wrocław \n  \nTego jeszcze w Stajni nie było: 17 kwietnia naszą przestrzeń przy ul. Dmowskiego 13B zamieniamy w kameralne kino! Okazja jest wyjątkowa\, bo premierowo zobaczycie niezależny film „Żuk” Vassilija Dergachyova.\nTo fabularna opowieść\, która powstała na podstawie bardzo autorskiej interpretacji książki „Przemiana” Franza Kafki (1883-1924)\, gdzie sylwetka pisarza stanowi jedynie pretekst do opowiedzenia historii\, która rozwija się według własnych zasad. Na ekranie zobaczycie wrocławskich artystów i artystki.\nJak deklaruje sam twórca: „Miał to być pierwszy od lat film inspirowany twórczością Kafki\, ale wyprzedziła nas Agnieszka Holland”.\nPo prezentacji odbędzie się akustyczny koncert formacji Vinograd – duetu grającego muzykę romantyczną i delikatną\, która czasami jednak krzyczy i przeklina.\n🪲🪲\nŻuk | premiera filmu Vassilija Dergachyova i koncert\n✦ 17 kwietnia (piątek)\, godz. 18:00\n✦ 66P Stajnia | Romana Dmowskiego 13B/u1 | sprawdź na mapie: https://maps.app.goo.gl/Ni6yp3a6YvATwcD76\n✦ koncert: Vinograd acoustic duo\n✦ wstęp wolny\n🪲🪲\n⤷ Scenariusz i reżyseria: Vassiliy Dergachyov\n⤷ Występują: Miłosz Flis\, Maria Bitka\, Jerzy Kosałka\, Krzysztof Rubach\, Lidiia Hołosko\, Weranda Śliska (Wera Śliwowska)\, Alina Kindyak\, Sebastian Milewski\, Marek Stanielewicz\, Vassiliy Dergachyov + Marcin Mierzicki w roli ochroniarza (wycięty w postprodukcji)\n⤷ Zdjęcia: Vassiliy Dergachyov\n⤷ Animacja: Margaret Ståhl\n⤷ Realizacja dźwięku\, VFX: Sebastian Milewski\n⤷ Muzyka: Sebastian Milewski\, DJ Kinia (Kinga Gralak)\n⤷ Postprodukcja: Vassiliy Dergachyov\n⤷ Montaż: Vassiliy Dergachyov\nFilm powstał jako projekt bezbudżetowy\, a jego produkcja zajęła 2 lata. Wiele scen nagrano w Pracowni Hutmen.\n🪲🪲\nPunktem wyjścia dla niezależnej produkcji fabularnej jest esej Vladimira Nabokova (1899-1977) o Kafce: „Przypomina karalucha jedynie brązowym kolorem. I tylko tyle. Za to ma ogromny\, wypukły brzuch\, podzielony na segmenty\, oraz twarde\, zaokrąglone plecy\, które przywodzą na myśl pokrywy (…) Zastanawiające\, że chrząszcz Gregor nigdy nie dowiedział się\, że pod twardą skorupą na jego plecach znajdują się skrzydła. To bardzo subtelna obserwacja z mojej strony i będziecie ją cenić przez całe życie. Niektórzy Gregorowie\, niektórzy Johnowie i Jenny nie wiedzą\, że mają skrzydła”. \nKino w porównaniu z literaturą to uboższa forma sztuki: reżyser narzuca widzowi własne tempo opowiadania. Ekranizacja Kafki jest niemożliwa\, ponieważ pisarz nie pozwala nam zrozumieć\, w jakie dokładnie stworzenie przemienia się Gregor. „Samo to niezrozumienie – frustracja zagubionego\, małego człowieka – w filmie jest możliwe tylko w jednej\, wybranej interpretacji. Dlatego film nosi tytuł „Żuk”. Można powiedzieć\, że badam możliwość\, iż Gregor Samsa jednak użył swoich skrzydeł: najpierw ze strachu\, uciekając przed kapciem\, a później po prostu posuwając się naprzód. Mój film to parodia wieloznaczności” – stwierdza Vassiliy Dergachyov.
URL:https://altmusic.wroclaw.pl/koncert/vinograd-2/
LOCATION:Lokalizacja nietypowa WROCŁAW
END:VEVENT
BEGIN:VEVENT
DTSTART;TZID=Europe/Warsaw:20260417T170000
DTEND;TZID=Europe/Warsaw:20260417T180000
DTSTAMP:20260422T010930
CREATED:20260318T153718Z
LAST-MODIFIED:20260318T153718Z
UID:10678-1776445200-1776448800@altmusic.wroclaw.pl
SUMMARY:WYSTAWA: „Scena z miasta. Wrocław niezależny lat 90.” / oprowadzania cykliczne: piątki\, godz. 17:00
DESCRIPTION:● „Scena z miasta. Wrocław niezależny lat 90.”\n● Studio BWA Wrocław\, ul. Ruska 46a/301 (III piętro)\n● wernisaż: piątek\, 6.03.2026\, godz. 19:00\n● oprowadzanie kuratorskie: sobota\, 7.03.2026\, godz. 15:00\n● oprowadzania cykliczne: piątki\, godz. 17:00\n● wystawa będzie otwarta do 17 maja 2026\, od środy do niedzieli \n \n⏯︎⏯︎⏯︎ Lech Janerka\, Kaman\, Kormorany. Luxus. Entropia i Lśnienie. Postacie\, zespoły i miejsca\, które do dziś fascynują i inspirują. Kilkadziesiąt fotografii i filmów\, poza tym ziny\, plakaty i ulotki. Materiały archiwalne\, w tym wiele dotąd niepublikowanych. 6 marca 2026 roku o godz. 19:00 w Studio BWA Wrocław otwarta zostanie wystawa „Scena z miasta. Wrocław niezależny lat 90.” Będzie to opowieść o Wrocławiu\, który żył własnym rytmem – łącząc muzykę i sztuki wizualne\, stworzył psychodeliczny\, eksperymentalny i niezależny krajobraz artystyczny.\nW dniu otwarcia wystawy o godz. 21:00 w Klubie Szalonych (ul. Ruska 47/48a) odbędzie się koncert zespołu Kormorany. Wstęp wolny ✴︎ \n● https://bwa.wroc.pl/…/scena-z-miasta-wroclaw…/ \n⏭︎⏭︎⏭︎ Wystawa „Scena z miasta. Wrocław niezależny lat 90.” to opowieść o ludziach\, ideach i miejscach współtworzących lokalną scenę artystyczną w czasach transformacji\, kiedy to obok demokratycznego ustroju w Polsce formował się alternatywny obieg w sztuce. Wrocław miał wówczas swój niepowtarzalny rytm\, tętniący w klubach\, galeriach oraz skłotach i przenikający całą scenę niezależną. Wiódł życie alternatywnego miasta\, które kształtuje własną narrację i estetykę. To jednak nie tylko spojrzenie w przeszłość\, ale przede wszystkim historia o tym\, jak kultura niezależna rozwija wyobraźnię\, społeczność i przestrzeń miejską. \n𝙿𝚛𝚣𝚎𝚜𝚝𝚛𝚣𝚎𝚗́ 𝚎𝚔𝚜𝚙𝚎𝚛𝚢𝚖𝚎𝚗𝚝𝚞\nWrocławska scena lat 90. była miejscem współdziałania muzyków\, performerów i artystów wizualnych. Koncerty\, instalacje\, projekty plastyczne i wydarzenia łączyły się ze sobą\, stwarzając przestrzeń eksperymentu i wymiany myśli. „To był chyba jeden z nielicznych przypadków takiej synergii między środowiskiem plastycznym i muzycznym. To\, co działo się w Luxusie czy w Entropii\, korespondowało z tym\, co robili Kaman\, Miki Mousoleum\, Klaus [Mitffoch] czy Kormorany” – wspomina Wojciech Kozielski\, dziennikarz i pisarz. Ta synergia miała swoje źródła jeszcze w latach 80.\, gdy grupa Luxus\, zespół Kormorany i środowisko Galerii Entropia wypracowały otwartą formułę łączenia różnych działań artystycznych\, a Antena Krzyku\, niezależne wydawnictwo muzyczne\, ugruntowała etos DIY [Do It Yourself]\, który stał się fundamentem sceny. \n𝙿𝚛𝚣𝚎𝚜𝚝𝚛𝚣𝚎𝚗́ 𝚍𝚘𝚔𝚞𝚖𝚎𝚗𝚝𝚞\nW ramach wystawy przedstawione zostaną osoby\, miejsca i materiały związane z wrocławską sceną niezależną lat 90.: postacie i zespoły takie\, jak Lech Janerka\, Kaman\, Kormorany\, Serpent Beat\, Program\, Job Karma\, Musk\, Hurt\, Infekcja\, kluby Amsterdam\, Podium\, Samo Życie\, Rekwizytornia\, galerie Entropia\, Lśnienie\, Awangarda i Mały Salon (BWA Wrocław)\, na Ostrowie\, a także skłoty\, m.in. ten pierwszy w mieście\, przy ulicy Oławskiej. Psychodeliczną atmosferę dekady pozwolą poczuć fotografie\, filmy\, ziny\, plakaty\, ulotki\, bilety\, szablony i reprodukcje. Będzie można zobaczyć wiele materiałów dotąd niepublikowanych\, np. kolekcję zdjęć Bartosza Wawryszuka: od niezapomnianych występów Kormoranów w sklepie mięsnym przez wystawę Luxusu „Róża Mózgów” w Awangardzie po legendarne koncerty The Ex w Wagonie i Fugazi w Kazamatach. Będzie też można obejrzeć filmy z archiwum Galerii Entropia\, Mariusza Jodko i Pawła Czepułkowskiego\, które dotąd nie były prezentowane publicznie w takiej skali. \n𝙿𝚛𝚣𝚎𝚜𝚝𝚛𝚣𝚎𝚗́ 𝚠𝚜𝚙𝚘́𝚕𝚗𝚘𝚝𝚢\nPrzybliżenie fenomenu\, jakim była scena lat 90.\, zarówno osobom\, które go doświadczyły\, jak i młodszej publiczności to cel\, jaki stawiają sobie kuratorzy wystawy: Paweł Piotrowicz – dziennikarz\, animator kultury i autor książki „Wrocławska Niezależna Scena Muzyczna 1990–2000”\, oraz Paweł Starzec – fotograf\, socjolog i nauczyciel akademicki. „Kultura oddolna tworzy sieć połączeń między twórcami i odbiorcami\, ekosystem wzajemnych powiązań. Buduje wspólnoty\, o których trzeba pamiętać” – mówią. Zwracają też uwagę na rolę archiwów społecznych oraz osób je tworzących\, ponieważ to właśnie one pozwalają nam kształtować lokalną tożsamość\, dokumentują i przechowują zjawiska ważne dla kultury i sztuki.\n6 marca w Studio BWA Wrocław będzie można zanurzyć się w atmosferze lat 90. Przekonać się\, co z tamtych czasów zostało w nas do dziś ✴︎ \n__________________________________________\n● Kuratorzy: Paweł Piotrowicz\, Paweł Starzec\n● Kuratorka galerii Studio BWA Wrocław: Joanna Stembalska\n● Materiały archiwalne: Blazir (BDzieduszycki)\, Jacek Braun\, Dariusz Brygier\, Dariusz Bufnal\, Chiro\, Krzysztof Czartoryski\, Paweł Czepułkowski\, Andrzej Dakszewicz\, Paweł Dąbrowski\, Agnieszka Dobrowolska\, Maciek Frett\, Bożena Grzyb-Jarodzka\, Krzysztof Jański\, Andrzej „Futer” Jarodzki\, Paweł Jarodzki\, Mariusz Jodko\, Krzysztof „Kaman” Kłosowicz\, zespół Kormorany\, Jacek Królak\, Łukasz Medeksza\, Marek Myszczyński\, Roland Okoń\, zespół Program\, Michał Sapuń\, zespół Serpent Beat\, Stanisław Sielicki\, Krzysztof Skarbek\, Krzysztof Smyk\, Paweł Starzec\, Tomasz „Mniamos” Stępień\, Artur Szczepaniak\, Jacek Świątek\, Łukasz Tunikowski\, Bartosz Wawryszuk\, Krzysztof Wilma\, Rafał Witczak\, Witek Zadziorko\, Zbigniew Zaranek i inni\n● Produkcja materiałów audiowizualnych: Mateusz Korsak\, Jakub Majchrzak\, Michał Turowski\n● Identyfikacja wizualna: Martyna Wyrzykowska\n● Produkcja: Natalia Budzińska\n● Realizacja: Daria Chraścina\, Hubert Hanisz\, Jakub Jakubowicz\, Tomasz Koczoń\, Daniel Mroczyński\n● Koordynacja dostępności: Magdalena Weber\n● Promocja: Agata Kalinowska\, Berenika Nikodemska\, Żaneta Wańczyk\n● Opieka redakcyjna: Joanna Osiewicz-Lorenzutti (nadzór)\, Małgorzata Poździk (redakcja PL)\, Patrycja Pączek (korekta PL)\, Stefan Lorenzutti i Joanna Osiewicz-Lorenzutti (tłumaczenia EN)\, Andrij Saweneć (tłumaczenia UA)\n● Partner wystawy: Fundacja Wrocławska Niezależna Scena Muzyczna\n● Partner otwarcia wystawy: Klub Szalonych\n● Patroni medialni: Radio RAM\, Radio Wrocław\, Radio Wrocław Kultura\, Pismo Artystyczne Format\, Miej Miejsce\, TVP3 Wrocław\, TVP Info\, TVP Kultura\n● Dyrektorka programowa BWA Wrocław: Katarzyna Roj\n● Dyrektor BWA Wrocław: Maciej Bujko\nOrganizator i kuratorzy wystawy serdecznie dziękują osobom\, grupom i organizacjom\, które udostępniły materiały archiwalne\, a szczególne podziękowania kierują do Galerii Entropia ✴︎
URL:https://altmusic.wroclaw.pl/koncert/wystawa-scena-z-miasta-wroclaw-niezalezny-lat-90-oprowadzania-cykliczne-piatki-godz-1700-6/
LOCATION:Studio BWA Wrocław\, Ruska 46a\, Wrocław\, Poland
END:VEVENT
END:VCALENDAR