BEGIN:VCALENDAR
VERSION:2.0
PRODID:-//Altmusic - Only Music Can Save Us - ECPv6.11.2//NONSGML v1.0//EN
CALSCALE:GREGORIAN
METHOD:PUBLISH
X-ORIGINAL-URL:https://altmusic.wroclaw.pl
X-WR-CALDESC:Events for Altmusic - Only Music Can Save Us
REFRESH-INTERVAL;VALUE=DURATION:PT1H
X-Robots-Tag:noindex
X-PUBLISHED-TTL:PT1H
BEGIN:VTIMEZONE
TZID:Europe/Warsaw
BEGIN:DAYLIGHT
TZOFFSETFROM:+0100
TZOFFSETTO:+0200
TZNAME:CEST
DTSTART:20260329T010000
END:DAYLIGHT
BEGIN:STANDARD
TZOFFSETFROM:+0200
TZOFFSETTO:+0100
TZNAME:CET
DTSTART:20261025T010000
END:STANDARD
END:VTIMEZONE
BEGIN:VEVENT
DTSTART;VALUE=DATE:20260101
DTEND;VALUE=DATE:20260401
DTSTAMP:20260423T100340
CREATED:20260211T092316Z
LAST-MODIFIED:20260211T145821Z
UID:10445-1767225600-1775001599@altmusic.wroclaw.pl
SUMMARY:🎯 Playlista koncertowa - Styczeń / Marzec 26 > Wrocław 🎯
DESCRIPTION:Jaka jest ścieżka dźwiękowa wrocławskich koncertów?\nPoniżej playlista z pełnych najnowszych płyt dostępnych na YT dla subiektywnie wybranych wydarzeń. Polecamy tutaj lub lepiej otworzyć w aplikacji i przesłuchiwać w ulubionej formie tj. np całe płyty lub przełączać losowo utwory\, jak się jakiś spodoba to sprawdzić na altmusic kiedy i gdzie koncert. \nBardzo prosimy o kawki: https://buycoffee.to/altmusic \nPlaylista na music.youtube > https://music.youtube.com/playlist?list=PLCXwMvqHNgt5RdqDG4DX9KWtzbe6iJbtN&si=1F6oDCZAZjeDQnA_ \nPlaylista na youtube > https://youtube.com/playlist?list=PLCXwMvqHNgt5RdqDG4DX9KWtzbe6iJbtN&si=Tbg_10-xao-uiSnL \n  \n \n  \n 
URL:https://altmusic.wroclaw.pl/koncert/%f0%9f%8e%af-playlista-koncertowa-styczen-marzec-26-wroclaw-%f0%9f%8e%af/
END:VEVENT
BEGIN:VEVENT
DTSTART;VALUE=DATE:20260301
DTEND;VALUE=DATE:20260401
DTSTAMP:20260423T100340
CREATED:20260225T114345Z
LAST-MODIFIED:20260225T114345Z
UID:10565-1772323200-1775001599@altmusic.wroclaw.pl
SUMMARY:🎯 Gig Patrol > ROZKŁAD JAZDY NA Marzec'26 🎯
DESCRIPTION:ROZKŁAD JAZDY NA MARZEC Parę dobrych gigów w 2026 już odhaczyliśmy\, ale zazwyczaj to marzec jest tym miesiącem\, w którym życie koncertowe Wrocławia w pełni rozkwita. Czy tak będzie i w tym roku? Po objętości listy zapowiada się optymistycznie  Zapraszamy do lektury!Rozpiskę znajdziecie również na altmusic.wroclaw.pl.Ceny koncertów mogą nie zawierać opłat dodatkowych. 1.03MJUT – alternatywa – Nietota – 70 złhttps://fb.me/e/5upRjZuYiWernisaż wystawy: „Miasto na wskroś mnie przeszywa” + koncert TBA\, wstęp wolnyhttps://fb.me/e/6wfxtJEVq 2.03Paradise Lost\, Saturnus\, Shores of Null – doom metal\, gothic metal\, melodic black metal – A2 Centrum Koncertowe – 159\,43/170 złhttps://fb.me/e/3zgKj1BgQ 4.03Rura Jazz University: Lupus Quartet – jazz – Klub Muzyczny Liverpool – 30 złhttps://fb.me/e/6vMESzYxe 5.03Nene Heroine – jazz-rock – Nietota – 93 złhttps://fb.me/e/7h0tcF9B7 6.03Breslau Metal Onslaught vol. 6: Arkona\, Odium Humani Generis\, Irem\, Zdrada Iskariota – black metal – 80/100 złhttps://fb.me/e/5KZaoDCZYTuliPunki vol.6: Tupé Ostří\, Psychoformalina\, Drudies\, Franca – grindcore\, coldwave\, post-punk\, hard rock\, punk rock – Centrum Reanimacji Kultury – 40 zł (20 zł młodzież\, Panie – wjazd za free)https://fb.me/e/9DLduSCvGGash Faith\, Deathknell\, Apostasy – industrial\, powerviolence\, noise – TBAhttps://fb.me/e/8LuAUcAFosneaky jesus – nu jazz – Ośrodek Działań Twórczych Światowid – 40 złhttps://fb.me/e/7JLrksynJotwarcie wystawy „Scena z miasta. Wrocław niezależny lat 90.”: Kormorany – Klub Szalonych https://fb.me/e/jggM8sWOuKarolina Czarnecka: Freak Show – Klub Łącznik – 69/89 złhttps://fb.me/e/4Zg8jdkQMlet’s end it: Marcin Januszkiewicz\, Marta Zalewska – Firlej – 60/70 złhttps://fb.me/e/5FdjkD65jLuiku – elektronika\, world music\, ethno jazz – Stary Klasztor: Sala Witrażowa – 69 złhttps://fb.me/e/3UYzV6PYlPunky Reggae: Farben Lehre\, The Analogs\, Pull The Wire\, Zenek Grabowski\, Hamulec\, De Łindows –alternatywny metal\, punk rock – A2 Centrum Koncertowe – 140/160 złhttps://fb.me/e/7nu3RTB8tŁukasz Łyczkowski Band – rock\, folk\, grunge – Nietota – 60/70 złhttps://fb.me/e/eLnsTdLKy 7.03Benefitowy Koncert Urodzinowy: Hollowman\, Koń\, Forked\, Surowica\, Energy Jar – hardcore\, punk\, metal – ask a punk!https://fb.me/e/6lMuxDF5WWłącz się na nowe! Noise River\, Franio Mucha\, G.Wolf – rock\, alternatywa – Klub Łącznik – >30 złhttps://fb.me/e/3xbAqcxjDdaltonists – nu jazz\, leftfield jazz – Klub Szalonych – 54\,5/60 złhttps://fb.me/e/7gBNfBDFMDonikąd\, Kontra\, Norbelana – rock alternatywny\, post-punk – Alive – 30/40 złhttps://fb.me/e/4g1FfULEOEHO – nu metal\, rapcore – Firlej – 50 złhttps://fb.me/e/aBjdINdnkRÖYKSOPP (DJ set) – electropop\, downtempo\, house – A2 Centrum Koncertowe – 180 złhttps://fb.me/e/5M4g05yOFUrodziny Pstyka + Igor Boxx\, Expo 2000\, Rakraczej i inni – rap – Nietota – 30 złhttps://fb.me/e/3CmVvPZC3Niebotyk\, Różowe Flamingi\, AsiaAsia – rock\, punk\, alternatywa – OCSK Postój – 30 złhttps://fb.me/e/ecaeR8H3o 8.03Godspeed You! Black Emperor + Kristof Hahn (Swans) – post-rock – A2 Centrum Koncertowe – 158 złhttps://fb.me/e/556dMdBuEMiles Kane\, Basht – rock alternatywny – Zaklęte Rewiry – 174\,99 złhttps://fb.me/e/3eQVuplBDTrucizna\, Pralaya\, Hag – black metal – Klub Muzyczny Liverpool – 84\,32 złhttps://fb.me/e/aupaJ87fLRat Kru na Dzień Kobiet – elektronika – Nietota – 70 złhttps://fb.me/e/41joWCDYzDzień Kobiet: Nocny Kochanek i goście – comedy metal\, hard rock – Hala Stulecia – >110 złhttps://fb.me/e/36fIPIUB5Ewa Bem & Andrzej Jagodziński Band „Moje piosenki” – jazz – Impart Centrum – 150 złhttps://fb.me/e/aC5e4lheq 9.03Five The Hierophant\, Ctrl+Z – awangardowy metal\, post-metal\, stoner rock – Klub Muzyczny Liverpool – 79/90 złhttps://fb.me/e/3We2EblDr 10.03Blu/Bry – nu jazz – Nietotahttps://fb.me/e/jeVUbGy50 11.03Czesław Mozil – Nietota – 120/130 złhttps://fb.me/e/6uLaqM74Z 12.03Kajzer/Cichoń – alternatywny rap – Uczulenie – 54\,50 złhttps://fb.me/e/5AFBqP8lSMyslovitz – pop\, rock – A2 Centrum Koncertowe – 139 złhttps://fb.me/e/6cXe95XW9Renata Ślesicka – HOUSE Tęczowa – 75 złhttps://fb.me/e/5lHIFMGx3 13.03Hacele 2026: Patriarkh\, Ephialtes\, Doctor Visor\, Królowczana Smuga – black metal\, dark synth\, avant-folk – Zaklęte Rewiry – 85/100 złhttps://fb.me/e/3LJZIomM0 14.03Benefit Food Not Bombs: Mojapołowa\, Skorup/a\, Violet Ambulance – punk\, hardcore\, screamo\, pop-punk – Centrum Reanimacji Kultury – 50 złhttps://fb.me/e/adhYWr0lxNNF – Niezależna Nowa Fala: Hiroszyma\, Boysyrewicz\, Cabaret Grey – darkwave\, coldwave\, synthpop – Centrum Kultury Nowy Pafawag – 43\,16 złhttps://fb.me/e/6aYoMrC75AICHER/SZWED – Klub Szalonych – 40 złhttps://fb.me/e/7mt27v7E0Lor – indie pop\, folk pop – Zaklęte Rewiry – 106\,90 złhttps://fb.me/e/3Lz5h2jkoCheap Tobacco – pop\, rock – Firlej – 60 złhttps://fb.me/e/7j8gVbBWwODRA RAP: PIH\, DJ Creon – Nietota – 64 złhttps://fb.me/e/cLM7wXNu5Dikanda – Stary Klasztor: Sala Witrażowa – 70/90 złhttps://fb.me/e/7xW14TyAhMazolewski / Dorociński – Witkacy. Kompozycje Astronomiczne – Narodowe Forum Muzyki – 189-291 złhttps://fb.me/e/f1SlXVeZ8 15.03Six Nails Hammered Into The Flesh Of Wrocław: Hellfuck\, Brüdny Skürwiel\, Smoła – speed metal\, thrash metal\, powerviolence – Klub Muzyczny Liverpool https://fb.me/e/5tUBITTqfThe Bartenders – ska-jazz – Nietotahttps://fb.me/e/76Uj5nUepBernard Maseli “The Nomads”\, Sedno – jazz – Wrocławski Klub Formaty – 89/100/120 złhttps://fb.me/e/4cqJs2TmDvgtbl.pl – hyperpop\, internet-core – Klub Łącznik – 95\,9 złhttps://fb.me/e/3YtyAQnjv 16.03EYES\, Czerń\, MĘTY – post-hardcore\, metalcore\, sludge metal\, noise rock – Centrum Reanimacji Kultury – 64\,80/80 złhttps://fb.me/e/3eMibrVrn 18.03Confusion Project – jazz\, prog\, folk – Nietota – 50 złhttps://fb.me/e/4aVXFODEr 19.03Sophia Djebel Rose\, Sunwell – avant-folk\, dark folk – Uczulenie – 30 złhttps://fb.me/e/78PvcF2fCBAiKA – alternatywny rock – Nietota – 70/80 złhttps://fb.me/e/5BN0WEgmD 20.03Jo Quail\, Spoiwo\, Flower and Pines – post-rock\, elektronika\, minimalizm – Klub Łącznik – 69/80 złhttps://fb.me/e/8A5r7QktjPeter Hook & The Light grają Joy Division & New Order – post-punk\, gothic rock\, new wave – Zaklęte Rewiry – 200 zł https://fb.me/e/75B3J9kyMKury – alternatywa – Nietota https://fb.me/e/6EeNinYKZPidżama Porno – pop punk rock – Stary Klasztor: Sala Gotycka – 130/150 złhttps://fb.me/e/9wDu8VLhi 21.03Unsane\, [peru] – post-hardcore\, noise rock – Klub Muzyczny Liverpool – 93 złhttps://fb.me/e/3RxMEKJx2Tramhaus – post-punk\, post-hardcore – Klub Szalonych – 50 złhttps://fb.me/e/5NXpGI3VHBluszcz – synthpop – Centrum Kultury Agora – 79 złhttps://fb.me/e/7jBfBvOsuPrzebiśniegi – indie pop – Firlej – 80 złhttps://fb.me/e/1ZB3LuLAG8Weljar\, Itinera – folk\, world music – Klub Łącznik – 70/90 złhttps://fb.me/e/4cJX74lCgDVV\, Misscore\, Sarang – nu metal night – Alive – 25/30 złhttps://fb.me/e/47JdARlvT 22.03Szefner – alternatywa – Nietota – 52\,7 złhttps://fb.me/e/7qZRM4JV6Mikromusic – art pop – Impart Centrum – 110 złhttps://fb.me/e/5uOungsZpJaromir Nohavica – A2 Centrum Koncertowe – 150/200 złhttps://fb.me/e/4LyYhnmzY 25.03Skicki-Skiuk – jazz – Vertigo – 59-79 złhttps://fb.me/e/ab2Lp0Qpg 26.03Chaosu Nastał Czas: Frontside\, Hamulec\, Drown My Day\, The Cold Memories – metalcore\, deathcore\, thrash metal\, alternatywny metal – Centrum Kultury Agora – 95/100 złhttps://fb.me/e/78LRT2a8BBonson – rap – Transformator – 105 złhttps://fb.me/e/6ew9z3crq52 Dębiec – rap – Nietota – 94 złhttps://fb.me/e/6lJJjN9J9 27.03Low End Communion: Octotanker\, Smokes Of Krakatau\, Archreverend – stoner\, doom\, sludge – Klub Szalonych – 30/40 złhttps://fb.me/e/1UJyb8usIONowa data: RZWD – noise rock\, elektronika\, awangarda – Firlej – 30 złhttps://fb.me/e/jKiqxr1vgT.Love – pop rock\, alternatywa – Stary Klasztor: Sala Gotycka – 135/150/160 złhttps://fb.me/e/7RP1CEptQShellerini + DJ Soina – rap – Nietota – 82 złhttps://fb.me/e/1XgeL0hUX1Intruzi\, MSV\, The Four Naives – indie rock – Alive – wstęp wolnyhttps://fb.me/e/8RVH5VMYWIch Troje – A2 Centrum Koncertowe – SOLD OUThttps://fb.me/e/chyaFl55z 28.03God Is An Astronaut – post-rock – Zaklęte Rewiry – 139\,99 złhttps://fb.me/e/3U6Gbi8EPSHOEFEST: Kombajn do zbierania kur po wioskach\, zachwyt\, The Ferrules – shoegaze\, alternatywa\, psychodeliczny pop – Klub Łącznik – 69/89/100 zł (studenci 50/70)https://fb.me/e/6xQxC2dFiNorth Side District – alternatywa\, rap – Nietota – 64\,5 złhttps://fb.me/e/4cDtrWFHJHunter\, Lark\, Tupolev – metal alternatywny – A2 Centrum Koncertowe – 105/120 złhttps://fb.me/e/6jTOpsV6r71Tour by ONE UP: MŁODYKAMIL / JAVIER / KIDZLORI – rap – Transformator – 83\,71 złhttps://stage24.pl/…/mlodykamil-javier-kidzlori-klub… 29.03Death Has Spoken\, Obsidian Mantra\, Asteriae – doom metal\, death metal\, post-metal – Klub Muzyczny Liverpool – 50/60 złhttps://fb.me/e/4i6CHuk94The Ukrainians – folk-punk-rock – Stary Klasztor: Sala Gotycka – 99/120 złhttps://fb.me/e/6DAy2VHUG 31.03SUSPECT (DE)\, TRUE FRAUD (DE)\, NO LAUGHING MATTER (DE) – Centrum Reanimacji Kultury – info soon
URL:https://altmusic.wroclaw.pl/koncert/%f0%9f%8e%af-gig-patrol-rozklad-jazdy-na-marzec26-%f0%9f%8e%af/
LOCATION:Lista wydarzeń Wrocław\, Wrocław
END:VEVENT
BEGIN:VEVENT
DTSTART;VALUE=DATE:20260304
DTEND;VALUE=DATE:20260501
DTSTAMP:20260423T100340
CREATED:20260130T140844Z
LAST-MODIFIED:20260416T073248Z
UID:10416-1772582400-1777593599@altmusic.wroclaw.pl
SUMMARY:🎯 Robimy to z pasji\, ale nie chcemy dopłacać do serwera + playlisty YT 🎯
DESCRIPTION:Postaw nam proszę kawkę na: https://buycoffee.to/altmusic\, bo bez kawek ciężko się pracuje. \n*** \nOd 10.2022 prowadzimy non-profit subiektywny kalendarz koncertowy https://altmusic.wroclaw.pl Tak wspieramy lokalną scenę DIY koncertów. Wiemy\, że jesteśmy skuteczni\, ale czyhają na nas opłaty za serwery i domeny. Chcemy się rozwijać! Jeśli nie kawka to będziemy wdzięczni za szerzenie słowa o nas! Dzięki za wsparcie! \n*** \nJeśli jesteś artystą / zespołem znajdziesz u nas w zakładce Pogłoski [tak\, od słynnego warszawskiego klubu]: \n– listę bookerów zorientowanych na alt muzykę \n– listę klubów i miejsc koncertowych we Wro \n– listę klubów koncertowych w PL \n– listy festiwali [raczej tych mniejszych] \nDodatkowo dla turystów mamy zakładkę wspomagającą efektywniejsze i ciekawsze zwiedzanie Wrocławia. \nTroszkę na co dzień współpracujemy z osobami powiązanymi z muzyką alternatywną w Polsce i do tego jesteśmy otwarci na różne kontakty współprace w zakresie wspierania muzyki niezależnej. \nWysoka piątka dla naszych smacznych kawko-dawców: \nFilip K x3\nAgnieszka K x3\nKazik [Foto koncertowe FB] x3 \nMichal G x2\nKamil S x2\nSebastiaan [zespół Zdrój FB] x2\nRoman R x2\nRyszard S x2\nMaciek P x2\nTomasz [Sitartronic FB] x2\nJan F  [Shepherds of Cats FB] x2\nDominik G [zespół Dead & Delicious FB] x2\nAnonim 🙂 x2\nRadek S [zespół Archreverend FB] x2\nDawid K x2\nAndrey A x2\nPaweł W [zespół Extensa FB] x2\nPaweł P [Wrocławska Niezależna Scena Muzyczna FB] x2 \ntupas sa\nJeden Pr\nBogumił B\nPaweł Ch\nabc bcd\nPaweł Bre\nDobrze Żejesteś\nMrk Ngj\nRafon K\nSieniak\nMarcin O\nJulia G [https://womenofnoise.bandcamp.com/]\nPrzemek [zespół Dead & Delicious FB]\nMichał [Wrocławski Warsztat Muzyczny FB]\nKacper S\nRafał s\nMateusz W\nKrzsztof P\nAdrian\nHubert [Discomfort FB]\nBad Ritual [Bad Ritual FB]\nBoguś\nBasia M\nPaweł\nŁukasz B [Ubocze Rec. BC]\nP.D.S. PUnKTeon [Zrzutka na likwidację szkód po pożarze]\nAnia L\nRadek\nMirko S\nKinga K\nPK-\nTomasz K\nKrzysztof P\nMałgorzata P\nMarcin [Posłuchaj To Do Ciebie FB]\nJakub K\nJan K\nMichał [Gig Patrol Wrocław FB] \nDZIĘKUJEMY!!! \n  \nJaka jest ścieżka dźwiękowa wrocławskich koncertów?\nPoniżej playlista z pełnych najnowszych płyt dostępnych na YT dla subiektywnie wybranych wydarzeń. Polecamy tutaj lub lepiej otworzyć w aplikacji i przesłuchiwać w ulubionej formie tj. np całe płyty lub przełączać losowo utwory\, jak się jakiś spodoba to sprawdzić na altmusic kiedy i gdzie koncert. \nAltmusic.wroclaw.pl Kwiecień-Czerwiec 2026 – link: https://music.youtube.com/playlist?list=PLCXwMvqHNgt7mE87MxrcDAm9oIn1_e9ia&si=ozecVv9tUVvWA2cB \n \n  \nPlaylista koncertowa – Styczeń / Marzec 26 > Wrocław \nPlaylista na music.youtube > https://music.youtube.com/playlist?list=PLCXwMvqHNgt5RdqDG4DX9KWtzbe6iJbtN&si=1F6oDCZAZjeDQnA_ \nPlaylista na youtube > https://youtube.com/playlist?list=PLCXwMvqHNgt5RdqDG4DX9KWtzbe6iJbtN&si=Tbg_10-xao-uiSnL  \n 
URL:https://altmusic.wroclaw.pl/koncert/%f0%9f%92%a9%f0%9f%92%a9druga-miesiecznica-naszej-ostatniej-kawki%f0%9f%92%a9%f0%9f%92%a9/
CATEGORIES:wydarzenie
END:VEVENT
BEGIN:VEVENT
DTSTART;VALUE=DATE:20260326
DTEND;VALUE=DATE:20260327
DTSTAMP:20260423T100340
CREATED:20260311T150441Z
LAST-MODIFIED:20260311T150612Z
UID:10609-1774483200-1774569599@altmusic.wroclaw.pl
SUMMARY:KOVELSKIE PSY x KONDRATIE
DESCRIPTION:Czw\, 26 mar o 19:00 KOVELSKIE PSY x KONDRATIE @ UCZULENIE\, WROCŁAW Czuła jest noc \n \n\n\nKOVELSKIE PSY – elektropunk / darkwave duet\, założony w 2017 roku. Taneczna elektronika\, punk\, pop\, krzyk\, syntezatory oraz mroczne i agresywne sceniczne obrazy przy piosenkach o miłości i przyjemności. Na tym koncercie zespoł zaprezentują nowy album Užas Bessmertia\, utwory z kwasowym brzmieniem i cynicznymi tekstami\, które za plakatową formą ukrywają ból i zagubienie człowieka bez punktów orientacyjnych i typowych formuł przetrwania.\n\nhttps://band.link/kvldgs_uzhas\nhttps://www.instagram.com/kvldgs \nKONDRATIE [kɔ‌dʁa.ti] – solowy projekt w nurcie darkwave Kosty Ostrowskiego\, to zbiór widmowych i przerażających syntetycznych melodii\, niebezpiecznych mechanicznych rytmów i złowrogich wokalizacji\, które tworzą mętną\, surrealistyczną atmosferę\, jednocześnie dramatyczną i fascynującą\, przeplataną poetyckimi tekstami zagłębiającymi się w ponure odcienie wewnętrznych percepcji.\nkondratie.bandcamp.com\nhttps://linktr.ee/koostrowski \n26 MARCA // UCZULENIE (Kolejowa\, 😎 // 19:00\nWSTĘP: 40zł \n9
URL:https://altmusic.wroclaw.pl/koncert/kovelskie-psy-x-kondratie/
LOCATION:Czuła Jest Noc / Uczulenie\, Kolejowa 8\, Wrocław\, Poland
END:VEVENT
BEGIN:VEVENT
DTSTART;VALUE=DATE:20260326
DTEND;VALUE=DATE:20260327
DTSTAMP:20260423T100340
CREATED:20260313T134254Z
LAST-MODIFIED:20260313T134254Z
UID:10641-1774483200-1774569599@altmusic.wroclaw.pl
SUMMARY:NIGHT MUSIC THERAPY 4 / Pradziad
DESCRIPTION:Czw\, 26 mar o 19:00 NIGHT MUSIC THERAPY 4 Wydarzenie Sound Experince \n \nAfter a short break\, we’re pleased to return with Night Music Therapy\, our original series designed to help us pause in the present. In an era where being here and now is a growing challenge\, the world rushes forward at a frantic pace\, leaving us overstimulated and disconnected from the details that matter.\nWe mark our return with the presence of a local gem – Pradziad is a Wrocław-based quartet presenting music full of references to ethnic motifs\, as well as past and future jazz music. Dissonance and harmony in the band’s work do not clash\, but complement each other.\nPradziad was originally formed as a contemporary response to the classic sound of\nspiritual jazz\, using the dark atmosphere characteristic of Polish music of the\n1960s.\nPrepare for an evening of jazz-trance fusion\, curated to carry us through the night.\nThis will also be the last opportunity to experience Zieta Studio’s installations in our showroom. This exhibition\, offering a unique experience\, both visually and acoustically\, will immerse us in a world more conducive to reflection.\nA limited number of tickets are available in the bio link or at the gate.\nLet’s listen together.\nPradziad:\nFilip Baczyński drums\nAdam Chomiuk bass\nAdam Bobrowicz trumpet\nMaciej Forreiter guitar\nand Michał Macewicz \nEvent organized by Sound Experience and the OKiS Culture and Art Center in Wrocław. The project is co-financed by the Lower Silesian Voivodeship Government.
URL:https://altmusic.wroclaw.pl/koncert/night-music-therapy-4-pradziad/
LOCATION:Sound Experience\, Tęczowa 13\, Wrocław\, Poland
END:VEVENT
BEGIN:VEVENT
DTSTART;VALUE=DATE:20260326
DTEND;VALUE=DATE:20260327
DTSTAMP:20260423T100340
CREATED:20260318T115015Z
LAST-MODIFIED:20260318T115015Z
UID:10670-1774483200-1774569599@altmusic.wroclaw.pl
SUMMARY:AEROPLAN #128 // Mikołaj Nowicki i Mar Sala Romagosa
DESCRIPTION:AEROPLAN to seria występów eksperymentalnych i improwizowanych organizowanych w Macondo.​\nNa kolejnym Aeroplanie wystąpią:\nMikołaj Nowicki i Mar Sala Romagosa\n/ wstęp 35 zł
URL:https://altmusic.wroclaw.pl/koncert/aeroplan-128-mikolaj-nowicki-i-mar-sala-romagosa/
LOCATION:Macondo\, Pomorska 19\, Wrocław\, Poland
END:VEVENT
BEGIN:VEVENT
DTSTART;VALUE=DATE:20260326
DTEND;VALUE=DATE:20260327
DTSTAMP:20260423T100340
CREATED:20260320T103731Z
LAST-MODIFIED:20260320T103731Z
UID:10697-1774483200-1774569599@altmusic.wroclaw.pl
SUMMARY:riot but cute. x eli's ladder x rabbit hole
DESCRIPTION:Czw\, 26 mar o 19:00 riot but cute. x eli’s ladder x rabbit hole live /  Alive · Wrocław \n \n  \n \n  \n \n  \nPunk/Emo/Shoegaze-Night @ Alive Wrocław
URL:https://altmusic.wroclaw.pl/koncert/riot-but-cute-x-elis-ladder-x-rabbit-hole/
LOCATION:Alive\, Kolejowa 12\, Wrocław\, Poland
END:VEVENT
BEGIN:VEVENT
DTSTART;VALUE=DATE:20260326
DTEND;VALUE=DATE:20260328
DTSTAMP:20260423T100340
CREATED:20260324T144302Z
LAST-MODIFIED:20260324T144316Z
UID:10754-1774483200-1774655999@altmusic.wroclaw.pl
SUMMARY:Koncert-performans Reijiro Tsumury i grupy WAON z udziałem Anny Fende [2dni]
DESCRIPTION:🌸 Dzieje się! Zapraszamy na wydarzenie „Tam\, gdzie spotykają się duchy: japońska tradycja i polski rezonans” – wielogatunkowy spektakl teatru nō Reijiro Tsumury i grupy Waon. Wydarzenie inauguracyjne Festiwal Sakura. V Wrocławskie Dni japońskich inspiracji. \nData: 26.03.2026\, godz. 19.00\n27.03.2026\, godz. 19.00 \n⛩️ Miejsce: Muzeum Sztuki Mieszczańskiej – Stary Ratusz\, Sala Wielka (Rynek 1)\n⛩️ Czas trwania: ok. 135 minut (w tym 15-minutowa przerwa\, program wydarzenia niżej)\n⛩️ Bilety: 50/40/30 PLN: https://grotowski-institute.pl/wyd…/spotykaja-sie-duchy-2/\nPodczas tego wydarzenia zostaną zaprezentowane klasyczne i uwspółcześnione formy teatru nō oraz brzmienia tradycyjnych instrumentów japońskich i wiolonczeli polskiej artystki\, które będą prowadzić opowieść o pamięci\, obecności\, dialogu kultur i międzynarodowym porozumieniu.\nPierwsza część spektkalu obejmuje pokazy taneczne – prezentacje skróconej formy tańca nō\, zwanej shimai\, i rytualnego tańca Oni\, a także wykonanie utworów na koto: XVII-wiecznego dzieła „Rokudan no Shirabe” oraz kompozycji współczesnej „Shinsen-chō”. Ponadto usłyszymy reinterpretację słynnego japońskiego arcydzieła „Haru no Umi”\, rozpisaną na koto i wiolonczelę.\nW drugiej części wydarzenia zobaczymy współczesną pracę sceniczną według koncepcji i w reżyserii Makito Shibuyi pt. „At the Open Gate – A Story of People\, Land\, and Memory”. Przedstawienie czerpie z estetyki teatru nō (za nadzór nad śpiewem i ruchem odpowiada wybitny aktor teatru nō Reijiro Tsumura)\, jednak Makito Shibuyi nie traktuje tradycji jako formy zamkniętej – przeciwnie: ukazuje ją jako żywą praktykę zdolną do przemiany. To opowieść rozgrywająca się w mieście portowym Tsuruga\, nad Morzem Japońskim i osadzona w okresie po Wielkim Trzęsieniu Ziemi Hanshin–Awaji w 1995 roku. Jest poświęcona refleksji nad sposobem\, w jaki pamięć i historia kształtują teraźniejszość. Polskim akcentem pojawiającym się w przedstawieniu jest – wciąż bardziej znana w Japonii niż w Polsce – postać Bronisława Piłsudskiego\, działacza niepodległościowego i etnografa\, uobecniona za pomocą struktury mugen nō – wizji sennej\, w której duchy za pośrednictwem tańca i śpiewu opowiadają swoją przeszłość. Piłsudski jawi się tutaj nie tyle jako postać historyczna\, lecz raczej głos przekraczający swój czas – głos stawiający współczesności wciąż aktualne pytania.\nSpektakl wielogatunkowy Reijiro Tsumury i grupy WAON odbywa się w ramach międzynarodowej trasy pod nazwą: „Japoński duch i zachodnia ekspresja: wspólna podróż przez Europę Środkową”.\n✨ Program wydarzenia:\nCzęść I (ok. 60 min)\nTaniec nō – shimai\nWykonanie Mitsuru Nagashima\, Shintaro Ban\nOni Mai – taniec Oni\nWykonanie Reijiro Tsumura (taniec)\, Masayuki Sakamoto (taiko)\nSolo na koto\nKengyō Yatsuhashi (1614–1685) „Rokudan no Shirabe”\nWykonanie Utakuni Yamamoto (koto)\nShinichi Yuize (1923–2015) „Shinsen-chou”\nWykonanie Utakuni Yamamoto (koto) \nKoto & wiolonczela\nMichio Miyagi (1894–1956) „Haru no Umi”\nWykonanie Utakuni Yamamoto (koto)\, Anna Fender (wiolonczela)\nPrzerwa (ok. 15 min)\nCzęść II (ok. 60 min)\n„At the Open Gate – A Story of People\, Land\, and Memory”\nKoncepcja i reżyseria Makito Shibuya\nNadzór nad śpiewem i ruchem Reijiro Tsumura\nWykonanie Reijiro Tsumura (Stary Człowiek w Obcej Ziemi)\, Mitsuru Nagashima (Człowiek z Portu)\, Shintaro Ban (Podróżnik)\, Utakuni Yamamoto (koto)\, Masayuki Sakamoto (taiko & mukkuri)\, Anna Fender (wiolonczela)\n…………..\nFestiwal objęty jest Patronatem Honorowym Ambasady Japonii w Polsce oraz Patronatem Honorowym Prezydenta Wrocławia\nOrganizatorzy: Fundacja Zarzewie oraz Studio Kokyu\nWspółorganizatorem wydarzeń nurtu głównego jest Instytut im. Jerzego Grotowskiego\nPartnerzy: Kino Nowe Horyzonty\, Akademia Sztuk Pięknych im. Eugeniusza Gepperta we Wrocławiu\, Otwarte Pracownie Plastyczne im. Eugeniusza Gepperta\, Muzeum Narodowe we Wrocławiu\, Muzeum Miejskie Wrocławia\, Muzeum Architektury we Wrocławiu\, Miejska biblioteka Publiczna im. Tadeusza Różewicza we Wrocławiu\, Przedsiębiorczy Wrocław 2030
URL:https://altmusic.wroclaw.pl/koncert/koncert-performans-reijiro-tsumury-i-grupy-waon-z-udzialem-anny-fende/
LOCATION:Lokalizacja nietypowa WROCŁAW
END:VEVENT
END:VCALENDAR